View In:
ArcGIS JavaScript
ArcGIS Online Map Viewer
ArcGIS Earth
Service Description: Hosted/HTI_Drone_FortNational
Name: Hosted/HTI_Drone_FortNational
Description:
Single Fused Map Cache: true
Tile Info:
- Height: 256
- Width: 256
- DPI: 96
-
Levels of Detail: 5
-
Level ID: 0
[ Start Tile, End Tile ]
- Resolution: 8.058083389393131
- Scale: 30455.687331879126
-
Level ID: 1
[ Start Tile, End Tile ]
- Resolution: 4.0290416946965655
- Scale: 15227.843665939563
-
Level ID: 2
[ Start Tile, End Tile ]
- Resolution: 2.0145208473482827
- Scale: 7613.9218329697815
-
Level ID: 3
[ Start Tile, End Tile ]
- Resolution: 1.0072604236741414
- Scale: 3806.9609164848907
-
Level ID: 4
[ Start Tile, End Tile ]
- Resolution: 0.5036302118370707
- Scale: 1903.4804582424454
- Format: LERC2D
- Compression Quality: 100000.0
- LERC Error: 0.1
- Origin: X: -8052410.131680521
Y: 2101683.5343313776
- Spatial Reference: 102100
(3857)
LatestVCSWkid(0)
Storage Info:
- Storage Format: esriMapCacheStorageModeCompactV2
- Packet Size: 16
Extent:
XMin: -8052410.131680521
YMin: 2099767.7250055494
XMax: -8049900.038704725
YMax: 2101683.5343313776
Spatial Reference: 102100
(3857)
LatestVCSWkid(0)
Initial Extent:
XMin: -8052410.131680521
YMin: 2099767.7250055494
XMax: -8049900.038704725
YMax: 2101683.5343313776
Spatial Reference: 102100
(3857)
LatestVCSWkid(0)
Full Extent:
XMin: -8052410.131680521
YMin: 2099767.7250055494
XMax: -8049900.038704725
YMax: 2101683.5343313776
Spatial Reference: 102100
(3857)
LatestVCSWkid(0)
Pixel Size X: 0.5036302118371189
Pixel Size Y: 0.5036302118370707
Band Count: 4
Pixel Type: U8
RasterFunction Infos: {"rasterFunctionInfos": [{
"name": "None",
"description": "",
"help": ""
}]}
Mensuration Capabilities: Basic
Inspection Capabilities:
Has Histograms: true
Has Colormap: false
Has Multi Dimensions : false
Rendering Rule:
Min Scale: 0
Max Scale: 0
Copyright Text:
Service Data Type: esriImageServiceDataTypeGeneric
Min Values: 1, 1, 2, 255
Max Values: 255, 255, 255, 255
Mean Values: 109.94534894677076, 112.8990435363463, 107.02603299175475, 255
Standard Deviation Values: 52.377491868705306, 48.12039851248312, 49.74660278525242, 0
Object ID Field:
Fields:
None
Default Mosaic Method: Center
Allowed Mosaic Methods:
SortField:
SortValue: null
Mosaic Operator: First
Default Compression Quality: 75
Default Resampling Method: Bilinear
Max Record Count: null
Max Image Height: 4100
Max Image Width: 15000
Max Download Image Count: null
Max Mosaic Image Count: null
Allow Raster Function: true
Allow Copy: true
Allow Analysis: true
Allow Compute TiePoints: false
Supports Statistics: false
Supports Advanced Queries: false
Use StandardizedQueries: true
Raster Type Infos:
Name: Raster Dataset
Description: Supports all ArcGIS Raster Datasets
Help:
Has Raster Attribute Table: false
Edit Fields Info: null
Ownership Based AccessControl For Rasters: null
Child Resources:
Info
Histograms
Statistics
Key Properties
Legend
Raster Function Infos
Supported Operations:
Export Image
Identify
Compute Histograms
Compute Statistics Histograms
Get Samples
Compute Class Statistics
Query Boundary
Compute Pixel Location
Compute Angles
Validate
Project