View In:
ArcGIS JavaScript
ArcGIS Online Map Viewer
ArcGIS Earth
Service Description: Imagery/dom_mosaic_aligned_drone_ortho_Nov2022_ps10cm_tif
Name: Imagery/dom_mosaic_aligned_drone_ortho_Nov2022_ps10cm_tif
Description:
Single Fused Map Cache: false
Extent:
XMin: 457844.9013538636
YMin: 2106430.695948231
XMax: 460835.8013538636
YMax: 2108432.995948231
Spatial Reference: 26919
(26919)
LatestVCSWkid(0)
Initial Extent:
XMin: 457844.9013538636
YMin: 2106430.695948231
XMax: 460835.8013538636
YMax: 2108432.995948231
Spatial Reference: 26919
(26919)
LatestVCSWkid(0)
Full Extent:
XMin: 457844.9013538636
YMin: 2106430.695948231
XMax: 460835.8013538636
YMax: 2108432.995948231
Spatial Reference: 26919
(26919)
LatestVCSWkid(0)
Pixel Size X: 0.10000000000000078
Pixel Size Y: 0.0999999999999907
Band Count: 3
Pixel Type: U8
RasterFunction Infos: {"rasterFunctionInfos": [{
"name": "None",
"description": "",
"help": ""
}]}
Mensuration Capabilities: Basic
Inspection Capabilities:
Has Histograms: true
Has Colormap: false
Has Multi Dimensions : false
Rendering Rule:
Min Scale: 0
Max Scale: 0
Copyright Text:
Service Data Type: esriImageServiceDataTypeRGB
Min Values: 1, 1, 1
Max Values: 255, 255, 255
Mean Values: 131.41324103459, 138.22205565021, 123.35642995606
Standard Deviation Values: 61.352962492214, 53.385848875791, 64.679912821654
Object ID Field:
Fields:
None
Default Mosaic Method: Center
Allowed Mosaic Methods:
SortField:
SortValue: null
Mosaic Operator: First
Default Compression Quality: 75
Default Resampling Method: Bilinear
Max Record Count: null
Max Image Height: 4100
Max Image Width: 15000
Max Download Image Count: null
Max Mosaic Image Count: null
Allow Raster Function: true
Allow Copy: true
Allow Analysis: true
Allow Compute TiePoints: false
Supports Statistics: false
Supports Advanced Queries: false
Use StandardizedQueries: true
Raster Type Infos:
Name: Raster Dataset
Description: Supports all ArcGIS Raster Datasets
Help:
Has Raster Attribute Table: false
Edit Fields Info: null
Ownership Based AccessControl For Rasters: null
Child Resources:
Info
Histograms
Statistics
Key Properties
Legend
Raster Function Infos
Supported Operations:
Export Image
Identify
Measure
Compute Histograms
Compute Statistics Histograms
Get Samples
Compute Class Statistics
Query Boundary
Compute Pixel Location
Compute Angles
Validate
Project