View In:
ArcGIS JavaScript
ArcGIS Online Map Viewer
ArcGIS Earth
Service Description: Hosted/20020828_CMR_0m64_QB02_Kolofata
Name: Hosted/20020828_CMR_0m64_QB02_Kolofata
Description:
Single Fused Map Cache: true
Tile Info:
- Height: 256
- Width: 256
- DPI: 96
-
Levels of Detail: 7
-
Level ID: 0
[ Start Tile, End Tile ]
- Resolution: 38.47201601845458
- Scale: 145405.75398206947
-
Level ID: 1
[ Start Tile, End Tile ]
- Resolution: 19.23600800922729
- Scale: 72702.87699103473
-
Level ID: 2
[ Start Tile, End Tile ]
- Resolution: 9.618004004613645
- Scale: 36351.43849551737
-
Level ID: 3
[ Start Tile, End Tile ]
- Resolution: 4.809002002306823
- Scale: 18175.719247758683
-
Level ID: 4
[ Start Tile, End Tile ]
- Resolution: 2.4045010011534114
- Scale: 9087.859623879342
-
Level ID: 5
[ Start Tile, End Tile ]
- Resolution: 1.2022505005767057
- Scale: 4543.929811939671
-
Level ID: 6
[ Start Tile, End Tile ]
- Resolution: 0.6011252502883528
- Scale: 2271.9649059698354
- Format: LERC2D
- Compression Quality: 100000.0
- LERC Error: 0.1
- Origin: X: 1547735.2157000005
Y: 1253768.0756000017
- Spatial Reference: 102100
(3857)
LatestVCSWkid(0)
Storage Info:
- Storage Format: esriMapCacheStorageModeCompactV2
- Packet Size: 16
Extent:
XMin: 1547735.2157000005
YMin: 1246773.9833128967
XMax: 1563022.4319400836
YMax: 1253768.0756000017
Spatial Reference: 102100
(3857)
LatestVCSWkid(0)
Initial Extent:
XMin: 1547735.2157000005
YMin: 1246773.9833128967
XMax: 1563022.4319400836
YMax: 1253768.0756000017
Spatial Reference: 102100
(3857)
LatestVCSWkid(0)
Full Extent:
XMin: 1547735.2157000005
YMin: 1246773.9833128967
XMax: 1563022.4319400836
YMax: 1253768.0756000017
Spatial Reference: 102100
(3857)
LatestVCSWkid(0)
Pixel Size X: 0.6011252502883528
Pixel Size Y: 0.6011252502883577
Band Count: 3
Pixel Type: U8
RasterFunction Infos: {"rasterFunctionInfos": [{
"name": "None",
"description": "",
"help": ""
}]}
Mensuration Capabilities: Basic
Inspection Capabilities:
Has Histograms: true
Has Colormap: false
Has Multi Dimensions : false
Rendering Rule:
Min Scale: 0
Max Scale: 0
Copyright Text:
Service Data Type: esriImageServiceDataTypeRGB
Min Values: 1, 1, 1
Max Values: 255, 255, 255
Mean Values: 126.44292132387099, 127.22145505680614, 106.58589329330638
Standard Deviation Values: 34.9387515194154, 23.564833565638324, 21.371532527134534
Object ID Field:
Fields:
None
Default Mosaic Method: Center
Allowed Mosaic Methods:
SortField:
SortValue: null
Mosaic Operator: First
Default Compression Quality: 75
Default Resampling Method: Bilinear
Max Record Count: null
Max Image Height: 4100
Max Image Width: 15000
Max Download Image Count: null
Max Mosaic Image Count: null
Allow Raster Function: true
Allow Copy: true
Allow Analysis: true
Allow Compute TiePoints: false
Supports Statistics: false
Supports Advanced Queries: false
Use StandardizedQueries: true
Raster Type Infos:
Name: Raster Dataset
Description: Supports all ArcGIS Raster Datasets
Help:
Has Raster Attribute Table: false
Edit Fields Info: null
Ownership Based AccessControl For Rasters: null
Child Resources:
Info
Histograms
Statistics
Key Properties
Legend
Raster Function Infos
Supported Operations:
Export Image
Identify
Compute Histograms
Compute Statistics Histograms
Get Samples
Compute Class Statistics
Query Boundary
Compute Pixel Location
Compute Angles
Validate
Project