View In:
ArcGIS JavaScript
ArcGIS Online Map Viewer
ArcGIS Earth
Service Description: Hosted/20030119_CMR_0m64_QB02_Moskota
Name: Hosted/20030119_CMR_0m64_QB02_Moskota
Description:
Single Fused Map Cache: true
Tile Info:
- Height: 256
- Width: 256
- DPI: 96
-
Levels of Detail: 6
-
Level ID: 0
[ Start Tile, End Tile ]
- Resolution: 19.413419532872506
- Scale: 73373.40739288229
-
Level ID: 1
[ Start Tile, End Tile ]
- Resolution: 9.706709766436253
- Scale: 36686.703696441145
-
Level ID: 2
[ Start Tile, End Tile ]
- Resolution: 4.853354883218127
- Scale: 18343.351848220573
-
Level ID: 3
[ Start Tile, End Tile ]
- Resolution: 2.4266774416090633
- Scale: 9171.675924110286
-
Level ID: 4
[ Start Tile, End Tile ]
- Resolution: 1.2133387208045316
- Scale: 4585.837962055143
-
Level ID: 5
[ Start Tile, End Tile ]
- Resolution: 0.6066693604022658
- Scale: 2292.9189810275716
- Format: LERC2D
- Compression Quality: 100000.0
- LERC Error: 0.1
- Origin: X: 1539680.738434342
Y: 1227740.8208069743
- Spatial Reference: 102100
(3857)
LatestVCSWkid(0)
Storage Info:
- Storage Format: esriMapCacheStorageModeCompactV2
- Packet Size: 16
Extent:
XMin: 1539680.738434342
YMin: 1224243.9786136157
XMax: 1547324.1657060501
YMax: 1227740.8208069743
Spatial Reference: 102100
(3857)
LatestVCSWkid(0)
Initial Extent:
XMin: 1539680.738434342
YMin: 1224243.9786136157
XMax: 1547324.1657060501
YMax: 1227740.8208069743
Spatial Reference: 102100
(3857)
LatestVCSWkid(0)
Full Extent:
XMin: 1539680.738434342
YMin: 1224243.9786136157
XMax: 1547324.1657060501
YMax: 1227740.8208069743
Spatial Reference: 102100
(3857)
LatestVCSWkid(0)
Pixel Size X: 0.6066693604022658
Pixel Size Y: 0.6066693604022515
Band Count: 3
Pixel Type: U8
RasterFunction Infos: {"rasterFunctionInfos": [{
"name": "None",
"description": "",
"help": ""
}]}
Mensuration Capabilities: Basic
Inspection Capabilities:
Has Histograms: true
Has Colormap: false
Has Multi Dimensions : false
Rendering Rule:
Min Scale: 0
Max Scale: 0
Copyright Text:
Service Data Type: esriImageServiceDataTypeRGB
Min Values: 1, 1, 1
Max Values: 255, 255, 255
Mean Values: 142.12664016051878, 135.65982116983932, 131.95623277108137
Standard Deviation Values: 20.01425069295634, 18.69114719498737, 18.76501160579258
Object ID Field:
Fields:
None
Default Mosaic Method: Center
Allowed Mosaic Methods:
SortField:
SortValue: null
Mosaic Operator: First
Default Compression Quality: 75
Default Resampling Method: Bilinear
Max Record Count: null
Max Image Height: 4100
Max Image Width: 15000
Max Download Image Count: null
Max Mosaic Image Count: null
Allow Raster Function: true
Allow Copy: true
Allow Analysis: true
Allow Compute TiePoints: false
Supports Statistics: false
Supports Advanced Queries: false
Use StandardizedQueries: true
Raster Type Infos:
Name: Raster Dataset
Description: Supports all ArcGIS Raster Datasets
Help:
Has Raster Attribute Table: false
Edit Fields Info: null
Ownership Based AccessControl For Rasters: null
Child Resources:
Info
Histograms
Statistics
Key Properties
Legend
Raster Function Infos
Supported Operations:
Export Image
Identify
Compute Histograms
Compute Statistics Histograms
Get Samples
Compute Class Statistics
Query Boundary
Compute Pixel Location
Compute Angles
Validate
Project