View In:
ArcGIS JavaScript
ArcGIS Online Map Viewer
ArcGIS Earth
Service Description: Hosted/20050609_NER_0m62_QB02_GarinDogo_Clip
Name: Hosted/20050609_NER_0m62_QB02_GarinDogo_Clip
Description:
Single Fused Map Cache: true
Tile Info:
- Height: 256
- Width: 256
- DPI: 96
-
Levels of Detail: 5
-
Level ID: 0
[ Start Tile, End Tile ]
- Resolution: 9.752677579843402
- Scale: 36860.439966569735
-
Level ID: 1
[ Start Tile, End Tile ]
- Resolution: 4.876338789921701
- Scale: 18430.219983284867
-
Level ID: 2
[ Start Tile, End Tile ]
- Resolution: 2.4381693949608505
- Scale: 9215.109991642434
-
Level ID: 3
[ Start Tile, End Tile ]
- Resolution: 1.2190846974804253
- Scale: 4607.554995821217
-
Level ID: 4
[ Start Tile, End Tile ]
- Resolution: 0.6095423487402126
- Scale: 2303.7774979106084
- Format: LERC2D
- Compression Quality: 100000.0
- LERC Error: 0.1
- Origin: X: 1423302.8899794219
Y: 1512074.936093882
- Spatial Reference: 102100
(3857)
LatestVCSWkid(0)
Storage Info:
- Storage Format: esriMapCacheStorageModeCompactV2
- Packet Size: 16
Extent:
XMin: 1423302.8899794219
YMin: 1510326.1590953462
XMax: 1426921.1333615438
YMax: 1512074.936093882
Spatial Reference: 102100
(3857)
LatestVCSWkid(0)
Initial Extent:
XMin: 1423302.8899794219
YMin: 1510326.1590953462
XMax: 1426921.1333615438
YMax: 1512074.936093882
Spatial Reference: 102100
(3857)
LatestVCSWkid(0)
Full Extent:
XMin: 1423302.8899794219
YMin: 1510326.1590953462
XMax: 1426921.1333615438
YMax: 1512074.936093882
Spatial Reference: 102100
(3857)
LatestVCSWkid(0)
Pixel Size X: 0.6095423487402126
Pixel Size Y: 0.6095423487402335
Band Count: 3
Pixel Type: U8
RasterFunction Infos: {"rasterFunctionInfos": [{
"name": "None",
"description": "",
"help": ""
}]}
Mensuration Capabilities: Basic
Inspection Capabilities:
Has Histograms: true
Has Colormap: false
Has Multi Dimensions : false
Rendering Rule:
Min Scale: 0
Max Scale: 0
Copyright Text:
Service Data Type: esriImageServiceDataTypeRGB
Min Values: 1, 1, 1
Max Values: 255, 255, 255
Mean Values: 214.91819481784734, 205.46300118178556, 201.28169209068358
Standard Deviation Values: 22.56192810707987, 22.86329305235611, 22.142806332777138
Object ID Field:
Fields:
None
Default Mosaic Method: Center
Allowed Mosaic Methods:
SortField:
SortValue: null
Mosaic Operator: First
Default Compression Quality: 75
Default Resampling Method: Bilinear
Max Record Count: null
Max Image Height: 4100
Max Image Width: 15000
Max Download Image Count: null
Max Mosaic Image Count: null
Allow Raster Function: true
Allow Copy: true
Allow Analysis: true
Allow Compute TiePoints: false
Supports Statistics: false
Supports Advanced Queries: false
Use StandardizedQueries: true
Raster Type Infos:
Name: Raster Dataset
Description: Supports all ArcGIS Raster Datasets
Help:
Has Raster Attribute Table: false
Edit Fields Info: null
Ownership Based AccessControl For Rasters: null
Child Resources:
Info
Histograms
Statistics
Key Properties
Legend
Raster Function Infos
Supported Operations:
Export Image
Identify
Compute Histograms
Compute Statistics Histograms
Get Samples
Compute Class Statistics
Query Boundary
Compute Pixel Location
Compute Angles
Validate
Project