View In:
ArcGIS JavaScript
ArcGIS Online Map Viewer
ArcGIS Earth
Service Description: Hosted/20080128_MLI_0m62_QB02_PignariBana_Clip
Name: Hosted/20080128_MLI_0m62_QB02_PignariBana_Clip
Description:
Single Fused Map Cache: true
Tile Info:
- Height: 256
- Width: 256
- DPI: 96
-
Levels of Detail: 6
-
Level ID: 0
[ Start Tile, End Tile ]
- Resolution: 19.54963911218611
- Scale: 73888.25201728965
-
Level ID: 1
[ Start Tile, End Tile ]
- Resolution: 9.774819556093055
- Scale: 36944.126008644824
-
Level ID: 2
[ Start Tile, End Tile ]
- Resolution: 4.8874097780465275
- Scale: 18472.063004322412
-
Level ID: 3
[ Start Tile, End Tile ]
- Resolution: 2.4437048890232638
- Scale: 9236.031502161206
-
Level ID: 4
[ Start Tile, End Tile ]
- Resolution: 1.2218524445116319
- Scale: 4618.015751080603
-
Level ID: 5
[ Start Tile, End Tile ]
- Resolution: 0.6109262222558159
- Scale: 2309.0078755403015
- Format: LERC2D
- Compression Quality: 100000.0
- LERC Error: 0.1
- Origin: X: -443292.00119344424
Y: 1632757.275391138
- Spatial Reference: 102100
(3857)
LatestVCSWkid(0)
Storage Info:
- Storage Format: esriMapCacheStorageModeCompactV2
- Packet Size: 16
Extent:
XMin: -443292.00119344424
YMin: 1629259.7227687233
XMax: -435648.0923005795
YMax: 1632757.275391138
Spatial Reference: 102100
(3857)
LatestVCSWkid(0)
Initial Extent:
XMin: -443292.00119344424
YMin: 1629259.7227687233
XMax: -435648.0923005795
YMax: 1632757.275391138
Spatial Reference: 102100
(3857)
LatestVCSWkid(0)
Full Extent:
XMin: -443292.00119344424
YMin: 1629259.7227687233
XMax: -435648.0923005795
YMax: 1632757.275391138
Spatial Reference: 102100
(3857)
LatestVCSWkid(0)
Pixel Size X: 0.6109262222558159
Pixel Size Y: 0.6109262222558357
Band Count: 3
Pixel Type: U8
RasterFunction Infos: {"rasterFunctionInfos": [{
"name": "None",
"description": "",
"help": ""
}]}
Mensuration Capabilities: Basic
Inspection Capabilities:
Has Histograms: true
Has Colormap: false
Has Multi Dimensions : false
Rendering Rule:
Min Scale: 0
Max Scale: 0
Copyright Text:
Service Data Type: esriImageServiceDataTypeRGB
Min Values: 1, 1, 1
Max Values: 255, 255, 249
Mean Values: 179.81837732719853, 152.3966597795369, 113.98992910910331
Standard Deviation Values: 43.02105991964748, 31.327291727585997, 23.243275673077942
Object ID Field:
Fields:
None
Default Mosaic Method: Center
Allowed Mosaic Methods:
SortField:
SortValue: null
Mosaic Operator: First
Default Compression Quality: 75
Default Resampling Method: Bilinear
Max Record Count: null
Max Image Height: 4100
Max Image Width: 15000
Max Download Image Count: null
Max Mosaic Image Count: null
Allow Raster Function: true
Allow Copy: true
Allow Analysis: true
Allow Compute TiePoints: false
Supports Statistics: false
Supports Advanced Queries: false
Use StandardizedQueries: true
Raster Type Infos:
Name: Raster Dataset
Description: Supports all ArcGIS Raster Datasets
Help:
Has Raster Attribute Table: false
Edit Fields Info: null
Ownership Based AccessControl For Rasters: null
Child Resources:
Info
Histograms
Statistics
Key Properties
Legend
Raster Function Infos
Supported Operations:
Export Image
Identify
Compute Histograms
Compute Statistics Histograms
Get Samples
Compute Class Statistics
Query Boundary
Compute Pixel Location
Compute Angles
Validate
Project