View In:
ArcGIS JavaScript
ArcGIS Online Map Viewer
ArcGIS Earth
Service Description: Hosted/20080316_NGA_0m63_QB02_Damasak_Clip
Name: Hosted/20080316_NGA_0m63_QB02_Damasak_Clip
Description:
Single Fused Map Cache: true
Tile Info:
- Height: 256
- Width: 256
- DPI: 96
-
Levels of Detail: 7
-
Level ID: 0
[ Start Tile, End Tile ]
- Resolution: 38.472016018453616
- Scale: 145405.7539820658
-
Level ID: 1
[ Start Tile, End Tile ]
- Resolution: 19.236008009226808
- Scale: 72702.8769910329
-
Level ID: 2
[ Start Tile, End Tile ]
- Resolution: 9.618004004613404
- Scale: 36351.43849551645
-
Level ID: 3
[ Start Tile, End Tile ]
- Resolution: 4.809002002306702
- Scale: 18175.719247758225
-
Level ID: 4
[ Start Tile, End Tile ]
- Resolution: 2.404501001153351
- Scale: 9087.859623879112
-
Level ID: 5
[ Start Tile, End Tile ]
- Resolution: 1.2022505005766755
- Scale: 4543.929811939556
-
Level ID: 6
[ Start Tile, End Tile ]
- Resolution: 0.6011252502883377
- Scale: 2271.964905969778
- Format: LERC2D
- Compression Quality: 100000.0
- LERC Error: 0.1
- Origin: X: 1385325.6000000015
Y: 1474766.462700002
- Spatial Reference: 102100
(3857)
LatestVCSWkid(0)
Storage Info:
- Storage Format: esriMapCacheStorageModeCompactV2
- Packet Size: 16
Extent:
XMin: 1385325.6000000015
YMin: 1467772.370412897
XMax: 1399055.300716587
YMax: 1474766.462700002
Spatial Reference: 102100
(3857)
LatestVCSWkid(0)
Initial Extent:
XMin: 1385325.6000000015
YMin: 1467772.370412897
XMax: 1399055.300716587
YMax: 1474766.462700002
Spatial Reference: 102100
(3857)
LatestVCSWkid(0)
Full Extent:
XMin: 1385325.6000000015
YMin: 1467772.370412897
XMax: 1399055.300716587
YMax: 1474766.462700002
Spatial Reference: 102100
(3857)
LatestVCSWkid(0)
Pixel Size X: 0.6011252502883371
Pixel Size Y: 0.6011252502883377
Band Count: 3
Pixel Type: U8
RasterFunction Infos: {"rasterFunctionInfos": [{
"name": "None",
"description": "",
"help": ""
}]}
Mensuration Capabilities: Basic
Inspection Capabilities:
Has Histograms: true
Has Colormap: false
Has Multi Dimensions : false
Rendering Rule:
Min Scale: 0
Max Scale: 0
Copyright Text:
Service Data Type: esriImageServiceDataTypeRGB
Min Values: 1, 1, 1
Max Values: 255, 255, 255
Mean Values: 161.33189135509178, 154.94053582409634, 140.22157510684357
Standard Deviation Values: 34.54504252901287, 32.07816153663886, 30.320254519342893
Object ID Field:
Fields:
None
Default Mosaic Method: Center
Allowed Mosaic Methods:
SortField:
SortValue: null
Mosaic Operator: First
Default Compression Quality: 75
Default Resampling Method: Bilinear
Max Record Count: null
Max Image Height: 4100
Max Image Width: 15000
Max Download Image Count: null
Max Mosaic Image Count: null
Allow Raster Function: true
Allow Copy: true
Allow Analysis: true
Allow Compute TiePoints: false
Supports Statistics: false
Supports Advanced Queries: false
Use StandardizedQueries: true
Raster Type Infos:
Name: Raster Dataset
Description: Supports all ArcGIS Raster Datasets
Help:
Has Raster Attribute Table: false
Edit Fields Info: null
Ownership Based AccessControl For Rasters: null
Child Resources:
Info
Histograms
Statistics
Key Properties
Legend
Raster Function Infos
Supported Operations:
Export Image
Identify
Compute Histograms
Compute Statistics Histograms
Get Samples
Compute Class Statistics
Query Boundary
Compute Pixel Location
Compute Angles
Validate
Project