View In:
ArcGIS JavaScript
ArcGIS Online Map Viewer
ArcGIS Earth
Service Description: Hosted/20091027_NER_0m43_GE01_Ngagam_Clip
Name: Hosted/20091027_NER_0m43_GE01_Ngagam_Clip
Description:
Single Fused Map Cache: true
Tile Info:
- Height: 256
- Width: 256
- DPI: 96
-
Levels of Detail: 7
-
Level ID: 0
[ Start Tile, End Tile ]
- Resolution: 31.41563200259265
- Scale: 118736.00946643896
-
Level ID: 1
[ Start Tile, End Tile ]
- Resolution: 15.707816001296324
- Scale: 59368.00473321948
-
Level ID: 2
[ Start Tile, End Tile ]
- Resolution: 7.853908000648162
- Scale: 29684.00236660974
-
Level ID: 3
[ Start Tile, End Tile ]
- Resolution: 3.926954000324081
- Scale: 14842.00118330487
-
Level ID: 4
[ Start Tile, End Tile ]
- Resolution: 1.9634770001620405
- Scale: 7421.000591652435
-
Level ID: 5
[ Start Tile, End Tile ]
- Resolution: 0.9817385000810203
- Scale: 3710.5002958262176
-
Level ID: 6
[ Start Tile, End Tile ]
- Resolution: 0.49086925004051013
- Scale: 1855.2501479131088
- Format: LERC2D
- Compression Quality: 100000.0
- LERC Error: 0.1
- Origin: X: 1424212.9507
Y: 1525998.3991
- Spatial Reference: 102100
(3857)
LatestVCSWkid(0)
Storage Info:
- Storage Format: esriMapCacheStorageModeCompactV2
- Packet Size: 16
Extent:
XMin: 1424212.9507
YMin: 1519004.0031561728
XMax: 1439500.0917540116
YMax: 1525998.3991
Spatial Reference: 102100
(3857)
LatestVCSWkid(0)
Initial Extent:
XMin: 1424212.9507
YMin: 1519004.0031561728
XMax: 1439500.0917540116
YMax: 1525998.3991
Spatial Reference: 102100
(3857)
LatestVCSWkid(0)
Full Extent:
XMin: 1424212.9507
YMin: 1519004.0031561728
XMax: 1439500.0917540116
YMax: 1525998.3991
Spatial Reference: 102100
(3857)
LatestVCSWkid(0)
Pixel Size X: 0.49086925004051146
Pixel Size Y: 0.49086925004051013
Band Count: 3
Pixel Type: U8
RasterFunction Infos: {"rasterFunctionInfos": [{
"name": "None",
"description": "",
"help": ""
}]}
Mensuration Capabilities: Basic
Inspection Capabilities:
Has Histograms: true
Has Colormap: false
Has Multi Dimensions : false
Rendering Rule:
Min Scale: 0
Max Scale: 0
Copyright Text:
Service Data Type: esriImageServiceDataTypeRGB
Min Values: 1, 1, 1
Max Values: 255, 255, 255
Mean Values: 150.96424101016228, 133.20760479854658, 129.14476305476157
Standard Deviation Values: 21.0731105709071, 23.13992814786565, 24.52492335130367
Object ID Field:
Fields:
None
Default Mosaic Method: Center
Allowed Mosaic Methods:
SortField:
SortValue: null
Mosaic Operator: First
Default Compression Quality: 75
Default Resampling Method: Bilinear
Max Record Count: null
Max Image Height: 4100
Max Image Width: 15000
Max Download Image Count: null
Max Mosaic Image Count: null
Allow Raster Function: true
Allow Copy: true
Allow Analysis: true
Allow Compute TiePoints: false
Supports Statistics: false
Supports Advanced Queries: false
Use StandardizedQueries: true
Raster Type Infos:
Name: Raster Dataset
Description: Supports all ArcGIS Raster Datasets
Help:
Has Raster Attribute Table: false
Edit Fields Info: null
Ownership Based AccessControl For Rasters: null
Child Resources:
Info
Histograms
Statistics
Key Properties
Legend
Raster Function Infos
Supported Operations:
Export Image
Identify
Compute Histograms
Compute Statistics Histograms
Get Samples
Compute Class Statistics
Query Boundary
Compute Pixel Location
Compute Angles
Validate
Project