View In:
ArcGIS JavaScript
ArcGIS Online Map Viewer
ArcGIS Earth
Service Description: Hosted/20091220_MLI_0m67_QB02_Bandiagara_Clip
Name: Hosted/20091220_MLI_0m67_QB02_Bandiagara_Clip
Description:
Single Fused Map Cache: true
Tile Info:
- Height: 256
- Width: 256
- DPI: 96
-
Levels of Detail: 7
-
Level ID: 0
[ Start Tile, End Tile ]
- Resolution: 38.47201601278847
- Scale: 145405.75396065429
-
Level ID: 1
[ Start Tile, End Tile ]
- Resolution: 19.236008006394236
- Scale: 72702.87698032714
-
Level ID: 2
[ Start Tile, End Tile ]
- Resolution: 9.618004003197118
- Scale: 36351.43849016357
-
Level ID: 3
[ Start Tile, End Tile ]
- Resolution: 4.809002001598559
- Scale: 18175.719245081786
-
Level ID: 4
[ Start Tile, End Tile ]
- Resolution: 2.4045010007992795
- Scale: 9087.859622540893
-
Level ID: 5
[ Start Tile, End Tile ]
- Resolution: 1.2022505003996398
- Scale: 4543.929811270446
-
Level ID: 6
[ Start Tile, End Tile ]
- Resolution: 0.6011252501998199
- Scale: 2271.964905635223
- Format: LERC2D
- Compression Quality: 100000.0
- LERC Error: 0.1
- Origin: X: -409616.36349999905
Y: 1618343.9801000017
- Spatial Reference: 102100
(3857)
LatestVCSWkid(0)
Storage Info:
- Storage Format: esriMapCacheStorageModeCompactV2
- Packet Size: 16
Extent:
XMin: -409616.36349999905
YMin: 1611349.2866886766
XMax: -394329.1472621674
YMax: 1618343.9801000017
Spatial Reference: 102100
(3857)
LatestVCSWkid(0)
Initial Extent:
XMin: -409616.36349999905
YMin: 1611349.2866886766
XMax: -394329.1472621674
YMax: 1618343.9801000017
Spatial Reference: 102100
(3857)
LatestVCSWkid(0)
Full Extent:
XMin: -409616.36349999905
YMin: 1611349.2866886766
XMax: -394329.1472621674
YMax: 1618343.9801000017
Spatial Reference: 102100
(3857)
LatestVCSWkid(0)
Pixel Size X: 0.6011252501998202
Pixel Size Y: 0.6011252501998199
Band Count: 3
Pixel Type: U8
RasterFunction Infos: {"rasterFunctionInfos": [{
"name": "None",
"description": "",
"help": ""
}]}
Mensuration Capabilities: Basic
Inspection Capabilities:
Has Histograms: true
Has Colormap: false
Has Multi Dimensions : false
Rendering Rule:
Min Scale: 0
Max Scale: 0
Copyright Text:
Service Data Type: esriImageServiceDataTypeRGB
Min Values: 1, 1, 1
Max Values: 255, 255, 255
Mean Values: 189.53876739569296, 153.54604890332692, 121.48911410683367
Standard Deviation Values: 43.59038693388379, 35.01192562288843, 28.49133081810758
Object ID Field:
Fields:
None
Default Mosaic Method: Center
Allowed Mosaic Methods:
SortField:
SortValue: null
Mosaic Operator: First
Default Compression Quality: 75
Default Resampling Method: Bilinear
Max Record Count: null
Max Image Height: 4100
Max Image Width: 15000
Max Download Image Count: null
Max Mosaic Image Count: null
Allow Raster Function: true
Allow Copy: true
Allow Analysis: true
Allow Compute TiePoints: false
Supports Statistics: false
Supports Advanced Queries: false
Use StandardizedQueries: true
Raster Type Infos:
Name: Raster Dataset
Description: Supports all ArcGIS Raster Datasets
Help:
Has Raster Attribute Table: false
Edit Fields Info: null
Ownership Based AccessControl For Rasters: null
Child Resources:
Info
Histograms
Statistics
Key Properties
Legend
Raster Function Infos
Supported Operations:
Export Image
Identify
Compute Histograms
Compute Statistics Histograms
Get Samples
Compute Class Statistics
Query Boundary
Compute Pixel Location
Compute Angles
Validate
Project