View In:
ArcGIS JavaScript
ArcGIS Online Map Viewer
ArcGIS Earth
Service Description: Hosted/20100109_NER_0m42_GE01_Ngagam_Clip
Name: Hosted/20100109_NER_0m42_GE01_Ngagam_Clip
Description:
Single Fused Map Cache: true
Tile Info:
- Height: 256
- Width: 256
- DPI: 96
-
Levels of Detail: 7
-
Level ID: 0
[ Start Tile, End Tile ]
- Resolution: 30.678589861140555
- Scale: 115950.34395197795
-
Level ID: 1
[ Start Tile, End Tile ]
- Resolution: 15.339294930570277
- Scale: 57975.171975988975
-
Level ID: 2
[ Start Tile, End Tile ]
- Resolution: 7.669647465285139
- Scale: 28987.585987994487
-
Level ID: 3
[ Start Tile, End Tile ]
- Resolution: 3.8348237326425694
- Scale: 14493.792993997244
-
Level ID: 4
[ Start Tile, End Tile ]
- Resolution: 1.9174118663212847
- Scale: 7246.896496998622
-
Level ID: 5
[ Start Tile, End Tile ]
- Resolution: 0.9587059331606423
- Scale: 3623.448248499311
-
Level ID: 6
[ Start Tile, End Tile ]
- Resolution: 0.47935296658032117
- Scale: 1811.7241242496555
- Format: LERC2D
- Compression Quality: 100000.0
- LERC Error: 0.1
- Origin: X: 1424212.7895999998
Y: 1525998.1480000003
- Spatial Reference: 102100
(3857)
LatestVCSWkid(0)
Storage Info:
- Storage Format: esriMapCacheStorageModeCompactV2
- Packet Size: 16
Extent:
XMin: 1424212.7895999998
YMin: 1519004.3882175933
XMax: 1439500.3144101794
YMax: 1525998.1480000003
Spatial Reference: 102100
(3857)
LatestVCSWkid(0)
Initial Extent:
XMin: 1424212.7895999998
YMin: 1519004.3882175933
XMax: 1439500.3144101794
YMax: 1525998.1480000003
Spatial Reference: 102100
(3857)
LatestVCSWkid(0)
Full Extent:
XMin: 1424212.7895999998
YMin: 1519004.3882175933
XMax: 1439500.3144101794
YMax: 1525998.1480000003
Spatial Reference: 102100
(3857)
LatestVCSWkid(0)
Pixel Size X: 0.47935296658032117
Pixel Size Y: 0.4793529665803267
Band Count: 3
Pixel Type: U8
RasterFunction Infos: {"rasterFunctionInfos": [{
"name": "None",
"description": "",
"help": ""
}]}
Mensuration Capabilities: Basic
Inspection Capabilities:
Has Histograms: true
Has Colormap: false
Has Multi Dimensions : false
Rendering Rule:
Min Scale: 0
Max Scale: 0
Copyright Text:
Service Data Type: esriImageServiceDataTypeRGB
Min Values: 1, 1, 1
Max Values: 255, 255, 255
Mean Values: 197.70148212907026, 190.76168012681958, 185.74349360809643
Standard Deviation Values: 28.884604178380087, 28.396869255889268, 28.15409017430117
Object ID Field:
Fields:
None
Default Mosaic Method: Center
Allowed Mosaic Methods:
SortField:
SortValue: null
Mosaic Operator: First
Default Compression Quality: 75
Default Resampling Method: Bilinear
Max Record Count: null
Max Image Height: 4100
Max Image Width: 15000
Max Download Image Count: null
Max Mosaic Image Count: null
Allow Raster Function: true
Allow Copy: true
Allow Analysis: true
Allow Compute TiePoints: false
Supports Statistics: false
Supports Advanced Queries: false
Use StandardizedQueries: true
Raster Type Infos:
Name: Raster Dataset
Description: Supports all ArcGIS Raster Datasets
Help:
Has Raster Attribute Table: false
Edit Fields Info: null
Ownership Based AccessControl For Rasters: null
Child Resources:
Info
Histograms
Statistics
Key Properties
Legend
Raster Function Infos
Supported Operations:
Export Image
Identify
Compute Histograms
Compute Statistics Histograms
Get Samples
Compute Class Statistics
Query Boundary
Compute Pixel Location
Compute Angles
Validate
Project