View In:
ArcGIS JavaScript
ArcGIS Online Map Viewer
ArcGIS Earth
Service Description: Hosted/20100131_NER_0m43_GE01_Chetimari_Clip
Name: Hosted/20100131_NER_0m43_GE01_Chetimari_Clip
Description:
Single Fused Map Cache: true
Tile Info:
- Height: 256
- Width: 256
- DPI: 96
-
Levels of Detail: 7
-
Level ID: 0
[ Start Tile, End Tile ]
- Resolution: 27.8228336932042
- Scale: 105156.95640013913
-
Level ID: 1
[ Start Tile, End Tile ]
- Resolution: 13.9114168466021
- Scale: 52578.47820006956
-
Level ID: 2
[ Start Tile, End Tile ]
- Resolution: 6.95570842330105
- Scale: 26289.23910003478
-
Level ID: 3
[ Start Tile, End Tile ]
- Resolution: 3.477854211650525
- Scale: 13144.61955001739
-
Level ID: 4
[ Start Tile, End Tile ]
- Resolution: 1.7389271058252624
- Scale: 6572.309775008695
-
Level ID: 5
[ Start Tile, End Tile ]
- Resolution: 0.8694635529126312
- Scale: 3286.1548875043477
-
Level ID: 6
[ Start Tile, End Tile ]
- Resolution: 0.4347317764563156
- Scale: 1643.0774437521738
- Format: LERC2D
- Compression Quality: 100000.0
- LERC Error: 0.1
- Origin: X: 1375121.3841999993
Y: 1484387.990700001
- Spatial Reference: 102100
(3857)
LatestVCSWkid(0)
Storage Info:
- Storage Format: esriMapCacheStorageModeCompactV2
- Packet Size: 16
Extent:
XMin: 1375121.3841999993
YMin: 1477394.0258803717
XMax: 1390408.7271190856
YMax: 1484387.990700001
Spatial Reference: 102100
(3857)
LatestVCSWkid(0)
Initial Extent:
XMin: 1375121.3841999993
YMin: 1477394.0258803717
XMax: 1390408.7271190856
YMax: 1484387.990700001
Spatial Reference: 102100
(3857)
LatestVCSWkid(0)
Full Extent:
XMin: 1375121.3841999993
YMin: 1477394.0258803717
XMax: 1390408.7271190856
YMax: 1484387.990700001
Spatial Reference: 102100
(3857)
LatestVCSWkid(0)
Pixel Size X: 0.4347317764563156
Pixel Size Y: 0.43473177645631594
Band Count: 3
Pixel Type: U8
RasterFunction Infos: {"rasterFunctionInfos": [{
"name": "None",
"description": "",
"help": ""
}]}
Mensuration Capabilities: Basic
Inspection Capabilities:
Has Histograms: true
Has Colormap: false
Has Multi Dimensions : false
Rendering Rule:
Min Scale: 0
Max Scale: 0
Copyright Text:
Service Data Type: esriImageServiceDataTypeRGB
Min Values: 1, 1, 1
Max Values: 255, 255, 255
Mean Values: 201.93277329267457, 186.89377926593562, 167.01109628947512
Standard Deviation Values: 26.925954841461326, 24.629205017162633, 22.430178908114303
Object ID Field:
Fields:
None
Default Mosaic Method: Center
Allowed Mosaic Methods:
SortField:
SortValue: null
Mosaic Operator: First
Default Compression Quality: 75
Default Resampling Method: Bilinear
Max Record Count: null
Max Image Height: 4100
Max Image Width: 15000
Max Download Image Count: null
Max Mosaic Image Count: null
Allow Raster Function: true
Allow Copy: true
Allow Analysis: true
Allow Compute TiePoints: false
Supports Statistics: false
Supports Advanced Queries: false
Use StandardizedQueries: true
Raster Type Infos:
Name: Raster Dataset
Description: Supports all ArcGIS Raster Datasets
Help:
Has Raster Attribute Table: false
Edit Fields Info: null
Ownership Based AccessControl For Rasters: null
Child Resources:
Info
Histograms
Statistics
Key Properties
Legend
Raster Function Infos
Supported Operations:
Export Image
Identify
Compute Histograms
Compute Statistics Histograms
Get Samples
Compute Class Statistics
Query Boundary
Compute Pixel Location
Compute Angles
Validate
Project