View In:
ArcGIS JavaScript
ArcGIS Online Map Viewer
ArcGIS Earth
Service Description: Hosted/201001_NER_0m42_GE01_GarinDogo_Clip
Name: Hosted/201001_NER_0m42_GE01_GarinDogo_Clip
Description:
Single Fused Map Cache: true
Tile Info:
- Height: 256
- Width: 256
- DPI: 96
-
Levels of Detail: 6
-
Level ID: 0
[ Start Tile, End Tile ]
- Resolution: 13.464794334700677
- Scale: 50890.4594838879
-
Level ID: 1
[ Start Tile, End Tile ]
- Resolution: 6.732397167350339
- Scale: 25445.22974194395
-
Level ID: 2
[ Start Tile, End Tile ]
- Resolution: 3.3661985836751693
- Scale: 12722.614870971975
-
Level ID: 3
[ Start Tile, End Tile ]
- Resolution: 1.6830992918375847
- Scale: 6361.307435485987
-
Level ID: 4
[ Start Tile, End Tile ]
- Resolution: 0.8415496459187923
- Scale: 3180.6537177429936
-
Level ID: 5
[ Start Tile, End Tile ]
- Resolution: 0.42077482295939617
- Scale: 1590.3268588714968
- Format: LERC2D
- Compression Quality: 100000.0
- LERC Error: 0.1
- Origin: X: 1417715.7696999982
Y: 1508671.0071999996
- Spatial Reference: 102100
(3857)
LatestVCSWkid(0)
Storage Info:
- Storage Format: esriMapCacheStorageModeCompactV2
- Packet Size: 16
Extent:
XMin: 1417715.7696999982
YMin: 1505443.243533078
XMax: 1425359.5651338785
YMax: 1508671.0071999996
Spatial Reference: 102100
(3857)
LatestVCSWkid(0)
Initial Extent:
XMin: 1417715.7696999982
YMin: 1505443.243533078
XMax: 1425359.5651338785
YMax: 1508671.0071999996
Spatial Reference: 102100
(3857)
LatestVCSWkid(0)
Full Extent:
XMin: 1417715.7696999982
YMin: 1505443.243533078
XMax: 1425359.5651338785
YMax: 1508671.0071999996
Spatial Reference: 102100
(3857)
LatestVCSWkid(0)
Pixel Size X: 0.42077482295939095
Pixel Size Y: 0.42077482295939617
Band Count: 3
Pixel Type: U8
RasterFunction Infos: {"rasterFunctionInfos": [{
"name": "None",
"description": "",
"help": ""
}]}
Mensuration Capabilities: Basic
Inspection Capabilities:
Has Histograms: true
Has Colormap: false
Has Multi Dimensions : false
Rendering Rule:
Min Scale: 0
Max Scale: 0
Copyright Text:
Service Data Type: esriImageServiceDataTypeRGB
Min Values: 1, 1, 1
Max Values: 255, 255, 255
Mean Values: 196.84449757871036, 183.4084088536528, 171.23344553944253
Standard Deviation Values: 32.75394549778503, 30.581746027970354, 29.096069176049053
Object ID Field:
Fields:
None
Default Mosaic Method: Center
Allowed Mosaic Methods:
SortField:
SortValue: null
Mosaic Operator: First
Default Compression Quality: 75
Default Resampling Method: Bilinear
Max Record Count: null
Max Image Height: 4100
Max Image Width: 15000
Max Download Image Count: null
Max Mosaic Image Count: null
Allow Raster Function: true
Allow Copy: true
Allow Analysis: true
Allow Compute TiePoints: false
Supports Statistics: false
Supports Advanced Queries: false
Use StandardizedQueries: true
Raster Type Infos:
Name: Raster Dataset
Description: Supports all ArcGIS Raster Datasets
Help:
Has Raster Attribute Table: false
Edit Fields Info: null
Ownership Based AccessControl For Rasters: null
Child Resources:
Info
Histograms
Statistics
Key Properties
Legend
Raster Function Infos
Supported Operations:
Export Image
Identify
Compute Histograms
Compute Statistics Histograms
Get Samples
Compute Class Statistics
Query Boundary
Compute Pixel Location
Compute Angles
Validate
Project