View In:
ArcGIS JavaScript
ArcGIS Online Map Viewer
ArcGIS Earth
Service Description: Hosted/20100211_NGA_0m43_GE01_Damasak_Clip
Name: Hosted/20100211_NGA_0m43_GE01_Damasak_Clip
Description:
Single Fused Map Cache: true
Tile Info:
- Height: 256
- Width: 256
- DPI: 96
-
Levels of Detail: 7
-
Level ID: 0
[ Start Tile, End Tile ]
- Resolution: 29.331438842474242
- Scale: 110858.75973390824
-
Level ID: 1
[ Start Tile, End Tile ]
- Resolution: 14.665719421237121
- Scale: 55429.37986695412
-
Level ID: 2
[ Start Tile, End Tile ]
- Resolution: 7.3328597106185605
- Scale: 27714.68993347706
-
Level ID: 3
[ Start Tile, End Tile ]
- Resolution: 3.6664298553092802
- Scale: 13857.34496673853
-
Level ID: 4
[ Start Tile, End Tile ]
- Resolution: 1.8332149276546401
- Scale: 6928.672483369265
-
Level ID: 5
[ Start Tile, End Tile ]
- Resolution: 0.9166074638273201
- Scale: 3464.3362416846326
-
Level ID: 6
[ Start Tile, End Tile ]
- Resolution: 0.45830373191366003
- Scale: 1732.1681208423163
- Format: LERC2D
- Compression Quality: 100000.0
- LERC Error: 0.1
- Origin: X: 1383768.3735000007
Y: 1474604.4711
- Spatial Reference: 102100
(3857)
LatestVCSWkid(0)
Storage Info:
- Storage Format: esriMapCacheStorageModeCompactV2
- Packet Size: 16
Extent:
XMin: 1383768.3735000007
YMin: 1467772.537368363
XMax: 1399055.5527817127
YMax: 1474604.4711
Spatial Reference: 102100
(3857)
LatestVCSWkid(0)
Initial Extent:
XMin: 1383768.3735000007
YMin: 1467772.537368363
XMax: 1399055.5527817127
YMax: 1474604.4711
Spatial Reference: 102100
(3857)
LatestVCSWkid(0)
Full Extent:
XMin: 1383768.3735000007
YMin: 1467772.537368363
XMax: 1399055.5527817127
YMax: 1474604.4711
Spatial Reference: 102100
(3857)
LatestVCSWkid(0)
Pixel Size X: 0.45830373191366003
Pixel Size Y: 0.4583037319136623
Band Count: 3
Pixel Type: U8
RasterFunction Infos: {"rasterFunctionInfos": [{
"name": "None",
"description": "",
"help": ""
}]}
Mensuration Capabilities: Basic
Inspection Capabilities:
Has Histograms: true
Has Colormap: false
Has Multi Dimensions : false
Rendering Rule:
Min Scale: 0
Max Scale: 0
Copyright Text:
Service Data Type: esriImageServiceDataTypeRGB
Min Values: 1, 1, 1
Max Values: 255, 255, 255
Mean Values: 152.23343613762967, 140.4683370230688, 119.16865086265621
Standard Deviation Values: 39.0885134402141, 34.75143173057988, 32.19149084111532
Object ID Field:
Fields:
None
Default Mosaic Method: Center
Allowed Mosaic Methods:
SortField:
SortValue: null
Mosaic Operator: First
Default Compression Quality: 75
Default Resampling Method: Bilinear
Max Record Count: null
Max Image Height: 4100
Max Image Width: 15000
Max Download Image Count: null
Max Mosaic Image Count: null
Allow Raster Function: true
Allow Copy: true
Allow Analysis: true
Allow Compute TiePoints: false
Supports Statistics: false
Supports Advanced Queries: false
Use StandardizedQueries: true
Raster Type Infos:
Name: Raster Dataset
Description: Supports all ArcGIS Raster Datasets
Help:
Has Raster Attribute Table: false
Edit Fields Info: null
Ownership Based AccessControl For Rasters: null
Child Resources:
Info
Histograms
Statistics
Key Properties
Legend
Raster Function Infos
Supported Operations:
Export Image
Identify
Compute Histograms
Compute Statistics Histograms
Get Samples
Compute Class Statistics
Query Boundary
Compute Pixel Location
Compute Angles
Validate
Project