View In:
ArcGIS JavaScript
ArcGIS Online Map Viewer
ArcGIS Earth
Service Description: Hosted/20100313_CMR_0m48GE01_Limani
Name: Hosted/20100313_CMR_0m48GE01_Limani
Description:
Single Fused Map Cache: true
Tile Info:
- Height: 256
- Width: 256
- DPI: 96
-
Levels of Detail: 6
-
Level ID: 0
[ Start Tile, End Tile ]
- Resolution: 15.565238403054586
- Scale: 58829.12984911287
-
Level ID: 1
[ Start Tile, End Tile ]
- Resolution: 7.782619201527293
- Scale: 29414.564924556435
-
Level ID: 2
[ Start Tile, End Tile ]
- Resolution: 3.8913096007636465
- Scale: 14707.282462278217
-
Level ID: 3
[ Start Tile, End Tile ]
- Resolution: 1.9456548003818233
- Scale: 7353.641231139109
-
Level ID: 4
[ Start Tile, End Tile ]
- Resolution: 0.9728274001909116
- Scale: 3676.8206155695543
-
Level ID: 5
[ Start Tile, End Tile ]
- Resolution: 0.4864137000954558
- Scale: 1838.4103077847772
- Format: LERC2D
- Compression Quality: 100000.0
- LERC Error: 0.1
- Origin: X: 1573446.751841034
Y: 1260030.8658268473
- Spatial Reference: 102100
(3857)
LatestVCSWkid(0)
Storage Info:
- Storage Format: esriMapCacheStorageModeCompactV2
- Packet Size: 16
Extent:
XMin: 1573446.751841034
YMin: 1256534.037736861
XMax: 1581090.7431380341
YMax: 1260030.8658268473
Spatial Reference: 102100
(3857)
LatestVCSWkid(0)
Initial Extent:
XMin: 1573446.751841034
YMin: 1256534.037736861
XMax: 1581090.7431380341
YMax: 1260030.8658268473
Spatial Reference: 102100
(3857)
LatestVCSWkid(0)
Full Extent:
XMin: 1573446.751841034
YMin: 1256534.037736861
XMax: 1581090.7431380341
YMax: 1260030.8658268473
Spatial Reference: 102100
(3857)
LatestVCSWkid(0)
Pixel Size X: 0.4864137000954558
Pixel Size Y: 0.4864137000954555
Band Count: 3
Pixel Type: U8
RasterFunction Infos: {"rasterFunctionInfos": [{
"name": "None",
"description": "",
"help": ""
}]}
Mensuration Capabilities: Basic
Inspection Capabilities:
Has Histograms: true
Has Colormap: false
Has Multi Dimensions : false
Rendering Rule:
Min Scale: 0
Max Scale: 0
Copyright Text:
Service Data Type: esriImageServiceDataTypeRGB
Min Values: 1, 1, 1
Max Values: 255, 255, 255
Mean Values: 153.00134599242915, 131.23793771553545, 122.91105043195238
Standard Deviation Values: 23.206734152355327, 20.0091851336022, 18.986254769818064
Object ID Field:
Fields:
None
Default Mosaic Method: Center
Allowed Mosaic Methods:
SortField:
SortValue: null
Mosaic Operator: First
Default Compression Quality: 75
Default Resampling Method: Bilinear
Max Record Count: null
Max Image Height: 4100
Max Image Width: 15000
Max Download Image Count: null
Max Mosaic Image Count: null
Allow Raster Function: true
Allow Copy: true
Allow Analysis: true
Allow Compute TiePoints: false
Supports Statistics: false
Supports Advanced Queries: false
Use StandardizedQueries: true
Raster Type Infos:
Name: Raster Dataset
Description: Supports all ArcGIS Raster Datasets
Help:
Has Raster Attribute Table: false
Edit Fields Info: null
Ownership Based AccessControl For Rasters: null
Child Resources:
Info
Histograms
Statistics
Key Properties
Legend
Raster Function Infos
Supported Operations:
Export Image
Identify
Compute Histograms
Compute Statistics Histograms
Get Samples
Compute Class Statistics
Query Boundary
Compute Pixel Location
Compute Angles
Validate
Project