View In:
ArcGIS JavaScript
ArcGIS Online Map Viewer
ArcGIS Earth
Service Description: Hosted/20110208_MLI_0m48_WV02_Bandiagara_Clip1
Name: Hosted/20110208_MLI_0m48_WV02_Bandiagara_Clip1
Description:
Single Fused Map Cache: true
Tile Info:
- Height: 256
- Width: 256
- DPI: 96
-
Levels of Detail: 7
-
Level ID: 0
[ Start Tile, End Tile ]
- Resolution: 31.40501107518445
- Scale: 118695.86745888113
-
Level ID: 1
[ Start Tile, End Tile ]
- Resolution: 15.702505537592225
- Scale: 59347.93372944056
-
Level ID: 2
[ Start Tile, End Tile ]
- Resolution: 7.851252768796113
- Scale: 29673.96686472028
-
Level ID: 3
[ Start Tile, End Tile ]
- Resolution: 3.9256263843980563
- Scale: 14836.98343236014
-
Level ID: 4
[ Start Tile, End Tile ]
- Resolution: 1.9628131921990282
- Scale: 7418.49171618007
-
Level ID: 5
[ Start Tile, End Tile ]
- Resolution: 0.9814065960995141
- Scale: 3709.245858090035
-
Level ID: 6
[ Start Tile, End Tile ]
- Resolution: 0.49070329804975704
- Scale: 1854.6229290450176
- Format: LERC2D
- Compression Quality: 100000.0
- LERC Error: 0.1
- Origin: X: -409616.54089999944
Y: 1618343.7648999987
- Spatial Reference: 102100
(3857)
LatestVCSWkid(0)
Storage Info:
- Storage Format: esriMapCacheStorageModeCompactV2
- Packet Size: 16
Extent:
XMin: -409616.54089999944
YMin: 1611349.7707928955
XMax: -396342.0352811574
YMax: 1618343.7648999987
Spatial Reference: 102100
(3857)
LatestVCSWkid(0)
Initial Extent:
XMin: -409616.54089999944
YMin: 1611349.7707928955
XMax: -396342.0352811574
YMax: 1618343.7648999987
Spatial Reference: 102100
(3857)
LatestVCSWkid(0)
Full Extent:
XMin: -409616.54089999944
YMin: 1611349.7707928955
XMax: -396342.0352811574
YMax: 1618343.7648999987
Spatial Reference: 102100
(3857)
LatestVCSWkid(0)
Pixel Size X: 0.49070329804975704
Pixel Size Y: 0.4907032980497585
Band Count: 3
Pixel Type: U8
RasterFunction Infos: {"rasterFunctionInfos": [{
"name": "None",
"description": "",
"help": ""
}]}
Mensuration Capabilities: Basic
Inspection Capabilities:
Has Histograms: true
Has Colormap: false
Has Multi Dimensions : false
Rendering Rule:
Min Scale: 0
Max Scale: 0
Copyright Text:
Service Data Type: esriImageServiceDataTypeRGB
Min Values: 1, 1, 1
Max Values: 255, 255, 255
Mean Values: 204.31812879047712, 168.52587670073373, 132.51949898626395
Standard Deviation Values: 36.79905226459607, 29.617358816093333, 23.762357727651786
Object ID Field:
Fields:
None
Default Mosaic Method: Center
Allowed Mosaic Methods:
SortField:
SortValue: null
Mosaic Operator: First
Default Compression Quality: 75
Default Resampling Method: Bilinear
Max Record Count: null
Max Image Height: 4100
Max Image Width: 15000
Max Download Image Count: null
Max Mosaic Image Count: null
Allow Raster Function: true
Allow Copy: true
Allow Analysis: true
Allow Compute TiePoints: false
Supports Statistics: false
Supports Advanced Queries: false
Use StandardizedQueries: true
Raster Type Infos:
Name: Raster Dataset
Description: Supports all ArcGIS Raster Datasets
Help:
Has Raster Attribute Table: false
Edit Fields Info: null
Ownership Based AccessControl For Rasters: null
Child Resources:
Info
Histograms
Statistics
Key Properties
Legend
Raster Function Infos
Supported Operations:
Export Image
Identify
Compute Histograms
Compute Statistics Histograms
Get Samples
Compute Class Statistics
Query Boundary
Compute Pixel Location
Compute Angles
Validate
Project