View In:
ArcGIS JavaScript
ArcGIS Online Map Viewer
ArcGIS Earth
Service Description: Hosted/20110316_MLI_0m50_WV02_PignariBana_Clip
Name: Hosted/20110316_MLI_0m50_WV02_PignariBana_Clip
Description:
Single Fused Map Cache: true
Tile Info:
- Height: 256
- Width: 256
- DPI: 96
-
Levels of Detail: 6
-
Level ID: 0
[ Start Tile, End Tile ]
- Resolution: 16.29136286234145
- Scale: 61573.53176547676
-
Level ID: 1
[ Start Tile, End Tile ]
- Resolution: 8.145681431170726
- Scale: 30786.76588273838
-
Level ID: 2
[ Start Tile, End Tile ]
- Resolution: 4.072840715585363
- Scale: 15393.38294136919
-
Level ID: 3
[ Start Tile, End Tile ]
- Resolution: 2.0364203577926814
- Scale: 7696.691470684595
-
Level ID: 4
[ Start Tile, End Tile ]
- Resolution: 1.0182101788963407
- Scale: 3848.3457353422973
-
Level ID: 5
[ Start Tile, End Tile ]
- Resolution: 0.5091050894481703
- Scale: 1924.1728676711487
- Format: LERC2D
- Compression Quality: 100000.0
- LERC Error: 0.1
- Origin: X: -443286.7914412751
Y: 1632747.5474956736
- Spatial Reference: 102100
(3857)
LatestVCSWkid(0)
Storage Info:
- Storage Format: esriMapCacheStorageModeCompactV2
- Packet Size: 16
Extent:
XMin: -443286.7914412751
YMin: 1629250.5046362542
XMax: -435643.08762830024
YMax: 1632747.5474956736
Spatial Reference: 102100
(3857)
LatestVCSWkid(0)
Initial Extent:
XMin: -443286.7914412751
YMin: 1629250.5046362542
XMax: -435643.08762830024
YMax: 1632747.5474956736
Spatial Reference: 102100
(3857)
LatestVCSWkid(0)
Full Extent:
XMin: -443286.7914412751
YMin: 1629250.5046362542
XMax: -435643.08762830024
YMax: 1632747.5474956736
Spatial Reference: 102100
(3857)
LatestVCSWkid(0)
Pixel Size X: 0.509105089448172
Pixel Size Y: 0.5091050894481703
Band Count: 3
Pixel Type: U8
RasterFunction Infos: {"rasterFunctionInfos": [{
"name": "None",
"description": "",
"help": ""
}]}
Mensuration Capabilities: Basic
Inspection Capabilities:
Has Histograms: true
Has Colormap: false
Has Multi Dimensions : false
Rendering Rule:
Min Scale: 0
Max Scale: 0
Copyright Text:
Service Data Type: esriImageServiceDataTypeRGB
Min Values: 1, 1, 1
Max Values: 255, 255, 255
Mean Values: 205.1209058714847, 166.45051030020628, 136.14397162872268
Standard Deviation Values: 33.248331374995004, 28.085331687266446, 22.573296070688244
Object ID Field:
Fields:
None
Default Mosaic Method: Center
Allowed Mosaic Methods:
SortField:
SortValue: null
Mosaic Operator: First
Default Compression Quality: 75
Default Resampling Method: Bilinear
Max Record Count: null
Max Image Height: 4100
Max Image Width: 15000
Max Download Image Count: null
Max Mosaic Image Count: null
Allow Raster Function: true
Allow Copy: true
Allow Analysis: true
Allow Compute TiePoints: false
Supports Statistics: false
Supports Advanced Queries: false
Use StandardizedQueries: true
Raster Type Infos:
Name: Raster Dataset
Description: Supports all ArcGIS Raster Datasets
Help:
Has Raster Attribute Table: false
Edit Fields Info: null
Ownership Based AccessControl For Rasters: null
Child Resources:
Info
Histograms
Statistics
Key Properties
Legend
Raster Function Infos
Supported Operations:
Export Image
Identify
Compute Histograms
Compute Statistics Histograms
Get Samples
Compute Class Statistics
Query Boundary
Compute Pixel Location
Compute Angles
Validate
Project