View In:
ArcGIS JavaScript
ArcGIS Online Map Viewer
ArcGIS Earth
Service Description: Hosted/20111221_CMR_0m49_WV02_Moskota
Name: Hosted/20111221_CMR_0m49_WV02_Moskota
Description:
Single Fused Map Cache: true
Tile Info:
- Height: 256
- Width: 256
- DPI: 96
-
Levels of Detail: 6
-
Level ID: 0
[ Start Tile, End Tile ]
- Resolution: 16.177849636278804
- Scale: 61144.506257308465
-
Level ID: 1
[ Start Tile, End Tile ]
- Resolution: 8.088924818139402
- Scale: 30572.253128654233
-
Level ID: 2
[ Start Tile, End Tile ]
- Resolution: 4.044462409069701
- Scale: 15286.126564327116
-
Level ID: 3
[ Start Tile, End Tile ]
- Resolution: 2.0222312045348505
- Scale: 7643.063282163558
-
Level ID: 4
[ Start Tile, End Tile ]
- Resolution: 1.0111156022674253
- Scale: 3821.531641081779
-
Level ID: 5
[ Start Tile, End Tile ]
- Resolution: 0.5055578011337126
- Scale: 1910.7658205408895
- Format: LERC2D
- Compression Quality: 100000.0
- LERC Error: 0.1
- Origin: X: 1539680.6382468
Y: 1227741.12695522
- Spatial Reference: 102100
(3857)
LatestVCSWkid(0)
Storage Info:
- Storage Format: esriMapCacheStorageModeCompactV2
- Packet Size: 16
Extent:
XMin: 1539680.6382468
YMin: 1224243.678086977
XMax: 1547324.6721999417
YMax: 1227741.12695522
Spatial Reference: 102100
(3857)
LatestVCSWkid(0)
Initial Extent:
XMin: 1539680.6382468
YMin: 1224243.678086977
XMax: 1547324.6721999417
YMax: 1227741.12695522
Spatial Reference: 102100
(3857)
LatestVCSWkid(0)
Full Extent:
XMin: 1539680.6382468
YMin: 1224243.678086977
XMax: 1547324.6721999417
YMax: 1227741.12695522
Spatial Reference: 102100
(3857)
LatestVCSWkid(0)
Pixel Size X: 0.5055578011337073
Pixel Size Y: 0.5055578011337126
Band Count: 3
Pixel Type: U8
RasterFunction Infos: {"rasterFunctionInfos": [{
"name": "None",
"description": "",
"help": ""
}]}
Mensuration Capabilities: Basic
Inspection Capabilities:
Has Histograms: true
Has Colormap: false
Has Multi Dimensions : false
Rendering Rule:
Min Scale: 0
Max Scale: 0
Copyright Text:
Service Data Type: esriImageServiceDataTypeRGB
Min Values: 1, 1, 1
Max Values: 255, 255, 255
Mean Values: 155.63005937560385, 139.51369039013645, 128.8440308480067
Standard Deviation Values: 26.368791653627177, 23.559974866722467, 22.29624963713202
Object ID Field:
Fields:
None
Default Mosaic Method: Center
Allowed Mosaic Methods:
SortField:
SortValue: null
Mosaic Operator: First
Default Compression Quality: 75
Default Resampling Method: Bilinear
Max Record Count: null
Max Image Height: 4100
Max Image Width: 15000
Max Download Image Count: null
Max Mosaic Image Count: null
Allow Raster Function: true
Allow Copy: true
Allow Analysis: true
Allow Compute TiePoints: false
Supports Statistics: false
Supports Advanced Queries: false
Use StandardizedQueries: true
Raster Type Infos:
Name: Raster Dataset
Description: Supports all ArcGIS Raster Datasets
Help:
Has Raster Attribute Table: false
Edit Fields Info: null
Ownership Based AccessControl For Rasters: null
Child Resources:
Info
Histograms
Statistics
Key Properties
Legend
Raster Function Infos
Supported Operations:
Export Image
Identify
Compute Histograms
Compute Statistics Histograms
Get Samples
Compute Class Statistics
Query Boundary
Compute Pixel Location
Compute Angles
Validate
Project