View In:
ArcGIS JavaScript
ArcGIS Online Map Viewer
ArcGIS Earth
Service Description: Hosted/20111221_CMR_0m49_WV02_Mozogo
Name: Hosted/20111221_CMR_0m49_WV02_Mozogo
Description:
Single Fused Map Cache: true
Tile Info:
- Height: 256
- Width: 256
- DPI: 96
-
Levels of Detail: 7
-
Level ID: 0
[ Start Tile, End Tile ]
- Resolution: 32.356435716391516
- Scale: 122291.79591881606
-
Level ID: 1
[ Start Tile, End Tile ]
- Resolution: 16.178217858195758
- Scale: 61145.89795940803
-
Level ID: 2
[ Start Tile, End Tile ]
- Resolution: 8.089108929097879
- Scale: 30572.948979704015
-
Level ID: 3
[ Start Tile, End Tile ]
- Resolution: 4.0445544645489395
- Scale: 15286.474489852008
-
Level ID: 4
[ Start Tile, End Tile ]
- Resolution: 2.0222772322744698
- Scale: 7643.237244926004
-
Level ID: 5
[ Start Tile, End Tile ]
- Resolution: 1.0111386161372349
- Scale: 3821.618622463002
-
Level ID: 6
[ Start Tile, End Tile ]
- Resolution: 0.5055693080686174
- Scale: 1910.809311231501
- Format: LERC2D
- Compression Quality: 100000.0
- LERC Error: 0.1
- Origin: X: 1546018.0011979155
Y: 1231218.1309114296
- Spatial Reference: 102100
(3857)
LatestVCSWkid(0)
Storage Info:
- Storage Format: esriMapCacheStorageModeCompactV2
- Packet Size: 16
Extent:
XMin: 1546018.0011979155
YMin: 1223820.6407957696
XMax: 1553590.9238634754
YMax: 1231218.1309114296
Spatial Reference: 102100
(3857)
LatestVCSWkid(0)
Initial Extent:
XMin: 1546018.0011979155
YMin: 1223820.6407957696
XMax: 1553590.9238634754
YMax: 1231218.1309114296
Spatial Reference: 102100
(3857)
LatestVCSWkid(0)
Full Extent:
XMin: 1546018.0011979155
YMin: 1223820.6407957696
XMax: 1553590.9238634754
YMax: 1231218.1309114296
Spatial Reference: 102100
(3857)
LatestVCSWkid(0)
Pixel Size X: 0.505569308068624
Pixel Size Y: 0.5055693080686174
Band Count: 3
Pixel Type: U8
RasterFunction Infos: {"rasterFunctionInfos": [{
"name": "None",
"description": "",
"help": ""
}]}
Mensuration Capabilities: Basic
Inspection Capabilities:
Has Histograms: true
Has Colormap: false
Has Multi Dimensions : false
Rendering Rule:
Min Scale: 0
Max Scale: 0
Copyright Text:
Service Data Type: esriImageServiceDataTypeRGB
Min Values: 1, 1, 1
Max Values: 255, 255, 255
Mean Values: 146.78941842881133, 131.92902413217197, 122.92717761473706
Standard Deviation Values: 34.76593575287818, 31.738324867086035, 30.50556960802078
Object ID Field:
Fields:
None
Default Mosaic Method: Center
Allowed Mosaic Methods:
SortField:
SortValue: null
Mosaic Operator: First
Default Compression Quality: 75
Default Resampling Method: Bilinear
Max Record Count: null
Max Image Height: 4100
Max Image Width: 15000
Max Download Image Count: null
Max Mosaic Image Count: null
Allow Raster Function: true
Allow Copy: true
Allow Analysis: true
Allow Compute TiePoints: false
Supports Statistics: false
Supports Advanced Queries: false
Use StandardizedQueries: true
Raster Type Infos:
Name: Raster Dataset
Description: Supports all ArcGIS Raster Datasets
Help:
Has Raster Attribute Table: false
Edit Fields Info: null
Ownership Based AccessControl For Rasters: null
Child Resources:
Info
Histograms
Statistics
Key Properties
Legend
Raster Function Infos
Supported Operations:
Export Image
Identify
Compute Histograms
Compute Statistics Histograms
Get Samples
Compute Class Statistics
Query Boundary
Compute Pixel Location
Compute Angles
Validate
Project