View In:
ArcGIS JavaScript
ArcGIS Online Map Viewer
ArcGIS Earth
Service Description: Hosted/20130323_NER_0m46_GE01_Ngagam_Clip
Name: Hosted/20130323_NER_0m46_GE01_Ngagam_Clip
Description:
Single Fused Map Cache: true
Tile Info:
- Height: 256
- Width: 256
- DPI: 96
-
Levels of Detail: 7
-
Level ID: 0
[ Start Tile, End Tile ]
- Resolution: 29.59136486784711
- Scale: 111841.1553453255
-
Level ID: 1
[ Start Tile, End Tile ]
- Resolution: 14.795682433923554
- Scale: 55920.57767266275
-
Level ID: 2
[ Start Tile, End Tile ]
- Resolution: 7.397841216961777
- Scale: 27960.288836331376
-
Level ID: 3
[ Start Tile, End Tile ]
- Resolution: 3.6989206084808885
- Scale: 13980.144418165688
-
Level ID: 4
[ Start Tile, End Tile ]
- Resolution: 1.8494603042404443
- Scale: 6990.072209082844
-
Level ID: 5
[ Start Tile, End Tile ]
- Resolution: 0.9247301521202221
- Scale: 3495.036104541422
-
Level ID: 6
[ Start Tile, End Tile ]
- Resolution: 0.46236507606011107
- Scale: 1747.518052270711
- Format: LERC2D
- Compression Quality: 100000.0
- LERC Error: 0.1
- Origin: X: 1424212.9715999998
Y: 1525562.9045000002
- Spatial Reference: 102100
(3857)
LatestVCSWkid(0)
Storage Info:
- Storage Format: esriMapCacheStorageModeCompactV2
- Packet Size: 16
Extent:
XMin: 1424212.9715999998
YMin: 1519004.2558960875
XMax: 1439500.1481097753
YMax: 1525562.9045000002
Spatial Reference: 102100
(3857)
LatestVCSWkid(0)
Initial Extent:
XMin: 1424212.9715999998
YMin: 1519004.2558960875
XMax: 1439500.1481097753
YMax: 1525562.9045000002
Spatial Reference: 102100
(3857)
LatestVCSWkid(0)
Full Extent:
XMin: 1424212.9715999998
YMin: 1519004.2558960875
XMax: 1439500.1481097753
YMax: 1525562.9045000002
Spatial Reference: 102100
(3857)
LatestVCSWkid(0)
Pixel Size X: 0.4623650760601111
Pixel Size Y: 0.46236507606011107
Band Count: 3
Pixel Type: U8
RasterFunction Infos: {"rasterFunctionInfos": [{
"name": "None",
"description": "",
"help": ""
}]}
Mensuration Capabilities: Basic
Inspection Capabilities:
Has Histograms: true
Has Colormap: false
Has Multi Dimensions : false
Rendering Rule:
Min Scale: 0
Max Scale: 0
Copyright Text:
Service Data Type: esriImageServiceDataTypeRGB
Min Values: 1, 1, 1
Max Values: 255, 255, 255
Mean Values: 205.99412542281266, 196.51774291176497, 188.0074923706871
Standard Deviation Values: 20.464484455370087, 20.93384214979714, 21.590913597478675
Object ID Field:
Fields:
None
Default Mosaic Method: Center
Allowed Mosaic Methods:
SortField:
SortValue: null
Mosaic Operator: First
Default Compression Quality: 75
Default Resampling Method: Bilinear
Max Record Count: null
Max Image Height: 4100
Max Image Width: 15000
Max Download Image Count: null
Max Mosaic Image Count: null
Allow Raster Function: true
Allow Copy: true
Allow Analysis: true
Allow Compute TiePoints: false
Supports Statistics: false
Supports Advanced Queries: false
Use StandardizedQueries: true
Raster Type Infos:
Name: Raster Dataset
Description: Supports all ArcGIS Raster Datasets
Help:
Has Raster Attribute Table: false
Edit Fields Info: null
Ownership Based AccessControl For Rasters: null
Child Resources:
Info
Histograms
Statistics
Key Properties
Legend
Raster Function Infos
Supported Operations:
Export Image
Identify
Compute Histograms
Compute Statistics Histograms
Get Samples
Compute Class Statistics
Query Boundary
Compute Pixel Location
Compute Angles
Validate
Project