View In:
ArcGIS JavaScript
ArcGIS Online Map Viewer
ArcGIS Earth
Service Description: Hosted/20130608_NER_0m48_GE01_Chetmari_Clip
Name: Hosted/20130608_NER_0m48_GE01_Chetmari_Clip
Description:
Single Fused Map Cache: true
Tile Info:
- Height: 256
- Width: 256
- DPI: 96
-
Levels of Detail: 7
-
Level ID: 0
[ Start Tile, End Tile ]
- Resolution: 30.957023203388044
- Scale: 117002.68833766917
-
Level ID: 1
[ Start Tile, End Tile ]
- Resolution: 15.478511601694022
- Scale: 58501.344168834585
-
Level ID: 2
[ Start Tile, End Tile ]
- Resolution: 7.739255800847011
- Scale: 29250.672084417292
-
Level ID: 3
[ Start Tile, End Tile ]
- Resolution: 3.8696279004235055
- Scale: 14625.336042208646
-
Level ID: 4
[ Start Tile, End Tile ]
- Resolution: 1.9348139502117527
- Scale: 7312.668021104323
-
Level ID: 5
[ Start Tile, End Tile ]
- Resolution: 0.9674069751058764
- Scale: 3656.3340105521615
-
Level ID: 6
[ Start Tile, End Tile ]
- Resolution: 0.4837034875529382
- Scale: 1828.1670052760808
- Format: LERC2D
- Compression Quality: 100000.0
- LERC Error: 0.1
- Origin: X: 1375121.1286999993
Y: 1484388.0613000002
- Spatial Reference: 102100
(3857)
LatestVCSWkid(0)
Storage Info:
- Storage Format: esriMapCacheStorageModeCompactV2
- Packet Size: 16
Extent:
XMin: 1375121.1286999993
YMin: 1477394.1925734722
XMax: 1390408.57742411
YMax: 1484388.0613000002
Spatial Reference: 102100
(3857)
LatestVCSWkid(0)
Initial Extent:
XMin: 1375121.1286999993
YMin: 1477394.1925734722
XMax: 1390408.57742411
YMax: 1484388.0613000002
Spatial Reference: 102100
(3857)
LatestVCSWkid(0)
Full Extent:
XMin: 1375121.1286999993
YMin: 1477394.1925734722
XMax: 1390408.57742411
YMax: 1484388.0613000002
Spatial Reference: 102100
(3857)
LatestVCSWkid(0)
Pixel Size X: 0.4837034875529382
Pixel Size Y: 0.48370348755294396
Band Count: 3
Pixel Type: U8
RasterFunction Infos: {"rasterFunctionInfos": [{
"name": "None",
"description": "",
"help": ""
}]}
Mensuration Capabilities: Basic
Inspection Capabilities:
Has Histograms: true
Has Colormap: false
Has Multi Dimensions : false
Rendering Rule:
Min Scale: 0
Max Scale: 0
Copyright Text:
Service Data Type: esriImageServiceDataTypeRGB
Min Values: 1, 1, 1
Max Values: 255, 255, 255
Mean Values: 193.38934462511273, 178.51683239120106, 157.28094727675332
Standard Deviation Values: 27.110901940512296, 25.48418851238175, 23.839783310172002
Object ID Field:
Fields:
None
Default Mosaic Method: Center
Allowed Mosaic Methods:
SortField:
SortValue: null
Mosaic Operator: First
Default Compression Quality: 75
Default Resampling Method: Bilinear
Max Record Count: null
Max Image Height: 4100
Max Image Width: 15000
Max Download Image Count: null
Max Mosaic Image Count: null
Allow Raster Function: true
Allow Copy: true
Allow Analysis: true
Allow Compute TiePoints: false
Supports Statistics: false
Supports Advanced Queries: false
Use StandardizedQueries: true
Raster Type Infos:
Name: Raster Dataset
Description: Supports all ArcGIS Raster Datasets
Help:
Has Raster Attribute Table: false
Edit Fields Info: null
Ownership Based AccessControl For Rasters: null
Child Resources:
Info
Histograms
Statistics
Key Properties
Legend
Raster Function Infos
Supported Operations:
Export Image
Identify
Compute Histograms
Compute Statistics Histograms
Get Samples
Compute Class Statistics
Query Boundary
Compute Pixel Location
Compute Angles
Validate
Project