View In:
ArcGIS JavaScript
ArcGIS Online Map Viewer
ArcGIS Earth
Service Description: Hosted/20130608_NGA_0m42_GE01_Damasak_Clip
Name: Hosted/20130608_NGA_0m42_GE01_Damasak_Clip
Description:
Single Fused Map Cache: true
Tile Info:
- Height: 256
- Width: 256
- DPI: 96
-
Levels of Detail: 8
-
Level ID: 0
[ Start Tile, End Tile ]
- Resolution: 53.75742436557654
- Scale: 203177.26053818382
-
Level ID: 1
[ Start Tile, End Tile ]
- Resolution: 26.87871218278827
- Scale: 101588.63026909191
-
Level ID: 2
[ Start Tile, End Tile ]
- Resolution: 13.439356091394135
- Scale: 50794.315134545956
-
Level ID: 3
[ Start Tile, End Tile ]
- Resolution: 6.7196780456970675
- Scale: 25397.157567272978
-
Level ID: 4
[ Start Tile, End Tile ]
- Resolution: 3.3598390228485338
- Scale: 12698.578783636489
-
Level ID: 5
[ Start Tile, End Tile ]
- Resolution: 1.6799195114242669
- Scale: 6349.289391818244
-
Level ID: 6
[ Start Tile, End Tile ]
- Resolution: 0.8399597557121334
- Scale: 3174.644695909122
-
Level ID: 7
[ Start Tile, End Tile ]
- Resolution: 0.4199798778560667
- Scale: 1587.322347954561
- Format: LERC2D
- Compression Quality: 100000.0
- LERC Error: 0.1
- Origin: X: 1383768.1809
Y: 1474766.4549999991
- Spatial Reference: 102100
(3857)
LatestVCSWkid(0)
Storage Info:
- Storage Format: esriMapCacheStorageModeCompactV2
- Packet Size: 16
Extent:
XMin: 1383768.1809
YMin: 1467772.1101141842
XMax: 1399055.448453961
YMax: 1474766.4549999991
Spatial Reference: 102100
(3857)
LatestVCSWkid(0)
Initial Extent:
XMin: 1383768.1809
YMin: 1467772.1101141842
XMax: 1399055.448453961
YMax: 1474766.4549999991
Spatial Reference: 102100
(3857)
LatestVCSWkid(0)
Full Extent:
XMin: 1383768.1809
YMin: 1467772.1101141842
XMax: 1399055.448453961
YMax: 1474766.4549999991
Spatial Reference: 102100
(3857)
LatestVCSWkid(0)
Pixel Size X: 0.41997987785606883
Pixel Size Y: 0.4199798778560667
Band Count: 3
Pixel Type: U8
RasterFunction Infos: {"rasterFunctionInfos": [{
"name": "None",
"description": "",
"help": ""
}]}
Mensuration Capabilities: Basic
Inspection Capabilities:
Has Histograms: true
Has Colormap: false
Has Multi Dimensions : false
Rendering Rule:
Min Scale: 0
Max Scale: 0
Copyright Text:
Service Data Type: esriImageServiceDataTypeRGB
Min Values: 1, 1, 1
Max Values: 255, 255, 255
Mean Values: 162.39964058220073, 150.0378687254318, 131.14227687747885
Standard Deviation Values: 39.034037871541685, 35.03367006250163, 31.61978060465039
Object ID Field:
Fields:
None
Default Mosaic Method: Center
Allowed Mosaic Methods:
SortField:
SortValue: null
Mosaic Operator: First
Default Compression Quality: 75
Default Resampling Method: Bilinear
Max Record Count: null
Max Image Height: 4100
Max Image Width: 15000
Max Download Image Count: null
Max Mosaic Image Count: null
Allow Raster Function: true
Allow Copy: true
Allow Analysis: true
Allow Compute TiePoints: false
Supports Statistics: false
Supports Advanced Queries: false
Use StandardizedQueries: true
Raster Type Infos:
Name: Raster Dataset
Description: Supports all ArcGIS Raster Datasets
Help:
Has Raster Attribute Table: false
Edit Fields Info: null
Ownership Based AccessControl For Rasters: null
Child Resources:
Info
Histograms
Statistics
Key Properties
Legend
Raster Function Infos
Supported Operations:
Export Image
Identify
Compute Histograms
Compute Statistics Histograms
Get Samples
Compute Class Statistics
Query Boundary
Compute Pixel Location
Compute Angles
Validate
Project