View In:
ArcGIS JavaScript
ArcGIS Online Map Viewer
ArcGIS Earth
Service Description: Hosted/20140309_NGA_0m51_WV02_Damasak_Clip
Name: Hosted/20140309_NGA_0m51_WV02_Damasak_Clip
Description:
Single Fused Map Cache: true
Tile Info:
- Height: 256
- Width: 256
- DPI: 96
-
Levels of Detail: 7
-
Level ID: 0
[ Start Tile, End Tile ]
- Resolution: 32.06001335059924
- Scale: 121171.46165885685
-
Level ID: 1
[ Start Tile, End Tile ]
- Resolution: 16.03000667529962
- Scale: 60585.73082942842
-
Level ID: 2
[ Start Tile, End Tile ]
- Resolution: 8.01500333764981
- Scale: 30292.86541471421
-
Level ID: 3
[ Start Tile, End Tile ]
- Resolution: 4.007501668824905
- Scale: 15146.432707357106
-
Level ID: 4
[ Start Tile, End Tile ]
- Resolution: 2.0037508344124526
- Scale: 7573.216353678553
-
Level ID: 5
[ Start Tile, End Tile ]
- Resolution: 1.0018754172062263
- Scale: 3786.6081768392764
-
Level ID: 6
[ Start Tile, End Tile ]
- Resolution: 0.5009377086031132
- Scale: 1893.3040884196382
- Format: LERC2D
- Compression Quality: 100000.0
- LERC Error: 0.1
- Origin: X: 1383768.2848999985
Y: 1474766.4627000007
- Spatial Reference: 102100
(3857)
LatestVCSWkid(0)
Storage Info:
- Storage Format: esriMapCacheStorageModeCompactV2
- Packet Size: 16
Extent:
XMin: 1383768.2848999985
YMin: 1467772.370412484
XMax: 1398920.1477721168
YMax: 1474766.4627000007
Spatial Reference: 102100
(3857)
LatestVCSWkid(0)
Initial Extent:
XMin: 1383768.2848999985
YMin: 1467772.370412484
XMax: 1398920.1477721168
YMax: 1474766.4627000007
Spatial Reference: 102100
(3857)
LatestVCSWkid(0)
Full Extent:
XMin: 1383768.2848999985
YMin: 1467772.370412484
XMax: 1398920.1477721168
YMax: 1474766.4627000007
Spatial Reference: 102100
(3857)
LatestVCSWkid(0)
Pixel Size X: 0.5009377086031132
Pixel Size Y: 0.5009377086031147
Band Count: 3
Pixel Type: U8
RasterFunction Infos: {"rasterFunctionInfos": [{
"name": "None",
"description": "",
"help": ""
}]}
Mensuration Capabilities: Basic
Inspection Capabilities:
Has Histograms: true
Has Colormap: false
Has Multi Dimensions : false
Rendering Rule:
Min Scale: 0
Max Scale: 0
Copyright Text:
Service Data Type: esriImageServiceDataTypeRGB
Min Values: 1, 1, 1
Max Values: 255, 255, 255
Mean Values: 147.96289279640007, 138.0285680831469, 120.69665295803999
Standard Deviation Values: 43.67183927508403, 39.88253810628376, 37.136408346918074
Object ID Field:
Fields:
None
Default Mosaic Method: Center
Allowed Mosaic Methods:
SortField:
SortValue: null
Mosaic Operator: First
Default Compression Quality: 75
Default Resampling Method: Bilinear
Max Record Count: null
Max Image Height: 4100
Max Image Width: 15000
Max Download Image Count: null
Max Mosaic Image Count: null
Allow Raster Function: true
Allow Copy: true
Allow Analysis: true
Allow Compute TiePoints: false
Supports Statistics: false
Supports Advanced Queries: false
Use StandardizedQueries: true
Raster Type Infos:
Name: Raster Dataset
Description: Supports all ArcGIS Raster Datasets
Help:
Has Raster Attribute Table: false
Edit Fields Info: null
Ownership Based AccessControl For Rasters: null
Child Resources:
Info
Histograms
Statistics
Key Properties
Legend
Raster Function Infos
Supported Operations:
Export Image
Identify
Compute Histograms
Compute Statistics Histograms
Get Samples
Compute Class Statistics
Query Boundary
Compute Pixel Location
Compute Angles
Validate
Project