View In:
ArcGIS JavaScript
ArcGIS Online Map Viewer
ArcGIS Earth
Service Description: Hosted/20140415_NER_0m66_QB02_Ngagam_Clip
Name: Hosted/20140415_NER_0m66_QB02_Ngagam_Clip
Description:
Single Fused Map Cache: true
Tile Info:
- Height: 256
- Width: 256
- DPI: 96
-
Levels of Detail: 7
-
Level ID: 0
[ Start Tile, End Tile ]
- Resolution: 38.40000000000023
- Scale: 145133.56800000087
-
Level ID: 1
[ Start Tile, End Tile ]
- Resolution: 19.200000000000117
- Scale: 72566.78400000044
-
Level ID: 2
[ Start Tile, End Tile ]
- Resolution: 9.600000000000058
- Scale: 36283.39200000022
-
Level ID: 3
[ Start Tile, End Tile ]
- Resolution: 4.800000000000029
- Scale: 18141.69600000011
-
Level ID: 4
[ Start Tile, End Tile ]
- Resolution: 2.4000000000000146
- Scale: 9070.848000000055
-
Level ID: 5
[ Start Tile, End Tile ]
- Resolution: 1.2000000000000073
- Scale: 4535.424000000027
-
Level ID: 6
[ Start Tile, End Tile ]
- Resolution: 0.6000000000000036
- Scale: 2267.7120000000136
- Format: LERC2D
- Compression Quality: 100000.0
- LERC Error: 0.1
- Origin: X: 1424150.2481999993
Y: 1526133.1872000003
- Spatial Reference: 102100
(3857)
LatestVCSWkid(0)
Storage Info:
- Storage Format: esriMapCacheStorageModeCompactV2
- Packet Size: 16
Extent:
XMin: 1424150.2481999993
YMin: 1518914.5872000002
XMax: 1439558.8481999994
YMax: 1526133.1872000003
Spatial Reference: 102100
(3857)
LatestVCSWkid(0)
Initial Extent:
XMin: 1424150.2481999993
YMin: 1518914.5872000002
XMax: 1439558.8481999994
YMax: 1526133.1872000003
Spatial Reference: 102100
(3857)
LatestVCSWkid(0)
Full Extent:
XMin: 1424150.2481999993
YMin: 1518914.5872000002
XMax: 1439558.8481999994
YMax: 1526133.1872000003
Spatial Reference: 102100
(3857)
LatestVCSWkid(0)
Pixel Size X: 0.6000000000000036
Pixel Size Y: 0.6000000000000077
Band Count: 3
Pixel Type: U8
RasterFunction Infos: {"rasterFunctionInfos": [{
"name": "None",
"description": "",
"help": ""
}]}
Mensuration Capabilities: Basic
Inspection Capabilities:
Has Histograms: true
Has Colormap: false
Has Multi Dimensions : false
Rendering Rule:
Min Scale: 0
Max Scale: 0
Copyright Text:
Service Data Type: esriImageServiceDataTypeRGB
Min Values: 1, 1, 1
Max Values: 255, 255, 255
Mean Values: 171.96860145929335, 169.8800809208662, 150.39372178741044
Standard Deviation Values: 24.74959540919647, 23.84828203015847, 18.79474375360371
Object ID Field:
Fields:
None
Default Mosaic Method: Center
Allowed Mosaic Methods:
SortField:
SortValue: null
Mosaic Operator: First
Default Compression Quality: 75
Default Resampling Method: Bilinear
Max Record Count: null
Max Image Height: 4100
Max Image Width: 15000
Max Download Image Count: null
Max Mosaic Image Count: null
Allow Raster Function: true
Allow Copy: true
Allow Analysis: true
Allow Compute TiePoints: false
Supports Statistics: false
Supports Advanced Queries: false
Use StandardizedQueries: true
Raster Type Infos:
Name: Raster Dataset
Description: Supports all ArcGIS Raster Datasets
Help:
Has Raster Attribute Table: false
Edit Fields Info: null
Ownership Based AccessControl For Rasters: null
Child Resources:
Info
Histograms
Statistics
Key Properties
Legend
Raster Function Infos
Supported Operations:
Export Image
Identify
Compute Histograms
Compute Statistics Histograms
Get Samples
Compute Class Statistics
Query Boundary
Compute Pixel Location
Compute Angles
Validate
Project