View In:
ArcGIS JavaScript
ArcGIS Online Map Viewer
ArcGIS Earth
Service Description: Hosted/20141103_MLI_Doucombo_0m35_WV03_VNIR_Clip
Name: Hosted/20141103_MLI_Doucombo_0m35_WV03_VNIR_Clip
Description:
Single Fused Map Cache: true
Tile Info:
- Height: 256
- Width: 256
- DPI: 96
-
Levels of Detail: 6
-
Level ID: 0
[ Start Tile, End Tile ]
- Resolution: 11.635856534072953
- Scale: 43977.95248765941
-
Level ID: 1
[ Start Tile, End Tile ]
- Resolution: 5.817928267036477
- Scale: 21988.976243829704
-
Level ID: 2
[ Start Tile, End Tile ]
- Resolution: 2.9089641335182383
- Scale: 10994.488121914852
-
Level ID: 3
[ Start Tile, End Tile ]
- Resolution: 1.4544820667591192
- Scale: 5497.244060957426
-
Level ID: 4
[ Start Tile, End Tile ]
- Resolution: 0.7272410333795596
- Scale: 2748.622030478713
-
Level ID: 5
[ Start Tile, End Tile ]
- Resolution: 0.3636205166897798
- Scale: 1374.3110152393565
- Format: LERC2D
- Compression Quality: 100000.0
- LERC Error: 0.1
- Origin: X: -409229.39407005545
Y: 1615883.6365324412
- Spatial Reference: 102100
(3857)
LatestVCSWkid(0)
Storage Info:
- Storage Format: esriMapCacheStorageModeCompactV2
- Packet Size: 16
Extent:
XMin: -409229.39407005545
YMin: 1614134.98546768
XMax: -405407.74243964587
YMax: 1615883.6365324412
Spatial Reference: 102100
(3857)
LatestVCSWkid(0)
Initial Extent:
XMin: -409229.39407005545
YMin: 1614134.98546768
XMax: -405407.74243964587
YMax: 1615883.6365324412
Spatial Reference: 102100
(3857)
LatestVCSWkid(0)
Full Extent:
XMin: -409229.39407005545
YMin: 1614134.98546768
XMax: -405407.74243964587
YMax: 1615883.6365324412
Spatial Reference: 102100
(3857)
LatestVCSWkid(0)
Pixel Size X: 0.3636205166897798
Pixel Size Y: 0.3636205166897933
Band Count: 3
Pixel Type: U8
RasterFunction Infos: {"rasterFunctionInfos": [{
"name": "None",
"description": "",
"help": ""
}]}
Mensuration Capabilities: Basic
Inspection Capabilities:
Has Histograms: true
Has Colormap: false
Has Multi Dimensions : false
Rendering Rule:
Min Scale: 0
Max Scale: 0
Copyright Text:
Service Data Type: esriImageServiceDataTypeRGB
Min Values: 1, 1, 1
Max Values: 255, 255, 255
Mean Values: 185.3999628827891, 148.15267500141928, 113.62692103827655
Standard Deviation Values: 38.94614562276778, 27.205505916318536, 23.745452703115717
Object ID Field:
Fields:
None
Default Mosaic Method: Center
Allowed Mosaic Methods:
SortField:
SortValue: null
Mosaic Operator: First
Default Compression Quality: 75
Default Resampling Method: Bilinear
Max Record Count: null
Max Image Height: 4100
Max Image Width: 15000
Max Download Image Count: null
Max Mosaic Image Count: null
Allow Raster Function: true
Allow Copy: true
Allow Analysis: true
Allow Compute TiePoints: false
Supports Statistics: false
Supports Advanced Queries: false
Use StandardizedQueries: true
Raster Type Infos:
Name: Raster Dataset
Description: Supports all ArcGIS Raster Datasets
Help:
Has Raster Attribute Table: false
Edit Fields Info: null
Ownership Based AccessControl For Rasters: null
Child Resources:
Info
Histograms
Statistics
Key Properties
Legend
Raster Function Infos
Supported Operations:
Export Image
Identify
Compute Histograms
Compute Statistics Histograms
Get Samples
Compute Class Statistics
Query Boundary
Compute Pixel Location
Compute Angles
Validate
Project