View In:
ArcGIS JavaScript
ArcGIS Online Map Viewer
ArcGIS Earth
Service Description: Hosted/20141104_MLI_PignariB_0m33_WV03_VNIR
Name: Hosted/20141104_MLI_PignariB_0m33_WV03_VNIR
Description:
Single Fused Map Cache: true
Tile Info:
- Height: 256
- Width: 256
- DPI: 96
-
Levels of Detail: 7
-
Level ID: 0
[ Start Tile, End Tile ]
- Resolution: 21.45946637753358
- Scale: 81106.4823632157
-
Level ID: 1
[ Start Tile, End Tile ]
- Resolution: 10.72973318876679
- Scale: 40553.24118160785
-
Level ID: 2
[ Start Tile, End Tile ]
- Resolution: 5.364866594383395
- Scale: 20276.620590803926
-
Level ID: 3
[ Start Tile, End Tile ]
- Resolution: 2.6824332971916975
- Scale: 10138.310295401963
-
Level ID: 4
[ Start Tile, End Tile ]
- Resolution: 1.3412166485958488
- Scale: 5069.155147700982
-
Level ID: 5
[ Start Tile, End Tile ]
- Resolution: 0.6706083242979244
- Scale: 2534.577573850491
-
Level ID: 6
[ Start Tile, End Tile ]
- Resolution: 0.3353041621489622
- Scale: 1267.2887869252454
- Format: LERC2D
- Compression Quality: 100000.0
- LERC Error: 0.1
- Origin: X: -443277.46730000153
Y: 1632757.1269999985
- Spatial Reference: 102100
(3857)
LatestVCSWkid(0)
Storage Info:
- Storage Format: esriMapCacheStorageModeCompactV2
- Packet Size: 16
Extent:
XMin: -443277.46730000153
YMin: 1629259.9045887848
XMax: -435633.8736196538
YMax: 1632757.1269999985
Spatial Reference: 102100
(3857)
LatestVCSWkid(0)
Initial Extent:
XMin: -443277.46730000153
YMin: 1629259.9045887848
XMax: -435633.8736196538
YMax: 1632757.1269999985
Spatial Reference: 102100
(3857)
LatestVCSWkid(0)
Full Extent:
XMin: -443277.46730000153
YMin: 1629259.9045887848
XMax: -435633.8736196538
YMax: 1632757.1269999985
Spatial Reference: 102100
(3857)
LatestVCSWkid(0)
Pixel Size X: 0.33530416214896136
Pixel Size Y: 0.3353041621489622
Band Count: 3
Pixel Type: U8
RasterFunction Infos: {"rasterFunctionInfos": [{
"name": "None",
"description": "",
"help": ""
}]}
Mensuration Capabilities: Basic
Inspection Capabilities:
Has Histograms: true
Has Colormap: false
Has Multi Dimensions : false
Rendering Rule:
Min Scale: 0
Max Scale: 0
Copyright Text:
Service Data Type: esriImageServiceDataTypeRGB
Min Values: 1, 1, 1
Max Values: 255, 255, 255
Mean Values: 160.91912328566147, 138.08337054136612, 116.77002693614804
Standard Deviation Values: 50.273836822556966, 36.91976236626154, 32.36454839615317
Object ID Field:
Fields:
None
Default Mosaic Method: Center
Allowed Mosaic Methods:
SortField:
SortValue: null
Mosaic Operator: First
Default Compression Quality: 75
Default Resampling Method: Bilinear
Max Record Count: null
Max Image Height: 4100
Max Image Width: 15000
Max Download Image Count: null
Max Mosaic Image Count: null
Allow Raster Function: true
Allow Copy: true
Allow Analysis: true
Allow Compute TiePoints: false
Supports Statistics: false
Supports Advanced Queries: false
Use StandardizedQueries: true
Raster Type Infos:
Name: Raster Dataset
Description: Supports all ArcGIS Raster Datasets
Help:
Has Raster Attribute Table: false
Edit Fields Info: null
Ownership Based AccessControl For Rasters: null
Child Resources:
Info
Histograms
Statistics
Key Properties
Legend
Raster Function Infos
Supported Operations:
Export Image
Identify
Compute Histograms
Compute Statistics Histograms
Get Samples
Compute Class Statistics
Query Boundary
Compute Pixel Location
Compute Angles
Validate
Project