View In:
ArcGIS JavaScript
ArcGIS Online Map Viewer
ArcGIS Earth
Service Description: Hosted/20141122_MLI_Bandiagara_0m37_WV03_VNIR
Name: Hosted/20141122_MLI_Bandiagara_0m37_WV03_VNIR
Description:
Single Fused Map Cache: true
Tile Info:
- Height: 256
- Width: 256
- DPI: 96
-
Levels of Detail: 8
-
Level ID: 0
[ Start Tile, End Tile ]
- Resolution: 48.07582948848104
- Scale: 181703.55906830385
-
Level ID: 1
[ Start Tile, End Tile ]
- Resolution: 24.03791474424052
- Scale: 90851.77953415192
-
Level ID: 2
[ Start Tile, End Tile ]
- Resolution: 12.01895737212026
- Scale: 45425.88976707596
-
Level ID: 3
[ Start Tile, End Tile ]
- Resolution: 6.00947868606013
- Scale: 22712.94488353798
-
Level ID: 4
[ Start Tile, End Tile ]
- Resolution: 3.004739343030065
- Scale: 11356.47244176899
-
Level ID: 5
[ Start Tile, End Tile ]
- Resolution: 1.5023696715150325
- Scale: 5678.236220884495
-
Level ID: 6
[ Start Tile, End Tile ]
- Resolution: 0.7511848357575163
- Scale: 2839.1181104422476
-
Level ID: 7
[ Start Tile, End Tile ]
- Resolution: 0.37559241787875813
- Scale: 1419.5590552211238
- Format: LERC2D
- Compression Quality: 100000.0
- LERC Error: 0.1
- Origin: X: -406898.7971000001
Y: 1618343.9730000007
- Spatial Reference: 102100
(3857)
LatestVCSWkid(0)
Storage Info:
- Storage Format: esriMapCacheStorageModeCompactV2
- Packet Size: 16
Extent:
XMin: -406898.7971000001
YMin: 1611349.6909942625
XMax: -394329.22124326957
YMax: 1618343.9730000007
Spatial Reference: 102100
(3857)
LatestVCSWkid(0)
Initial Extent:
XMin: -406898.7971000001
YMin: 1611349.6909942625
XMax: -394329.22124326957
YMax: 1618343.9730000007
Spatial Reference: 102100
(3857)
LatestVCSWkid(0)
Full Extent:
XMin: -406898.7971000001
YMin: 1611349.6909942625
XMax: -394329.22124326957
YMax: 1618343.9730000007
Spatial Reference: 102100
(3857)
LatestVCSWkid(0)
Pixel Size X: 0.375592417878758
Pixel Size Y: 0.37559241787875813
Band Count: 3
Pixel Type: U8
RasterFunction Infos: {"rasterFunctionInfos": [{
"name": "None",
"description": "",
"help": ""
}]}
Mensuration Capabilities: Basic
Inspection Capabilities:
Has Histograms: true
Has Colormap: false
Has Multi Dimensions : false
Rendering Rule:
Min Scale: 0
Max Scale: 0
Copyright Text:
Service Data Type: esriImageServiceDataTypeRGB
Min Values: 1, 1, 1
Max Values: 255, 255, 255
Mean Values: 182.12249135485186, 159.97192387082185, 157.58602585136654
Standard Deviation Values: 33.20652991195145, 30.588009763076407, 33.85962474042662
Object ID Field:
Fields:
None
Default Mosaic Method: Center
Allowed Mosaic Methods:
SortField:
SortValue: null
Mosaic Operator: First
Default Compression Quality: 75
Default Resampling Method: Bilinear
Max Record Count: null
Max Image Height: 4100
Max Image Width: 15000
Max Download Image Count: null
Max Mosaic Image Count: null
Allow Raster Function: true
Allow Copy: true
Allow Analysis: true
Allow Compute TiePoints: false
Supports Statistics: false
Supports Advanced Queries: false
Use StandardizedQueries: true
Raster Type Infos:
Name: Raster Dataset
Description: Supports all ArcGIS Raster Datasets
Help:
Has Raster Attribute Table: false
Edit Fields Info: null
Ownership Based AccessControl For Rasters: null
Child Resources:
Info
Histograms
Statistics
Key Properties
Legend
Raster Function Infos
Supported Operations:
Export Image
Identify
Compute Histograms
Compute Statistics Histograms
Get Samples
Compute Class Statistics
Query Boundary
Compute Pixel Location
Compute Angles
Validate
Project