View In:
ArcGIS JavaScript
ArcGIS Online Map Viewer
ArcGIS Earth
Service Description: Hosted/20141122_MLI_Dandoli_0m37_WV03_VNIR
Name: Hosted/20141122_MLI_Dandoli_0m37_WV03_VNIR
Description:
Single Fused Map Cache: true
Tile Info:
- Height: 256
- Width: 256
- DPI: 96
-
Levels of Detail: 6
-
Level ID: 0
[ Start Tile, End Tile ]
- Resolution: 12.250878632173043
- Scale: 46302.440807870655
-
Level ID: 1
[ Start Tile, End Tile ]
- Resolution: 6.1254393160865215
- Scale: 23151.220403935327
-
Level ID: 2
[ Start Tile, End Tile ]
- Resolution: 3.0627196580432607
- Scale: 11575.610201967664
-
Level ID: 3
[ Start Tile, End Tile ]
- Resolution: 1.5313598290216304
- Scale: 5787.805100983832
-
Level ID: 4
[ Start Tile, End Tile ]
- Resolution: 0.7656799145108152
- Scale: 2893.902550491916
-
Level ID: 5
[ Start Tile, End Tile ]
- Resolution: 0.3828399572554076
- Scale: 1446.951275245958
- Format: LERC2D
- Compression Quality: 100000.0
- LERC Error: 0.1
- Origin: X: -396454.9475601797
Y: 1620787.292973981
- Spatial Reference: 102100
(3857)
LatestVCSWkid(0)
Storage Info:
- Storage Format: esriMapCacheStorageModeCompactV2
- Packet Size: 16
Extent:
XMin: -396454.9475601797
YMin: 1619038.8628891956
XMax: -392633.05626689893
YMax: 1620787.292973981
Spatial Reference: 102100
(3857)
LatestVCSWkid(0)
Initial Extent:
XMin: -396454.9475601797
YMin: 1619038.8628891956
XMax: -392633.05626689893
YMax: 1620787.292973981
Spatial Reference: 102100
(3857)
LatestVCSWkid(0)
Full Extent:
XMin: -396454.9475601797
YMin: 1619038.8628891956
XMax: -392633.05626689893
YMax: 1620787.292973981
Spatial Reference: 102100
(3857)
LatestVCSWkid(0)
Pixel Size X: 0.38283995725541
Pixel Size Y: 0.3828399572554076
Band Count: 3
Pixel Type: U8
RasterFunction Infos: {"rasterFunctionInfos": [{
"name": "None",
"description": "",
"help": ""
}]}
Mensuration Capabilities: Basic
Inspection Capabilities:
Has Histograms: true
Has Colormap: false
Has Multi Dimensions : false
Rendering Rule:
Min Scale: 0
Max Scale: 0
Copyright Text:
Service Data Type: esriImageServiceDataTypeRGB
Min Values: 1, 1, 1
Max Values: 255, 255, 255
Mean Values: 194.16291747396693, 151.14537542960528, 131.64038025783273
Standard Deviation Values: 39.018678678080214, 32.980039669243, 30.018629070440323
Object ID Field:
Fields:
None
Default Mosaic Method: Center
Allowed Mosaic Methods:
SortField:
SortValue: null
Mosaic Operator: First
Default Compression Quality: 75
Default Resampling Method: Bilinear
Max Record Count: null
Max Image Height: 4100
Max Image Width: 15000
Max Download Image Count: null
Max Mosaic Image Count: null
Allow Raster Function: true
Allow Copy: true
Allow Analysis: true
Allow Compute TiePoints: false
Supports Statistics: false
Supports Advanced Queries: false
Use StandardizedQueries: true
Raster Type Infos:
Name: Raster Dataset
Description: Supports all ArcGIS Raster Datasets
Help:
Has Raster Attribute Table: false
Edit Fields Info: null
Ownership Based AccessControl For Rasters: null
Child Resources:
Info
Histograms
Statistics
Key Properties
Legend
Raster Function Infos
Supported Operations:
Export Image
Identify
Compute Histograms
Compute Statistics Histograms
Get Samples
Compute Class Statistics
Query Boundary
Compute Pixel Location
Compute Angles
Validate
Project