View In:
ArcGIS JavaScript
ArcGIS Online Map Viewer
ArcGIS Earth
Service Description: Hosted/20160316_NER_0m55_WV02_Chetimari_Clip
Name: Hosted/20160316_NER_0m55_WV02_Chetimari_Clip
Description:
Single Fused Map Cache: true
Tile Info:
- Height: 256
- Width: 256
- DPI: 96
-
Levels of Detail: 7
-
Level ID: 0
[ Start Tile, End Tile ]
- Resolution: 32.06001335059931
- Scale: 121171.46165885711
-
Level ID: 1
[ Start Tile, End Tile ]
- Resolution: 16.030006675299656
- Scale: 60585.730829428554
-
Level ID: 2
[ Start Tile, End Tile ]
- Resolution: 8.015003337649828
- Scale: 30292.865414714277
-
Level ID: 3
[ Start Tile, End Tile ]
- Resolution: 4.007501668824914
- Scale: 15146.432707357138
-
Level ID: 4
[ Start Tile, End Tile ]
- Resolution: 2.003750834412457
- Scale: 7573.216353678569
-
Level ID: 5
[ Start Tile, End Tile ]
- Resolution: 1.0018754172062285
- Scale: 3786.6081768392846
-
Level ID: 6
[ Start Tile, End Tile ]
- Resolution: 0.5009377086031143
- Scale: 1893.3040884196423
- Format: LERC2D
- Compression Quality: 100000.0
- LERC Error: 0.1
- Origin: X: 1375538.8801999986
Y: 1484388.2077999986
- Spatial Reference: 102100
(3857)
LatestVCSWkid(0)
Storage Info:
- Storage Format: esriMapCacheStorageModeCompactV2
- Packet Size: 16
Extent:
XMin: 1375538.8801999986
YMin: 1477394.115512482
XMax: 1390408.7151421735
YMax: 1484388.2077999986
Spatial Reference: 102100
(3857)
LatestVCSWkid(0)
Initial Extent:
XMin: 1375538.8801999986
YMin: 1477394.115512482
XMax: 1390408.7151421735
YMax: 1484388.2077999986
Spatial Reference: 102100
(3857)
LatestVCSWkid(0)
Full Extent:
XMin: 1375538.8801999986
YMin: 1477394.115512482
XMax: 1390408.7151421735
YMax: 1484388.2077999986
Spatial Reference: 102100
(3857)
LatestVCSWkid(0)
Pixel Size X: 0.5009377086031143
Pixel Size Y: 0.5009377086031147
Band Count: 3
Pixel Type: U8
RasterFunction Infos: {"rasterFunctionInfos": [{
"name": "None",
"description": "",
"help": ""
}]}
Mensuration Capabilities: Basic
Inspection Capabilities:
Has Histograms: true
Has Colormap: false
Has Multi Dimensions : false
Rendering Rule:
Min Scale: 0
Max Scale: 0
Copyright Text:
Service Data Type: esriImageServiceDataTypeRGB
Min Values: 1, 1, 1
Max Values: 255, 255, 255
Mean Values: 206.88946561929725, 184.60302308768195, 166.6323615854109
Standard Deviation Values: 22.5369087345393, 19.92414018898612, 20.38714575367446
Object ID Field:
Fields:
None
Default Mosaic Method: Center
Allowed Mosaic Methods:
SortField:
SortValue: null
Mosaic Operator: First
Default Compression Quality: 75
Default Resampling Method: Bilinear
Max Record Count: null
Max Image Height: 4100
Max Image Width: 15000
Max Download Image Count: null
Max Mosaic Image Count: null
Allow Raster Function: true
Allow Copy: true
Allow Analysis: true
Allow Compute TiePoints: false
Supports Statistics: false
Supports Advanced Queries: false
Use StandardizedQueries: true
Raster Type Infos:
Name: Raster Dataset
Description: Supports all ArcGIS Raster Datasets
Help:
Has Raster Attribute Table: false
Edit Fields Info: null
Ownership Based AccessControl For Rasters: null
Child Resources:
Info
Histograms
Statistics
Key Properties
Legend
Raster Function Infos
Supported Operations:
Export Image
Identify
Compute Histograms
Compute Statistics Histograms
Get Samples
Compute Class Statistics
Query Boundary
Compute Pixel Location
Compute Angles
Validate
Project