View In:
ArcGIS JavaScript
ArcGIS Online Map Viewer
ArcGIS Earth
Service Description: Hosted/20170101_NGA_0m38_WV02_Damasak_Clip
Name: Hosted/20170101_NGA_0m38_WV02_Damasak_Clip
Description:
Single Fused Map Cache: true
Tile Info:
- Height: 256
- Width: 256
- DPI: 96
-
Levels of Detail: 8
-
Level ID: 0
[ Start Tile, End Tile ]
- Resolution: 49.35022201801399
- Scale: 186520.15112152422
-
Level ID: 1
[ Start Tile, End Tile ]
- Resolution: 24.675111009006994
- Scale: 93260.07556076211
-
Level ID: 2
[ Start Tile, End Tile ]
- Resolution: 12.337555504503497
- Scale: 46630.037780381055
-
Level ID: 3
[ Start Tile, End Tile ]
- Resolution: 6.168777752251748
- Scale: 23315.018890190528
-
Level ID: 4
[ Start Tile, End Tile ]
- Resolution: 3.084388876125874
- Scale: 11657.509445095264
-
Level ID: 5
[ Start Tile, End Tile ]
- Resolution: 1.542194438062937
- Scale: 5828.754722547632
-
Level ID: 6
[ Start Tile, End Tile ]
- Resolution: 0.7710972190314686
- Scale: 2914.377361273816
-
Level ID: 7
[ Start Tile, End Tile ]
- Resolution: 0.3855486095157343
- Scale: 1457.188680636908
- Format: LERC2D
- Compression Quality: 100000.0
- LERC Error: 0.1
- Origin: X: 1385542.9536999986
Y: 1474424.7508000007
- Spatial Reference: 102100
(3857)
LatestVCSWkid(0)
Storage Info:
- Storage Format: esriMapCacheStorageModeCompactV2
- Packet Size: 16
Extent:
XMin: 1385542.9536999986
YMin: 1467772.4950914162
XMax: 1399055.661366306
YMax: 1474424.7508000007
Spatial Reference: 102100
(3857)
LatestVCSWkid(0)
Initial Extent:
XMin: 1385542.9536999986
YMin: 1467772.4950914162
XMax: 1399055.661366306
YMax: 1474424.7508000007
Spatial Reference: 102100
(3857)
LatestVCSWkid(0)
Full Extent:
XMin: 1385542.9536999986
YMin: 1467772.4950914162
XMax: 1399055.661366306
YMax: 1474424.7508000007
Spatial Reference: 102100
(3857)
LatestVCSWkid(0)
Pixel Size X: 0.3855486095157343
Pixel Size Y: 0.38554860951573905
Band Count: 3
Pixel Type: U8
RasterFunction Infos: {"rasterFunctionInfos": [{
"name": "None",
"description": "",
"help": ""
}]}
Mensuration Capabilities: Basic
Inspection Capabilities:
Has Histograms: true
Has Colormap: false
Has Multi Dimensions : false
Rendering Rule:
Min Scale: 0
Max Scale: 0
Copyright Text:
Service Data Type: esriImageServiceDataTypeRGB
Min Values: 1, 1, 1
Max Values: 255, 255, 255
Mean Values: 150.67007913135487, 150.79382977359668, 140.67194368754815
Standard Deviation Values: 42.52561621821551, 40.453155144312014, 41.508833582844254
Object ID Field:
Fields:
None
Default Mosaic Method: Center
Allowed Mosaic Methods:
SortField:
SortValue: null
Mosaic Operator: First
Default Compression Quality: 75
Default Resampling Method: Bilinear
Max Record Count: null
Max Image Height: 4100
Max Image Width: 15000
Max Download Image Count: null
Max Mosaic Image Count: null
Allow Raster Function: true
Allow Copy: true
Allow Analysis: true
Allow Compute TiePoints: false
Supports Statistics: false
Supports Advanced Queries: false
Use StandardizedQueries: true
Raster Type Infos:
Name: Raster Dataset
Description: Supports all ArcGIS Raster Datasets
Help:
Has Raster Attribute Table: false
Edit Fields Info: null
Ownership Based AccessControl For Rasters: null
Child Resources:
Info
Histograms
Statistics
Key Properties
Legend
Raster Function Infos
Supported Operations:
Export Image
Identify
Compute Histograms
Compute Statistics Histograms
Get Samples
Compute Class Statistics
Query Boundary
Compute Pixel Location
Compute Angles
Validate
Project