View In:
ArcGIS JavaScript
ArcGIS Online Map Viewer
ArcGIS Earth
Service Description: Hosted/20170204_UNDP_0m52_WV02_Mokolo_Cameroon
Name: Hosted/20170204_UNDP_0m52_WV02_Mokolo_Cameroon
Description:
Single Fused Map Cache: true
Tile Info:
- Height: 256
- Width: 256
- DPI: 96
-
Levels of Detail: 9
-
Level ID: 0
[ Start Tile, End Tile ]
- Resolution: 128.24005335707795
- Scale: 484685.84646414325
-
Level ID: 1
[ Start Tile, End Tile ]
- Resolution: 64.12002667853898
- Scale: 242342.92323207163
-
Level ID: 2
[ Start Tile, End Tile ]
- Resolution: 32.06001333926949
- Scale: 121171.46161603581
-
Level ID: 3
[ Start Tile, End Tile ]
- Resolution: 16.030006669634744
- Scale: 60585.73080801791
-
Level ID: 4
[ Start Tile, End Tile ]
- Resolution: 8.015003334817372
- Scale: 30292.865404008953
-
Level ID: 5
[ Start Tile, End Tile ]
- Resolution: 4.007501667408686
- Scale: 15146.432702004477
-
Level ID: 6
[ Start Tile, End Tile ]
- Resolution: 2.003750833704343
- Scale: 7573.216351002238
-
Level ID: 7
[ Start Tile, End Tile ]
- Resolution: 1.0018754168521715
- Scale: 3786.608175501119
-
Level ID: 8
[ Start Tile, End Tile ]
- Resolution: 0.5009377084260858
- Scale: 1893.3040877505596
- Format: LERC2D
- Compression Quality: 100000.0
- LERC Error: 0.1
- Origin: X: 1528250.2415999994
Y: 1234628.1297999986
- Spatial Reference: 102100
(3857)
LatestVCSWkid(0)
Storage Info:
- Storage Format: esriMapCacheStorageModeCompactV2
- Packet Size: 16
Extent:
XMin: 1528250.2415999994
YMin: 1115542.7130644075
XMax: 1546823.5090153133
YMax: 1234628.1297999986
Spatial Reference: 102100
(3857)
LatestVCSWkid(0)
Initial Extent:
XMin: 1528250.2415999994
YMin: 1115542.7130644075
XMax: 1546823.5090153133
YMax: 1234628.1297999986
Spatial Reference: 102100
(3857)
LatestVCSWkid(0)
Full Extent:
XMin: 1528250.2415999994
YMin: 1115542.7130644075
XMax: 1546823.5090153133
YMax: 1234628.1297999986
Spatial Reference: 102100
(3857)
LatestVCSWkid(0)
Pixel Size X: 0.5009377084260858
Pixel Size Y: 0.5009377084260853
Band Count: 3
Pixel Type: U8
RasterFunction Infos: {"rasterFunctionInfos": [{
"name": "None",
"description": "",
"help": ""
}]}
Mensuration Capabilities: Basic
Inspection Capabilities:
Has Histograms: true
Has Colormap: false
Has Multi Dimensions : false
Rendering Rule:
Min Scale: 0
Max Scale: 0
Copyright Text:
Service Data Type: esriImageServiceDataTypeRGB
Min Values: 1, 1, 1
Max Values: 255, 255, 255
Mean Values: 141.39094562121815, 128.43993996083094, 123.83110444354762
Standard Deviation Values: 19.39173154239492, 17.918135183230184, 15.726497773493797
Object ID Field:
Fields:
None
Default Mosaic Method: Center
Allowed Mosaic Methods:
SortField:
SortValue: null
Mosaic Operator: First
Default Compression Quality: 75
Default Resampling Method: Bilinear
Max Record Count: null
Max Image Height: 4100
Max Image Width: 15000
Max Download Image Count: null
Max Mosaic Image Count: null
Allow Raster Function: true
Allow Copy: true
Allow Analysis: true
Allow Compute TiePoints: false
Supports Statistics: false
Supports Advanced Queries: false
Use StandardizedQueries: true
Raster Type Infos:
Name: Raster Dataset
Description: Supports all ArcGIS Raster Datasets
Help:
Has Raster Attribute Table: false
Edit Fields Info: null
Ownership Based AccessControl For Rasters: null
Child Resources:
Info
Histograms
Statistics
Key Properties
Legend
Raster Function Infos
Supported Operations:
Export Image
Identify
Compute Histograms
Compute Statistics Histograms
Get Samples
Compute Class Statistics
Query Boundary
Compute Pixel Location
Compute Angles
Validate
Project