View In:
ArcGIS JavaScript
ArcGIS Online Map Viewer
ArcGIS Earth
Service Description: Hosted/20170217_MLI_0m31_WV03_VNIR_PignariB
Name: Hosted/20170217_MLI_0m31_WV03_VNIR_PignariB
Description:
Single Fused Map Cache: true
Tile Info:
- Height: 256
- Width: 256
- DPI: 96
-
Levels of Detail: 7
-
Level ID: 1
[ Start Tile, End Tile ]
- Resolution: 9.992884059760366
- Scale: 37768.3051615455
-
Level ID: 2
[ Start Tile, End Tile ]
- Resolution: 4.996442029880183
- Scale: 18884.15258077275
-
Level ID: 3
[ Start Tile, End Tile ]
- Resolution: 2.4982210149400914
- Scale: 9442.076290386374
-
Level ID: 4
[ Start Tile, End Tile ]
- Resolution: 1.2491105074700457
- Scale: 4721.038145193187
-
Level ID: 5
[ Start Tile, End Tile ]
- Resolution: 0.6245552537350229
- Scale: 2360.5190725965936
-
Level ID: 6
[ Start Tile, End Tile ]
- Resolution: 0.3122776268675114
- Scale: 1180.2595362982968
- Format: LERC2D
- Compression Quality: 100000.0
- LERC Error: 0.1
- Origin: X: -443036.3883999996
Y: 1632752.2517000004
- Spatial Reference: 102100
(3857)
LatestVCSWkid(0)
Storage Info:
- Storage Format: esriMapCacheStorageModeCompactV2
- Packet Size: 16
Extent:
XMin: -443036.3883999996
YMin: 1629255.054556711
XMax: -435638.5314195082
YMax: 1632752.2517000004
Spatial Reference: 102100
(3857)
LatestVCSWkid(0)
Initial Extent:
XMin: -443036.3883999996
YMin: 1629255.054556711
XMax: -435638.5314195082
YMax: 1632752.2517000004
Spatial Reference: 102100
(3857)
LatestVCSWkid(0)
Full Extent:
XMin: -443036.3883999996
YMin: 1629255.054556711
XMax: -435638.5314195082
YMax: 1632752.2517000004
Spatial Reference: 102100
(3857)
LatestVCSWkid(0)
Pixel Size X: 0.31227762686751254
Pixel Size Y: 0.3122776268675114
Band Count: 3
Pixel Type: U8
RasterFunction Infos: {"rasterFunctionInfos": [{
"name": "None",
"description": "",
"help": ""
}]}
Mensuration Capabilities: Basic
Inspection Capabilities:
Has Histograms: true
Has Colormap: false
Has Multi Dimensions : false
Rendering Rule:
Min Scale: 0
Max Scale: 0
Copyright Text:
Service Data Type: esriImageServiceDataTypeRGB
Min Values: 1, 1, 1
Max Values: 255, 255, 255
Mean Values: 177.30062341729376, 157.0784346189127, 132.96617312539885
Standard Deviation Values: 42.74247334878506, 30.275397312067682, 25.4355564559284
Object ID Field:
Fields:
None
Default Mosaic Method: Center
Allowed Mosaic Methods:
SortField:
SortValue: null
Mosaic Operator: First
Default Compression Quality: 75
Default Resampling Method: Bilinear
Max Record Count: null
Max Image Height: 4100
Max Image Width: 15000
Max Download Image Count: null
Max Mosaic Image Count: null
Allow Raster Function: true
Allow Copy: true
Allow Analysis: true
Allow Compute TiePoints: false
Supports Statistics: false
Supports Advanced Queries: false
Use StandardizedQueries: true
Raster Type Infos:
Name: Raster Dataset
Description: Supports all ArcGIS Raster Datasets
Help:
Has Raster Attribute Table: false
Edit Fields Info: null
Ownership Based AccessControl For Rasters: null
Child Resources:
Info
Histograms
Statistics
Key Properties
Legend
Raster Function Infos
Supported Operations:
Export Image
Identify
Compute Histograms
Compute Statistics Histograms
Get Samples
Compute Class Statistics
Query Boundary
Compute Pixel Location
Compute Angles
Validate
Project