View In:
ArcGIS JavaScript
ArcGIS Online Map Viewer
ArcGIS Earth
Service Description: Hosted/20170217_MLI_0m36_WV03_VNIR_Doucombo
Name: Hosted/20170217_MLI_0m36_WV03_VNIR_Doucombo
Description:
Single Fused Map Cache: true
Tile Info:
- Height: 256
- Width: 256
- DPI: 96
-
Levels of Detail: 6
-
Level ID: 0
[ Start Tile, End Tile ]
- Resolution: 11.741296465557307
- Scale: 44376.46481750315
-
Level ID: 1
[ Start Tile, End Tile ]
- Resolution: 5.870648232778653
- Scale: 22188.232408751574
-
Level ID: 2
[ Start Tile, End Tile ]
- Resolution: 2.9353241163893267
- Scale: 11094.116204375787
-
Level ID: 3
[ Start Tile, End Tile ]
- Resolution: 1.4676620581946633
- Scale: 5547.058102187893
-
Level ID: 4
[ Start Tile, End Tile ]
- Resolution: 0.7338310290973317
- Scale: 2773.5290510939467
-
Level ID: 5
[ Start Tile, End Tile ]
- Resolution: 0.36691551454866583
- Scale: 1386.7645255469733
- Format: LERC2D
- Compression Quality: 100000.0
- LERC Error: 0.1
- Origin: X: -409069.4348071194
Y: 1615936.0986990673
- Spatial Reference: 102100
(3857)
LatestVCSWkid(0)
Storage Info:
- Storage Format: esriMapCacheStorageModeCompactV2
- Packet Size: 16
Extent:
XMin: -409069.4348071194
YMin: 1614187.7462722429
XMax: -405247.27589206595
YMax: 1615936.0986990673
Spatial Reference: 102100
(3857)
LatestVCSWkid(0)
Initial Extent:
XMin: -409069.4348071194
YMin: 1614187.7462722429
XMax: -405247.27589206595
YMax: 1615936.0986990673
Spatial Reference: 102100
(3857)
LatestVCSWkid(0)
Full Extent:
XMin: -409069.4348071194
YMin: 1614187.7462722429
XMax: -405247.27589206595
YMax: 1615936.0986990673
Spatial Reference: 102100
(3857)
LatestVCSWkid(0)
Pixel Size X: 0.36691551454866767
Pixel Size Y: 0.36691551454866583
Band Count: 3
Pixel Type: U8
RasterFunction Infos: {"rasterFunctionInfos": [{
"name": "None",
"description": "",
"help": ""
}]}
Mensuration Capabilities: Basic
Inspection Capabilities:
Has Histograms: true
Has Colormap: false
Has Multi Dimensions : false
Rendering Rule:
Min Scale: 0
Max Scale: 0
Copyright Text:
Service Data Type: esriImageServiceDataTypeRGB
Min Values: 1, 1, 1
Max Values: 255, 255, 255
Mean Values: 220.899895511466, 179.69938491593388, 143.1984711751883
Standard Deviation Values: 28.349000489863712, 25.688416545986648, 23.895029828128628
Object ID Field:
Fields:
None
Default Mosaic Method: Center
Allowed Mosaic Methods:
SortField:
SortValue: null
Mosaic Operator: First
Default Compression Quality: 75
Default Resampling Method: Bilinear
Max Record Count: null
Max Image Height: 4100
Max Image Width: 15000
Max Download Image Count: null
Max Mosaic Image Count: null
Allow Raster Function: true
Allow Copy: true
Allow Analysis: true
Allow Compute TiePoints: false
Supports Statistics: false
Supports Advanced Queries: false
Use StandardizedQueries: true
Raster Type Infos:
Name: Raster Dataset
Description: Supports all ArcGIS Raster Datasets
Help:
Has Raster Attribute Table: false
Edit Fields Info: null
Ownership Based AccessControl For Rasters: null
Child Resources:
Info
Histograms
Statistics
Key Properties
Legend
Raster Function Infos
Supported Operations:
Export Image
Identify
Compute Histograms
Compute Statistics Histograms
Get Samples
Compute Class Statistics
Query Boundary
Compute Pixel Location
Compute Angles
Validate
Project