View In:
ArcGIS JavaScript
ArcGIS Online Map Viewer
ArcGIS Earth
Service Description: Hosted/20180210_MLI_0m44_GE01_Bandiagara
Name: Hosted/20180210_MLI_0m44_GE01_Bandiagara
Description:
Single Fused Map Cache: true
Tile Info:
- Height: 256
- Width: 256
- DPI: 96
-
Levels of Detail: 7
-
Level ID: 0
[ Start Tile, End Tile ]
- Resolution: 28.239451806745418
- Scale: 106731.57289263043
-
Level ID: 1
[ Start Tile, End Tile ]
- Resolution: 14.119725903372709
- Scale: 53365.786446315215
-
Level ID: 2
[ Start Tile, End Tile ]
- Resolution: 7.0598629516863545
- Scale: 26682.893223157607
-
Level ID: 3
[ Start Tile, End Tile ]
- Resolution: 3.5299314758431772
- Scale: 13341.446611578804
-
Level ID: 4
[ Start Tile, End Tile ]
- Resolution: 1.7649657379215886
- Scale: 6670.723305789402
-
Level ID: 5
[ Start Tile, End Tile ]
- Resolution: 0.8824828689607943
- Scale: 3335.361652894701
-
Level ID: 6
[ Start Tile, End Tile ]
- Resolution: 0.44124143448039715
- Scale: 1667.6808264473505
- Format: LERC2D
- Compression Quality: 100000.0
- LERC Error: 0.1
- Origin: X: -409616.3372000009
Y: 1618343.8311000017
- Spatial Reference: 102100
(3857)
LatestVCSWkid(0)
Storage Info:
- Storage Format: esriMapCacheStorageModeCompactV2
- Packet Size: 16
Extent:
XMin: -409616.3372000009
YMin: 1611349.7131220528
XMax: -394329.08646099304
YMax: 1618343.8311000017
Spatial Reference: 102100
(3857)
LatestVCSWkid(0)
Initial Extent:
XMin: -409616.3372000009
YMin: 1611349.7131220528
XMax: -394329.08646099304
YMax: 1618343.8311000017
Spatial Reference: 102100
(3857)
LatestVCSWkid(0)
Full Extent:
XMin: -409616.3372000009
YMin: 1611349.7131220528
XMax: -394329.08646099304
YMax: 1618343.8311000017
Spatial Reference: 102100
(3857)
LatestVCSWkid(0)
Pixel Size X: 0.44124143448039715
Pixel Size Y: 0.4412414344804025
Band Count: 3
Pixel Type: U8
RasterFunction Infos: {"rasterFunctionInfos": [{
"name": "None",
"description": "",
"help": ""
}]}
Mensuration Capabilities: Basic
Inspection Capabilities:
Has Histograms: true
Has Colormap: false
Has Multi Dimensions : false
Rendering Rule:
Min Scale: 0
Max Scale: 0
Copyright Text:
Service Data Type: esriImageServiceDataTypeRGB
Min Values: 1, 1, 1
Max Values: 255, 255, 255
Mean Values: 204.47526505209143, 167.2825980887294, 129.15707285103906
Standard Deviation Values: 34.062211403280735, 26.178924881913016, 21.173844455350547
Object ID Field:
Fields:
None
Default Mosaic Method: Center
Allowed Mosaic Methods:
SortField:
SortValue: null
Mosaic Operator: First
Default Compression Quality: 75
Default Resampling Method: Bilinear
Max Record Count: null
Max Image Height: 4100
Max Image Width: 15000
Max Download Image Count: null
Max Mosaic Image Count: null
Allow Raster Function: true
Allow Copy: true
Allow Analysis: true
Allow Compute TiePoints: false
Supports Statistics: false
Supports Advanced Queries: false
Use StandardizedQueries: true
Raster Type Infos:
Name: Raster Dataset
Description: Supports all ArcGIS Raster Datasets
Help:
Has Raster Attribute Table: false
Edit Fields Info: null
Ownership Based AccessControl For Rasters: null
Child Resources:
Info
Histograms
Statistics
Key Properties
Legend
Raster Function Infos
Supported Operations:
Export Image
Identify
Compute Histograms
Compute Statistics Histograms
Get Samples
Compute Class Statistics
Query Boundary
Compute Pixel Location
Compute Angles
Validate
Project