View In:
ArcGIS JavaScript
ArcGIS Online Map Viewer
ArcGIS Earth
Service Description: Hosted/20190427_NER_0m48_WV02_Boula_Clip
Name: Hosted/20190427_NER_0m48_WV02_Boula_Clip
Description:
Single Fused Map Cache: true
Tile Info:
- Height: 256
- Width: 256
- DPI: 96
-
Levels of Detail: 5
-
Level ID: 0
[ Start Tile, End Tile ]
- Resolution: 7.866096561738193
- Scale: 29730.06927702073
-
Level ID: 1
[ Start Tile, End Tile ]
- Resolution: 3.9330482808690963
- Scale: 14865.034638510366
-
Level ID: 2
[ Start Tile, End Tile ]
- Resolution: 1.9665241404345482
- Scale: 7432.517319255183
-
Level ID: 3
[ Start Tile, End Tile ]
- Resolution: 0.9832620702172741
- Scale: 3716.2586596275914
-
Level ID: 4
[ Start Tile, End Tile ]
- Resolution: 0.49163103510863704
- Scale: 1858.1293298137957
- Format: LERC2D
- Compression Quality: 100000.0
- LERC Error: 0.1
- Origin: X: 1423302.6463281766
Y: 1512075.0263485897
- Spatial Reference: 102100
(3857)
LatestVCSWkid(0)
Storage Info:
- Storage Format: esriMapCacheStorageModeCompactV2
- Packet Size: 16
Extent:
XMin: 1423302.6463281766
YMin: 1510326.2947567082
XMax: 1427124.5859951111
YMax: 1512075.0263485897
Spatial Reference: 102100
(3857)
LatestVCSWkid(0)
Initial Extent:
XMin: 1423302.6463281766
YMin: 1510326.2947567082
XMax: 1427124.5859951111
YMax: 1512075.0263485897
Spatial Reference: 102100
(3857)
LatestVCSWkid(0)
Full Extent:
XMin: 1423302.6463281766
YMin: 1510326.2947567082
XMax: 1427124.5859951111
YMax: 1512075.0263485897
Spatial Reference: 102100
(3857)
LatestVCSWkid(0)
Pixel Size X: 0.49163103510863704
Pixel Size Y: 0.49163103510865497
Band Count: 3
Pixel Type: U8
RasterFunction Infos: {"rasterFunctionInfos": [{
"name": "None",
"description": "",
"help": ""
}]}
Mensuration Capabilities: Basic
Inspection Capabilities:
Has Histograms: true
Has Colormap: false
Has Multi Dimensions : false
Rendering Rule:
Min Scale: 0
Max Scale: 0
Copyright Text:
Service Data Type: esriImageServiceDataTypeRGB
Min Values: 1, 1, 1
Max Values: 255, 255, 255
Mean Values: 207.4159626759868, 197.74019964763554, 190.28199955605544
Standard Deviation Values: 23.644725421471556, 23.467736990668783, 22.408314999772482
Object ID Field:
Fields:
None
Default Mosaic Method: Center
Allowed Mosaic Methods:
SortField:
SortValue: null
Mosaic Operator: First
Default Compression Quality: 75
Default Resampling Method: Bilinear
Max Record Count: null
Max Image Height: 4100
Max Image Width: 15000
Max Download Image Count: null
Max Mosaic Image Count: null
Allow Raster Function: true
Allow Copy: true
Allow Analysis: true
Allow Compute TiePoints: false
Supports Statistics: false
Supports Advanced Queries: false
Use StandardizedQueries: true
Raster Type Infos:
Name: Raster Dataset
Description: Supports all ArcGIS Raster Datasets
Help:
Has Raster Attribute Table: false
Edit Fields Info: null
Ownership Based AccessControl For Rasters: null
Child Resources:
Info
Histograms
Statistics
Key Properties
Legend
Raster Function Infos
Supported Operations:
Export Image
Identify
Compute Histograms
Compute Statistics Histograms
Get Samples
Compute Class Statistics
Query Boundary
Compute Pixel Location
Compute Angles
Validate
Project