View In:
ArcGIS JavaScript
ArcGIS Online Map Viewer
ArcGIS Earth
Service Description: Hosted/20190915_NGA_om57_WV02_Damasak_Clip
Name: Hosted/20190915_NGA_om57_WV02_Damasak_Clip
Description:
Single Fused Map Cache: true
Tile Info:
- Height: 256
- Width: 256
- DPI: 96
-
Levels of Detail: 7
-
Level ID: 0
[ Start Tile, End Tile ]
- Resolution: 32.06001333927028
- Scale: 121171.4616160388
-
Level ID: 1
[ Start Tile, End Tile ]
- Resolution: 16.03000666963514
- Scale: 60585.7308080194
-
Level ID: 3
[ Start Tile, End Tile ]
- Resolution: 4.007501667408785
- Scale: 15146.43270200485
-
Level ID: 4
[ Start Tile, End Tile ]
- Resolution: 2.0037508337043923
- Scale: 7573.216351002425
-
Level ID: 5
[ Start Tile, End Tile ]
- Resolution: 1.0018754168521962
- Scale: 3786.6081755012124
-
Level ID: 6
[ Start Tile, End Tile ]
- Resolution: 0.5009377084260981
- Scale: 1893.3040877506062
- Format: LERC2D
- Compression Quality: 100000.0
- LERC Error: 0.1
- Origin: X: 1384355.3839000016
Y: 1474766.4627000007
- Spatial Reference: 102100
(3857)
LatestVCSWkid(0)
Storage Info:
- Storage Format: esriMapCacheStorageModeCompactV2
- Packet Size: 16
Extent:
XMin: 1384355.3839000016
YMin: 1467772.3704149555
XMax: 1399055.4009537655
YMax: 1474766.4627000007
Spatial Reference: 102100
(3857)
LatestVCSWkid(0)
Initial Extent:
XMin: 1384355.3839000016
YMin: 1467772.3704149555
XMax: 1399055.4009537655
YMax: 1474766.4627000007
Spatial Reference: 102100
(3857)
LatestVCSWkid(0)
Full Extent:
XMin: 1384355.3839000016
YMin: 1467772.3704149555
XMax: 1399055.4009537655
YMax: 1474766.4627000007
Spatial Reference: 102100
(3857)
LatestVCSWkid(0)
Pixel Size X: 0.5009377084260981
Pixel Size Y: 0.5009377084260986
Band Count: 3
Pixel Type: U8
RasterFunction Infos: {"rasterFunctionInfos": [{
"name": "None",
"description": "",
"help": ""
}]}
Mensuration Capabilities: Basic
Inspection Capabilities:
Has Histograms: true
Has Colormap: false
Has Multi Dimensions : false
Rendering Rule:
Min Scale: 0
Max Scale: 0
Copyright Text:
Service Data Type: esriImageServiceDataTypeRGB
Min Values: 1, 1, 1
Max Values: 255, 255, 255
Mean Values: 94.54985093460219, 95.35459665214343, 82.83370058531888
Standard Deviation Values: 29.13096160186142, 27.19414932967859, 25.946038575490967
Object ID Field:
Fields:
None
Default Mosaic Method: Center
Allowed Mosaic Methods:
SortField:
SortValue: null
Mosaic Operator: First
Default Compression Quality: 75
Default Resampling Method: Bilinear
Max Record Count: null
Max Image Height: 4100
Max Image Width: 15000
Max Download Image Count: null
Max Mosaic Image Count: null
Allow Raster Function: true
Allow Copy: true
Allow Analysis: true
Allow Compute TiePoints: false
Supports Statistics: false
Supports Advanced Queries: false
Use StandardizedQueries: true
Raster Type Infos:
Name: Raster Dataset
Description: Supports all ArcGIS Raster Datasets
Help:
Has Raster Attribute Table: false
Edit Fields Info: null
Ownership Based AccessControl For Rasters: null
Child Resources:
Info
Histograms
Statistics
Key Properties
Legend
Raster Function Infos
Supported Operations:
Export Image
Identify
Compute Histograms
Compute Statistics Histograms
Get Samples
Compute Class Statistics
Query Boundary
Compute Pixel Location
Compute Angles
Validate
Project