View In:
ArcGIS JavaScript
ArcGIS Online Map Viewer
ArcGIS Earth
Service Description: Hosted/20200202_MLI_0m49_GE01_Bandiagara
Name: Hosted/20200202_MLI_0m49_GE01_Bandiagara
Description:
Single Fused Map Cache: true
Tile Info:
- Height: 256
- Width: 256
- DPI: 96
-
Levels of Detail: 7
-
Level ID: 0
[ Start Tile, End Tile ]
- Resolution: 31.286638779509705
- Scale: 118248.4769999325
-
Level ID: 1
[ Start Tile, End Tile ]
- Resolution: 15.643319389754852
- Scale: 59124.23849996625
-
Level ID: 2
[ Start Tile, End Tile ]
- Resolution: 7.821659694877426
- Scale: 29562.119249983127
-
Level ID: 3
[ Start Tile, End Tile ]
- Resolution: 3.910829847438713
- Scale: 14781.059624991563
-
Level ID: 4
[ Start Tile, End Tile ]
- Resolution: 1.9554149237193565
- Scale: 7390.529812495782
-
Level ID: 5
[ Start Tile, End Tile ]
- Resolution: 0.9777074618596783
- Scale: 3695.264906247891
-
Level ID: 6
[ Start Tile, End Tile ]
- Resolution: 0.48885373092983914
- Scale: 1847.6324531239454
- Format: LERC2D
- Compression Quality: 100000.0
- LERC Error: 0.1
- Origin: X: -409616.40740000084
Y: 1618343.6801000002
- Spatial Reference: 102100
(3857)
LatestVCSWkid(0)
Storage Info:
- Storage Format: esriMapCacheStorageModeCompactV2
- Packet Size: 16
Extent:
XMin: -409616.40740000084
YMin: 1611349.649771587
XMax: -394328.9735263629
YMax: 1618343.6801000002
Spatial Reference: 102100
(3857)
LatestVCSWkid(0)
Initial Extent:
XMin: -409616.40740000084
YMin: 1611349.649771587
XMax: -394328.9735263629
YMax: 1618343.6801000002
Spatial Reference: 102100
(3857)
LatestVCSWkid(0)
Full Extent:
XMin: -409616.40740000084
YMin: 1611349.649771587
XMax: -394328.9735263629
YMax: 1618343.6801000002
Spatial Reference: 102100
(3857)
LatestVCSWkid(0)
Pixel Size X: 0.48885373092983914
Pixel Size Y: 0.48885373092984125
Band Count: 3
Pixel Type: U8
RasterFunction Infos: {"rasterFunctionInfos": [{
"name": "None",
"description": "",
"help": ""
}]}
Mensuration Capabilities: Basic
Inspection Capabilities:
Has Histograms: true
Has Colormap: false
Has Multi Dimensions : false
Rendering Rule:
Min Scale: 0
Max Scale: 0
Copyright Text:
Service Data Type: esriImageServiceDataTypeRGB
Min Values: 1, 1, 1
Max Values: 255, 255, 255
Mean Values: 188.38844244230066, 165.25947398845162, 145.01524422745428
Standard Deviation Values: 31.42952337333289, 27.472823229264, 23.847252114466873
Object ID Field:
Fields:
None
Default Mosaic Method: Center
Allowed Mosaic Methods:
SortField:
SortValue: null
Mosaic Operator: First
Default Compression Quality: 75
Default Resampling Method: Bilinear
Max Record Count: null
Max Image Height: 4100
Max Image Width: 15000
Max Download Image Count: null
Max Mosaic Image Count: null
Allow Raster Function: true
Allow Copy: true
Allow Analysis: true
Allow Compute TiePoints: false
Supports Statistics: false
Supports Advanced Queries: false
Use StandardizedQueries: true
Raster Type Infos:
Name: Raster Dataset
Description: Supports all ArcGIS Raster Datasets
Help:
Has Raster Attribute Table: false
Edit Fields Info: null
Ownership Based AccessControl For Rasters: null
Child Resources:
Info
Histograms
Statistics
Key Properties
Legend
Raster Function Infos
Supported Operations:
Export Image
Identify
Compute Histograms
Compute Statistics Histograms
Get Samples
Compute Class Statistics
Query Boundary
Compute Pixel Location
Compute Angles
Validate
Project