View In:
ArcGIS JavaScript
ArcGIS Online Map Viewer
ArcGIS Earth
Service Description: Hosted/20201110_MLI_0m41_GE01_Dandoli
Name: Hosted/20201110_MLI_0m41_GE01_Dandoli
Description:
Single Fused Map Cache: true
Tile Info:
- Height: 256
- Width: 256
- DPI: 96
-
Levels of Detail: 6
-
Level ID: 0
[ Start Tile, End Tile ]
- Resolution: 13.518970504910618
- Scale: 51095.21940271978
-
Level ID: 1
[ Start Tile, End Tile ]
- Resolution: 6.759485252455309
- Scale: 25547.60970135989
-
Level ID: 2
[ Start Tile, End Tile ]
- Resolution: 3.3797426262276544
- Scale: 12773.804850679944
-
Level ID: 3
[ Start Tile, End Tile ]
- Resolution: 1.6898713131138272
- Scale: 6386.902425339972
-
Level ID: 4
[ Start Tile, End Tile ]
- Resolution: 0.8449356565569136
- Scale: 3193.451212669986
-
Level ID: 5
[ Start Tile, End Tile ]
- Resolution: 0.4224678282784568
- Scale: 1596.725606334993
- Format: LERC2D
- Compression Quality: 100000.0
- LERC Error: 0.1
- Origin: X: -396454.99318439676
Y: 1620787.6689208075
- Spatial Reference: 102100
(3857)
LatestVCSWkid(0)
Storage Info:
- Storage Format: esriMapCacheStorageModeCompactV2
- Packet Size: 16
Extent:
XMin: -396454.99318439676
YMin: 1619038.6521117347
XMax: -392632.92674196156
YMax: 1620787.6689208075
Spatial Reference: 102100
(3857)
LatestVCSWkid(0)
Initial Extent:
XMin: -396454.99318439676
YMin: 1619038.6521117347
XMax: -392632.92674196156
YMax: 1620787.6689208075
Spatial Reference: 102100
(3857)
LatestVCSWkid(0)
Full Extent:
XMin: -396454.99318439676
YMin: 1619038.6521117347
XMax: -392632.92674196156
YMax: 1620787.6689208075
Spatial Reference: 102100
(3857)
LatestVCSWkid(0)
Pixel Size X: 0.4224678282784569
Pixel Size Y: 0.4224678282784568
Band Count: 3
Pixel Type: U8
RasterFunction Infos: {"rasterFunctionInfos": [{
"name": "None",
"description": "",
"help": ""
}]}
Mensuration Capabilities: Basic
Inspection Capabilities:
Has Histograms: true
Has Colormap: false
Has Multi Dimensions : false
Rendering Rule:
Min Scale: 0
Max Scale: 0
Copyright Text:
Service Data Type: esriImageServiceDataTypeRGB
Min Values: 1, 1, 1
Max Values: 255, 255, 255
Mean Values: 191.5411444565149, 171.74225117248247, 147.86089146082085
Standard Deviation Values: 33.949632215684126, 30.371797460817604, 25.89055265671556
Object ID Field:
Fields:
None
Default Mosaic Method: Center
Allowed Mosaic Methods:
SortField:
SortValue: null
Mosaic Operator: First
Default Compression Quality: 75
Default Resampling Method: Bilinear
Max Record Count: null
Max Image Height: 4100
Max Image Width: 15000
Max Download Image Count: null
Max Mosaic Image Count: null
Allow Raster Function: true
Allow Copy: true
Allow Analysis: true
Allow Compute TiePoints: false
Supports Statistics: false
Supports Advanced Queries: false
Use StandardizedQueries: true
Raster Type Infos:
Name: Raster Dataset
Description: Supports all ArcGIS Raster Datasets
Help:
Has Raster Attribute Table: false
Edit Fields Info: null
Ownership Based AccessControl For Rasters: null
Child Resources:
Info
Histograms
Statistics
Key Properties
Legend
Raster Function Infos
Supported Operations:
Export Image
Identify
Compute Histograms
Compute Statistics Histograms
Get Samples
Compute Class Statistics
Query Boundary
Compute Pixel Location
Compute Angles
Validate
Project