View In:
ArcGIS JavaScript
ArcGIS Online Map Viewer
ArcGIS Earth
Service Description: Hosted/20201208_BFA_0m50_WV02_Goulgountou
Name: Hosted/20201208_BFA_0m50_WV02_Goulgountou
Description:
Single Fused Map Cache: true
Tile Info:
- Height: 256
- Width: 256
- DPI: 96
-
Levels of Detail: 9
-
Level ID: 0
[ Start Tile, End Tile ]
- Resolution: 128.24005335707866
- Scale: 484685.8464641459
-
Level ID: 1
[ Start Tile, End Tile ]
- Resolution: 64.12002667853933
- Scale: 242342.92323207296
-
Level ID: 2
[ Start Tile, End Tile ]
- Resolution: 32.060013339269666
- Scale: 121171.46161603648
-
Level ID: 3
[ Start Tile, End Tile ]
- Resolution: 16.030006669634833
- Scale: 60585.73080801824
-
Level ID: 4
[ Start Tile, End Tile ]
- Resolution: 8.015003334817417
- Scale: 30292.86540400912
-
Level ID: 5
[ Start Tile, End Tile ]
- Resolution: 4.007501667408708
- Scale: 15146.43270200456
-
Level ID: 6
[ Start Tile, End Tile ]
- Resolution: 2.003750833704354
- Scale: 7573.21635100228
-
Level ID: 7
[ Start Tile, End Tile ]
- Resolution: 1.001875416852177
- Scale: 3786.60817550114
-
Level ID: 8
[ Start Tile, End Tile ]
- Resolution: 0.5009377084260885
- Scale: 1893.30408775057
- Format: LERC2D
- Compression Quality: 100000.0
- LERC Error: 0.1
- Origin: X: 679.2714999988675
Y: 1634176.7600999996
- Spatial Reference: 102100
(3857)
LatestVCSWkid(0)
Storage Info:
- Storage Format: esriMapCacheStorageModeCompactV2
- Packet Size: 16
Extent:
XMin: 679.2714999988675
YMin: 1571935.7507657665
XMax: 20038.00924212506
YMax: 1634176.7600999996
Spatial Reference: 102100
(3857)
LatestVCSWkid(0)
Initial Extent:
XMin: 679.2714999988675
YMin: 1571935.7507657665
XMax: 20038.00924212506
YMax: 1634176.7600999996
Spatial Reference: 102100
(3857)
LatestVCSWkid(0)
Full Extent:
XMin: 679.2714999988675
YMin: 1571935.7507657665
XMax: 20038.00924212506
YMax: 1634176.7600999996
Spatial Reference: 102100
(3857)
LatestVCSWkid(0)
Pixel Size X: 0.5009377084260885
Pixel Size Y: 0.500937708426089
Band Count: 3
Pixel Type: U8
RasterFunction Infos: {"rasterFunctionInfos": [{
"name": "None",
"description": "",
"help": ""
}]}
Mensuration Capabilities: Basic
Inspection Capabilities:
Has Histograms: true
Has Colormap: false
Has Multi Dimensions : false
Rendering Rule:
Min Scale: 0
Max Scale: 0
Copyright Text:
Service Data Type: esriImageServiceDataTypeRGB
Min Values: 1, 1, 1
Max Values: 255, 255, 255
Mean Values: 141.92607738193007, 126.02962357911052, 97.74054215315907
Standard Deviation Values: 24.15219754125951, 20.255953480287715, 15.567600599614968
Object ID Field:
Fields:
None
Default Mosaic Method: Center
Allowed Mosaic Methods:
SortField:
SortValue: null
Mosaic Operator: First
Default Compression Quality: 75
Default Resampling Method: Bilinear
Max Record Count: null
Max Image Height: 4100
Max Image Width: 15000
Max Download Image Count: null
Max Mosaic Image Count: null
Allow Raster Function: true
Allow Copy: true
Allow Analysis: true
Allow Compute TiePoints: false
Supports Statistics: false
Supports Advanced Queries: false
Use StandardizedQueries: true
Raster Type Infos:
Name: Raster Dataset
Description: Supports all ArcGIS Raster Datasets
Help:
Has Raster Attribute Table: false
Edit Fields Info: null
Ownership Based AccessControl For Rasters: null
Child Resources:
Info
Histograms
Statistics
Key Properties
Legend
Raster Function Infos
Supported Operations:
Export Image
Identify
Compute Histograms
Compute Statistics Histograms
Get Samples
Compute Class Statistics
Query Boundary
Compute Pixel Location
Compute Angles
Validate
Project