View In:
ArcGIS JavaScript
ArcGIS Online Map Viewer
ArcGIS Earth
Service Description: Hosted/20201215_NER_0m41_GE01_Gorouol2
Name: Hosted/20201215_NER_0m41_GE01_Gorouol2
Description:
Single Fused Map Cache: true
Tile Info:
- Height: 256
- Width: 256
- DPI: 96
-
Levels of Detail: 9
-
Level ID: 0
[ Start Tile, End Tile ]
- Resolution: 104.95277126866142
- Scale: 396671.09806533117
-
Level ID: 1
[ Start Tile, End Tile ]
- Resolution: 52.47638563433071
- Scale: 198335.54903266559
-
Level ID: 2
[ Start Tile, End Tile ]
- Resolution: 26.238192817165356
- Scale: 99167.77451633279
-
Level ID: 3
[ Start Tile, End Tile ]
- Resolution: 13.119096408582678
- Scale: 49583.887258166396
-
Level ID: 4
[ Start Tile, End Tile ]
- Resolution: 6.559548204291339
- Scale: 24791.943629083198
-
Level ID: 5
[ Start Tile, End Tile ]
- Resolution: 3.2797741021456694
- Scale: 12395.971814541599
-
Level ID: 6
[ Start Tile, End Tile ]
- Resolution: 1.6398870510728347
- Scale: 6197.9859072707995
-
Level ID: 7
[ Start Tile, End Tile ]
- Resolution: 0.8199435255364174
- Scale: 3098.9929536353998
-
Level ID: 8
[ Start Tile, End Tile ]
- Resolution: 0.4099717627682087
- Scale: 1549.4964768176999
- Format: LERC2D
- Compression Quality: 100000.0
- LERC Error: 0.1
- Origin: X: 102702.84629999846
Y: 1807656.6045000004
- Spatial Reference: 102100
(3857)
LatestVCSWkid(0)
Storage Info:
- Storage Format: esriMapCacheStorageModeCompactV2
- Packet Size: 16
Extent:
XMin: 102702.84629999846
YMin: 1628315.276820573
XMax: 120927.7310420964
YMax: 1807656.6045000004
Spatial Reference: 102100
(3857)
LatestVCSWkid(0)
Initial Extent:
XMin: 102702.84629999846
YMin: 1628315.276820573
XMax: 120927.7310420964
YMax: 1807656.6045000004
Spatial Reference: 102100
(3857)
LatestVCSWkid(0)
Full Extent:
XMin: 102702.84629999846
YMin: 1628315.276820573
XMax: 120927.7310420964
YMax: 1807656.6045000004
Spatial Reference: 102100
(3857)
LatestVCSWkid(0)
Pixel Size X: 0.40997176276820857
Pixel Size Y: 0.4099717627682087
Band Count: 3
Pixel Type: U8
RasterFunction Infos: {"rasterFunctionInfos": [{
"name": "None",
"description": "",
"help": ""
}]}
Mensuration Capabilities: Basic
Inspection Capabilities:
Has Histograms: true
Has Colormap: false
Has Multi Dimensions : false
Rendering Rule:
Min Scale: 0
Max Scale: 0
Copyright Text:
Service Data Type: esriImageServiceDataTypeRGB
Min Values: 1, 1, 1
Max Values: 255, 255, 255
Mean Values: 186.18307229385695, 164.36328562442318, 150.63334360099714
Standard Deviation Values: 28.23203098031849, 24.291734401900946, 23.827177646642834
Object ID Field:
Fields:
None
Default Mosaic Method: Center
Allowed Mosaic Methods:
SortField:
SortValue: null
Mosaic Operator: First
Default Compression Quality: 75
Default Resampling Method: Bilinear
Max Record Count: null
Max Image Height: 4100
Max Image Width: 15000
Max Download Image Count: null
Max Mosaic Image Count: null
Allow Raster Function: true
Allow Copy: true
Allow Analysis: true
Allow Compute TiePoints: false
Supports Statistics: false
Supports Advanced Queries: false
Use StandardizedQueries: true
Raster Type Infos:
Name: Raster Dataset
Description: Supports all ArcGIS Raster Datasets
Help:
Has Raster Attribute Table: false
Edit Fields Info: null
Ownership Based AccessControl For Rasters: null
Child Resources:
Info
Histograms
Statistics
Key Properties
Legend
Raster Function Infos
Supported Operations:
Export Image
Identify
Compute Histograms
Compute Statistics Histograms
Get Samples
Compute Class Statistics
Query Boundary
Compute Pixel Location
Compute Angles
Validate
Project