View In:
ArcGIS JavaScript
ArcGIS Online Map Viewer
ArcGIS Earth
Service Description: Hosted/20210319_NER_0m35_WV03_VNIIR_Boula_Clip
Name: Hosted/20210319_NER_0m35_WV03_VNIIR_Boula_Clip
Description:
Single Fused Map Cache: true
Tile Info:
- Height: 256
- Width: 256
- DPI: 96
-
Levels of Detail: 6
-
Level ID: 0
[ Start Tile, End Tile ]
- Resolution: 11.492088478443637
- Scale: 43434.57824604729
-
Level ID: 1
[ Start Tile, End Tile ]
- Resolution: 5.746044239221819
- Scale: 21717.289123023646
-
Level ID: 2
[ Start Tile, End Tile ]
- Resolution: 2.8730221196109094
- Scale: 10858.644561511823
-
Level ID: 3
[ Start Tile, End Tile ]
- Resolution: 1.4365110598054547
- Scale: 5429.322280755911
-
Level ID: 4
[ Start Tile, End Tile ]
- Resolution: 0.7182555299027273
- Scale: 2714.6611403779557
-
Level ID: 5
[ Start Tile, End Tile ]
- Resolution: 0.35912776495136367
- Scale: 1357.3305701889778
- Format: LERC2D
- Compression Quality: 100000.0
- LERC Error: 0.1
- Origin: X: 1423302.7126108746
Y: 1512075.0421506872
- Spatial Reference: 102100
(3857)
LatestVCSWkid(0)
Storage Info:
- Storage Format: esriMapCacheStorageModeCompactV2
- Packet Size: 16
Extent:
XMin: 1423302.7126108746
YMin: 1510326.089935374
XMax: 1427124.550285487
YMax: 1512075.0421506872
Spatial Reference: 102100
(3857)
LatestVCSWkid(0)
Initial Extent:
XMin: 1423302.7126108746
YMin: 1510326.089935374
XMax: 1427124.550285487
YMax: 1512075.0421506872
Spatial Reference: 102100
(3857)
LatestVCSWkid(0)
Full Extent:
XMin: 1423302.7126108746
YMin: 1510326.089935374
XMax: 1427124.550285487
YMax: 1512075.0421506872
Spatial Reference: 102100
(3857)
LatestVCSWkid(0)
Pixel Size X: 0.35912776495136367
Pixel Size Y: 0.35912776495137844
Band Count: 3
Pixel Type: U8
RasterFunction Infos: {"rasterFunctionInfos": [{
"name": "None",
"description": "",
"help": ""
}]}
Mensuration Capabilities: Basic
Inspection Capabilities:
Has Histograms: true
Has Colormap: false
Has Multi Dimensions : false
Rendering Rule:
Min Scale: 0
Max Scale: 0
Copyright Text:
Service Data Type: esriImageServiceDataTypeRGB
Min Values: 2, 1, 1
Max Values: 255, 255, 255
Mean Values: 143.08480779393147, 142.8967801735289, 144.37334445115627
Standard Deviation Values: 33.521310652690765, 33.04318738401534, 31.27834708430525
Object ID Field:
Fields:
None
Default Mosaic Method: Center
Allowed Mosaic Methods:
SortField:
SortValue: null
Mosaic Operator: First
Default Compression Quality: 75
Default Resampling Method: Bilinear
Max Record Count: null
Max Image Height: 4100
Max Image Width: 15000
Max Download Image Count: null
Max Mosaic Image Count: null
Allow Raster Function: true
Allow Copy: true
Allow Analysis: true
Allow Compute TiePoints: false
Supports Statistics: false
Supports Advanced Queries: false
Use StandardizedQueries: true
Raster Type Infos:
Name: Raster Dataset
Description: Supports all ArcGIS Raster Datasets
Help:
Has Raster Attribute Table: false
Edit Fields Info: null
Ownership Based AccessControl For Rasters: null
Child Resources:
Info
Histograms
Statistics
Key Properties
Legend
Raster Function Infos
Supported Operations:
Export Image
Identify
Compute Histograms
Compute Statistics Histograms
Get Samples
Compute Class Statistics
Query Boundary
Compute Pixel Location
Compute Angles
Validate
Project