View In:
ArcGIS JavaScript
ArcGIS Online Map Viewer
ArcGIS Earth
Service Description: Hosted/20210524_NGA_0m44_GE01_Damasak_Clip
Name: Hosted/20210524_NGA_0m44_GE01_Damasak_Clip
Description:
Single Fused Map Cache: true
Tile Info:
- Height: 256
- Width: 256
- DPI: 96
-
Levels of Detail: 7
-
Level ID: 0
[ Start Tile, End Tile ]
- Resolution: 28.129441725789427
- Scale: 106315.78759145565
-
Level ID: 1
[ Start Tile, End Tile ]
- Resolution: 14.064720862894713
- Scale: 53157.893795727825
-
Level ID: 2
[ Start Tile, End Tile ]
- Resolution: 7.032360431447357
- Scale: 26578.946897863912
-
Level ID: 3
[ Start Tile, End Tile ]
- Resolution: 3.5161802157236783
- Scale: 13289.473448931956
-
Level ID: 4
[ Start Tile, End Tile ]
- Resolution: 1.7580901078618392
- Scale: 6644.736724465978
-
Level ID: 5
[ Start Tile, End Tile ]
- Resolution: 0.8790450539309196
- Scale: 3322.368362232989
-
Level ID: 6
[ Start Tile, End Tile ]
- Resolution: 0.4395225269654598
- Scale: 1661.1841811164945
- Format: LERC2D
- Compression Quality: 100000.0
- LERC Error: 0.1
- Origin: X: 1383768.1107
Y: 1474766.4146000007
- Spatial Reference: 102100
(3857)
LatestVCSWkid(0)
Storage Info:
- Storage Format: esriMapCacheStorageModeCompactV2
- Packet Size: 16
Extent:
XMin: 1383768.1107
YMin: 1467772.7321509263
XMax: 1399055.5832329127
YMax: 1474766.4146000007
Spatial Reference: 102100
(3857)
LatestVCSWkid(0)
Initial Extent:
XMin: 1383768.1107
YMin: 1467772.7321509263
XMax: 1399055.5832329127
YMax: 1474766.4146000007
Spatial Reference: 102100
(3857)
LatestVCSWkid(0)
Full Extent:
XMin: 1383768.1107
YMin: 1467772.7321509263
XMax: 1399055.5832329127
YMax: 1474766.4146000007
Spatial Reference: 102100
(3857)
LatestVCSWkid(0)
Pixel Size X: 0.4395225269654598
Pixel Size Y: 0.43952252696546396
Band Count: 3
Pixel Type: U8
RasterFunction Infos: {"rasterFunctionInfos": [{
"name": "None",
"description": "",
"help": ""
}]}
Mensuration Capabilities: Basic
Inspection Capabilities:
Has Histograms: true
Has Colormap: false
Has Multi Dimensions : false
Rendering Rule:
Min Scale: 0
Max Scale: 0
Copyright Text:
Service Data Type: esriImageServiceDataTypeRGB
Min Values: 1, 1, 1
Max Values: 255, 255, 255
Mean Values: 165.18864183150833, 148.49150527248702, 130.05212927686114
Standard Deviation Values: 43.67059296292461, 37.28647639107514, 34.57692696465345
Object ID Field:
Fields:
None
Default Mosaic Method: Center
Allowed Mosaic Methods:
SortField:
SortValue: null
Mosaic Operator: First
Default Compression Quality: 75
Default Resampling Method: Bilinear
Max Record Count: null
Max Image Height: 4100
Max Image Width: 15000
Max Download Image Count: null
Max Mosaic Image Count: null
Allow Raster Function: true
Allow Copy: true
Allow Analysis: true
Allow Compute TiePoints: false
Supports Statistics: false
Supports Advanced Queries: false
Use StandardizedQueries: true
Raster Type Infos:
Name: Raster Dataset
Description: Supports all ArcGIS Raster Datasets
Help:
Has Raster Attribute Table: false
Edit Fields Info: null
Ownership Based AccessControl For Rasters: null
Child Resources:
Info
Histograms
Statistics
Key Properties
Legend
Raster Function Infos
Supported Operations:
Export Image
Identify
Compute Histograms
Compute Statistics Histograms
Get Samples
Compute Class Statistics
Query Boundary
Compute Pixel Location
Compute Angles
Validate
Project