View In:
ArcGIS JavaScript
ArcGIS Online Map Viewer
ArcGIS Earth
Service Description: Hosted/20210623_MLI_0m55_WV02_Bandiagara
Name: Hosted/20210623_MLI_0m55_WV02_Bandiagara
Description:
Single Fused Map Cache: true
Tile Info:
- Height: 256
- Width: 256
- DPI: 96
-
Levels of Detail: 7
-
Level ID: 0
[ Start Tile, End Tile ]
- Resolution: 32.06001333927002
- Scale: 121171.46161603782
-
Level ID: 1
[ Start Tile, End Tile ]
- Resolution: 16.03000666963501
- Scale: 60585.73080801891
-
Level ID: 2
[ Start Tile, End Tile ]
- Resolution: 8.015003334817505
- Scale: 30292.865404009455
-
Level ID: 3
[ Start Tile, End Tile ]
- Resolution: 4.007501667408753
- Scale: 15146.432702004728
-
Level ID: 4
[ Start Tile, End Tile ]
- Resolution: 2.0037508337043763
- Scale: 7573.216351002364
-
Level ID: 5
[ Start Tile, End Tile ]
- Resolution: 1.0018754168521882
- Scale: 3786.608175501182
-
Level ID: 6
[ Start Tile, End Tile ]
- Resolution: 0.5009377084260941
- Scale: 1893.304087750591
- Format: LERC2D
- Compression Quality: 100000.0
- LERC Error: 0.1
- Origin: X: -409616.2633999996
Y: 1618343.9801000005
- Spatial Reference: 102100
(3857)
LatestVCSWkid(0)
Storage Info:
- Storage Format: esriMapCacheStorageModeCompactV2
- Packet Size: 16
Extent:
XMin: -409616.2633999996
YMin: 1611349.8878149553
XMax: -394329.1473519605
YMax: 1618343.9801000005
Spatial Reference: 102100
(3857)
LatestVCSWkid(0)
Initial Extent:
XMin: -409616.2633999996
YMin: 1611349.8878149553
XMax: -394329.1473519605
YMax: 1618343.9801000005
Spatial Reference: 102100
(3857)
LatestVCSWkid(0)
Full Extent:
XMin: -409616.2633999996
YMin: 1611349.8878149553
XMax: -394329.1473519605
YMax: 1618343.9801000005
Spatial Reference: 102100
(3857)
LatestVCSWkid(0)
Pixel Size X: 0.5009377084260941
Pixel Size Y: 0.5009377084260986
Band Count: 3
Pixel Type: U8
RasterFunction Infos: {"rasterFunctionInfos": [{
"name": "None",
"description": "",
"help": ""
}]}
Mensuration Capabilities: Basic
Inspection Capabilities:
Has Histograms: true
Has Colormap: false
Has Multi Dimensions : false
Rendering Rule:
Min Scale: 0
Max Scale: 0
Copyright Text:
Service Data Type: esriImageServiceDataTypeRGB
Min Values: 1, 1, 1
Max Values: 255, 255, 255
Mean Values: 170.03003976587843, 151.8950889206632, 123.48748561631933
Standard Deviation Values: 32.147362857478335, 28.68050902774814, 22.552427329572623
Object ID Field:
Fields:
None
Default Mosaic Method: Center
Allowed Mosaic Methods:
SortField:
SortValue: null
Mosaic Operator: First
Default Compression Quality: 75
Default Resampling Method: Bilinear
Max Record Count: null
Max Image Height: 4100
Max Image Width: 15000
Max Download Image Count: null
Max Mosaic Image Count: null
Allow Raster Function: true
Allow Copy: true
Allow Analysis: true
Allow Compute TiePoints: false
Supports Statistics: false
Supports Advanced Queries: false
Use StandardizedQueries: true
Raster Type Infos:
Name: Raster Dataset
Description: Supports all ArcGIS Raster Datasets
Help:
Has Raster Attribute Table: false
Edit Fields Info: null
Ownership Based AccessControl For Rasters: null
Child Resources:
Info
Histograms
Statistics
Key Properties
Legend
Raster Function Infos
Supported Operations:
Export Image
Identify
Compute Histograms
Compute Statistics Histograms
Get Samples
Compute Class Statistics
Query Boundary
Compute Pixel Location
Compute Angles
Validate
Project