View In:
ArcGIS JavaScript
ArcGIS Online Map Viewer
ArcGIS Earth
Service Description: Hosted/20210823_NER_0m38_WV03_VNIIR_GarinDogo_Clip
Name: Hosted/20210823_NER_0m38_WV03_VNIIR_GarinDogo_Clip
Description:
Single Fused Map Cache: true
Tile Info:
- Height: 256
- Width: 256
- DPI: 96
-
Levels of Detail: 7
-
Level ID: 0
[ Start Tile, End Tile ]
- Resolution: 24.648195619864296
- Scale: 93158.3483091895
-
Level ID: 1
[ Start Tile, End Tile ]
- Resolution: 12.324097809932148
- Scale: 46579.17415459475
-
Level ID: 2
[ Start Tile, End Tile ]
- Resolution: 6.162048904966074
- Scale: 23289.587077297376
-
Level ID: 3
[ Start Tile, End Tile ]
- Resolution: 3.081024452483037
- Scale: 11644.793538648688
-
Level ID: 4
[ Start Tile, End Tile ]
- Resolution: 1.5405122262415185
- Scale: 5822.396769324344
-
Level ID: 5
[ Start Tile, End Tile ]
- Resolution: 0.7702561131207593
- Scale: 2911.198384662172
-
Level ID: 6
[ Start Tile, End Tile ]
- Resolution: 0.38512805656037963
- Scale: 1455.599192331086
- Format: LERC2D
- Compression Quality: 100000.0
- LERC Error: 0.1
- Origin: X: 1417715.6860000007
Y: 1508671.1340999994
- Spatial Reference: 102100
(3857)
LatestVCSWkid(0)
Storage Info:
- Storage Format: esriMapCacheStorageModeCompactV2
- Packet Size: 16
Extent:
XMin: 1417715.6860000007
YMin: 1505173.7862183747
XMax: 1425341.9917760093
YMax: 1508671.1340999994
Spatial Reference: 102100
(3857)
LatestVCSWkid(0)
Initial Extent:
XMin: 1417715.6860000007
YMin: 1505173.7862183747
XMax: 1425341.9917760093
YMax: 1508671.1340999994
Spatial Reference: 102100
(3857)
LatestVCSWkid(0)
Full Extent:
XMin: 1417715.6860000007
YMin: 1505173.7862183747
XMax: 1425341.9917760093
YMax: 1508671.1340999994
Spatial Reference: 102100
(3857)
LatestVCSWkid(0)
Pixel Size X: 0.38512805656037963
Pixel Size Y: 0.3851280565603687
Band Count: 3
Pixel Type: U8
RasterFunction Infos: {"rasterFunctionInfos": [{
"name": "None",
"description": "",
"help": ""
}]}
Mensuration Capabilities: Basic
Inspection Capabilities:
Has Histograms: true
Has Colormap: false
Has Multi Dimensions : false
Rendering Rule:
Min Scale: 0
Max Scale: 0
Copyright Text:
Service Data Type: esriImageServiceDataTypeRGB
Min Values: 1, 1, 1
Max Values: 255, 255, 255
Mean Values: 138.22525964180073, 132.78919854658236, 121.69599202631863
Standard Deviation Values: 32.44955822087624, 28.734374649715786, 28.27101402194067
Object ID Field:
Fields:
None
Default Mosaic Method: Center
Allowed Mosaic Methods:
SortField:
SortValue: null
Mosaic Operator: First
Default Compression Quality: 75
Default Resampling Method: Bilinear
Max Record Count: null
Max Image Height: 4100
Max Image Width: 15000
Max Download Image Count: null
Max Mosaic Image Count: null
Allow Raster Function: true
Allow Copy: true
Allow Analysis: true
Allow Compute TiePoints: false
Supports Statistics: false
Supports Advanced Queries: false
Use StandardizedQueries: true
Raster Type Infos:
Name: Raster Dataset
Description: Supports all ArcGIS Raster Datasets
Help:
Has Raster Attribute Table: false
Edit Fields Info: null
Ownership Based AccessControl For Rasters: null
Child Resources:
Info
Histograms
Statistics
Key Properties
Legend
Raster Function Infos
Supported Operations:
Export Image
Identify
Compute Histograms
Compute Statistics Histograms
Get Samples
Compute Class Statistics
Query Boundary
Compute Pixel Location
Compute Angles
Validate
Project