View In:
ArcGIS JavaScript
ArcGIS Online Map Viewer
ArcGIS Earth
Service Description: Hosted/20210823_UNDP_0m38_WV03_GarinDogo_Niger
Name: Hosted/20210823_UNDP_0m38_WV03_GarinDogo_Niger
Description:
Single Fused Map Cache: true
Tile Info:
- Height: 256
- Width: 256
- DPI: 96
-
Levels of Detail: 9
-
Level ID: 0
[ Start Tile, End Tile ]
- Resolution: 97.26693633222267
- Scale: 367622.3312063622
-
Level ID: 1
[ Start Tile, End Tile ]
- Resolution: 48.633468166111335
- Scale: 183811.1656031811
-
Level ID: 2
[ Start Tile, End Tile ]
- Resolution: 24.316734083055668
- Scale: 91905.58280159056
-
Level ID: 3
[ Start Tile, End Tile ]
- Resolution: 12.158367041527834
- Scale: 45952.79140079528
-
Level ID: 4
[ Start Tile, End Tile ]
- Resolution: 6.079183520763917
- Scale: 22976.39570039764
-
Level ID: 5
[ Start Tile, End Tile ]
- Resolution: 3.0395917603819584
- Scale: 11488.19785019882
-
Level ID: 6
[ Start Tile, End Tile ]
- Resolution: 1.5197958801909792
- Scale: 5744.09892509941
-
Level ID: 7
[ Start Tile, End Tile ]
- Resolution: 0.7598979400954896
- Scale: 2872.049462549705
-
Level ID: 8
[ Start Tile, End Tile ]
- Resolution: 0.3799489700477448
- Scale: 1436.0247312748525
- Format: LERC2D
- Compression Quality: 100000.0
- LERC Error: 0.1
- Origin: X: 1407943.0834
Y: 1577724.4730999996
- Spatial Reference: 102100
(3857)
LatestVCSWkid(0)
Storage Info:
- Storage Format: esriMapCacheStorageModeCompactV2
- Packet Size: 16
Extent:
XMin: 1407943.0834
YMin: 1399321.3339589313
XMax: 1425475.8286228532
YMax: 1577724.4730999996
Spatial Reference: 102100
(3857)
LatestVCSWkid(0)
Initial Extent:
XMin: 1407943.0834
YMin: 1399321.3339589313
XMax: 1425475.8286228532
YMax: 1577724.4730999996
Spatial Reference: 102100
(3857)
LatestVCSWkid(0)
Full Extent:
XMin: 1407943.0834
YMin: 1399321.3339589313
XMax: 1425475.8286228532
YMax: 1577724.4730999996
Spatial Reference: 102100
(3857)
LatestVCSWkid(0)
Pixel Size X: 0.3799489700477465
Pixel Size Y: 0.3799489700477448
Band Count: 3
Pixel Type: U8
RasterFunction Infos: {"rasterFunctionInfos": [{
"name": "None",
"description": "",
"help": ""
}]}
Mensuration Capabilities: Basic
Inspection Capabilities:
Has Histograms: true
Has Colormap: false
Has Multi Dimensions : false
Rendering Rule:
Min Scale: 0
Max Scale: 0
Copyright Text:
Service Data Type: esriImageServiceDataTypeRGB
Min Values: 1, 1, 1
Max Values: 255, 255, 255
Mean Values: 142.70351808244638, 138.13103270708964, 127.1363001848757
Standard Deviation Values: 37.932265321863476, 31.169400919549194, 31.966854270812924
Object ID Field:
Fields:
None
Default Mosaic Method: Center
Allowed Mosaic Methods:
SortField:
SortValue: null
Mosaic Operator: First
Default Compression Quality: 75
Default Resampling Method: Bilinear
Max Record Count: null
Max Image Height: 4100
Max Image Width: 15000
Max Download Image Count: null
Max Mosaic Image Count: null
Allow Raster Function: true
Allow Copy: true
Allow Analysis: true
Allow Compute TiePoints: false
Supports Statistics: false
Supports Advanced Queries: false
Use StandardizedQueries: true
Raster Type Infos:
Name: Raster Dataset
Description: Supports all ArcGIS Raster Datasets
Help:
Has Raster Attribute Table: false
Edit Fields Info: null
Ownership Based AccessControl For Rasters: null
Child Resources:
Info
Histograms
Statistics
Key Properties
Legend
Raster Function Infos
Supported Operations:
Export Image
Identify
Compute Histograms
Compute Statistics Histograms
Get Samples
Compute Class Statistics
Query Boundary
Compute Pixel Location
Compute Angles
Validate
Project