View In:
ArcGIS JavaScript
ArcGIS Online Map Viewer
ArcGIS Earth
Service Description: Hosted/20210827_CMR_0m50_WV02_Amchida
Name: Hosted/20210827_CMR_0m50_WV02_Amchida
Description:
Single Fused Map Cache: true
Tile Info:
- Height: 256
- Width: 256
- DPI: 96
-
Levels of Detail: 15
-
Level ID: 0
[ Start Tile, End Tile ]
- Resolution: 8207.363414852814
- Scale: 3.101989417370451E7
-
Level ID: 1
[ Start Tile, End Tile ]
- Resolution: 4103.681707426407
- Scale: 1.5509947086852254E7
-
Level ID: 2
[ Start Tile, End Tile ]
- Resolution: 2051.8408537132036
- Scale: 7754973.543426127
-
Level ID: 3
[ Start Tile, End Tile ]
- Resolution: 1025.9204268566018
- Scale: 3877486.7717130636
-
Level ID: 4
[ Start Tile, End Tile ]
- Resolution: 512.9602134283009
- Scale: 1938743.3858565318
-
Level ID: 5
[ Start Tile, End Tile ]
- Resolution: 256.48010671415045
- Scale: 969371.6929282659
-
Level ID: 6
[ Start Tile, End Tile ]
- Resolution: 128.24005335707523
- Scale: 484685.84646413295
-
Level ID: 7
[ Start Tile, End Tile ]
- Resolution: 64.12002667853761
- Scale: 242342.92323206647
-
Level ID: 8
[ Start Tile, End Tile ]
- Resolution: 32.06001333926881
- Scale: 121171.46161603324
-
Level ID: 9
[ Start Tile, End Tile ]
- Resolution: 16.030006669634403
- Scale: 60585.73080801662
-
Level ID: 10
[ Start Tile, End Tile ]
- Resolution: 8.015003334817202
- Scale: 30292.86540400831
-
Level ID: 11
[ Start Tile, End Tile ]
- Resolution: 4.007501667408601
- Scale: 15146.432702004155
-
Level ID: 12
[ Start Tile, End Tile ]
- Resolution: 2.0037508337043004
- Scale: 7573.216351002077
-
Level ID: 13
[ Start Tile, End Tile ]
- Resolution: 1.0018754168521502
- Scale: 3786.6081755010387
-
Level ID: 14
[ Start Tile, End Tile ]
- Resolution: 0.5009377084260751
- Scale: 1893.3040877505193
- Format: LERC2D
- Compression Quality: 100000.0
- LERC Error: 0.1
- Origin: X: -0.5
Y: 1349912.909473043
- Spatial Reference: 102100
(3857)
LatestVCSWkid(0)
Storage Info:
- Storage Format: esriMapCacheStorageModeCompactV2
- Packet Size: 16
Extent:
XMin: -0.5
YMin: -869.6287995360326
XMax: 1585848.5607646399
YMax: 1349912.909473043
Spatial Reference: 102100
(3857)
LatestVCSWkid(0)
Initial Extent:
XMin: -0.5
YMin: -869.6287995360326
XMax: 1585848.5607646399
YMax: 1349912.909473043
Spatial Reference: 102100
(3857)
LatestVCSWkid(0)
Full Extent:
XMin: -0.5
YMin: -869.6287995360326
XMax: 1585848.5607646399
YMax: 1349912.909473043
Spatial Reference: 102100
(3857)
LatestVCSWkid(0)
Pixel Size X: 0.5009377084260751
Pixel Size Y: 0.5009377084260751
Band Count: 3
Pixel Type: U8
RasterFunction Infos: {"rasterFunctionInfos": [{
"name": "None",
"description": "",
"help": ""
}]}
Mensuration Capabilities: Basic
Inspection Capabilities:
Has Histograms: true
Has Colormap: false
Has Multi Dimensions : false
Rendering Rule:
Min Scale: 0
Max Scale: 0
Copyright Text:
Service Data Type: esriImageServiceDataTypeRGB
Min Values: 1, 1, 1
Max Values: 255, 255, 255
Mean Values: 111.74547087814808, 126.02555446647787, 89.51459209036221
Standard Deviation Values: 33.037944959916516, 27.566693299635965, 27.30483381365219
Object ID Field:
Fields:
None
Default Mosaic Method: Center
Allowed Mosaic Methods:
SortField:
SortValue: null
Mosaic Operator: First
Default Compression Quality: 75
Default Resampling Method: Bilinear
Max Record Count: null
Max Image Height: 4100
Max Image Width: 15000
Max Download Image Count: null
Max Mosaic Image Count: null
Allow Raster Function: true
Allow Copy: true
Allow Analysis: true
Allow Compute TiePoints: false
Supports Statistics: false
Supports Advanced Queries: false
Use StandardizedQueries: true
Raster Type Infos:
Name: Raster Dataset
Description: Supports all ArcGIS Raster Datasets
Help:
Has Raster Attribute Table: false
Edit Fields Info: null
Ownership Based AccessControl For Rasters: null
Child Resources:
Info
Histograms
Statistics
Key Properties
Legend
Raster Function Infos
Supported Operations:
Export Image
Identify
Compute Histograms
Compute Statistics Histograms
Get Samples
Compute Class Statistics
Query Boundary
Compute Pixel Location
Compute Angles
Validate
Project