View In:
ArcGIS JavaScript
ArcGIS Online Map Viewer
ArcGIS Earth
Service Description: Hosted/20210917_NER_0m50_WV02_NGuigmi2
Name: Hosted/20210917_NER_0m50_WV02_NGuigmi2
Description:
Single Fused Map Cache: true
Tile Info:
- Height: 256
- Width: 256
- DPI: 96
-
Levels of Detail: 9
-
Level ID: 0
[ Start Tile, End Tile ]
- Resolution: 128.24005340239563
- Scale: 484685.8466354223
-
Level ID: 1
[ Start Tile, End Tile ]
- Resolution: 64.12002670119782
- Scale: 242342.92331771116
-
Level ID: 2
[ Start Tile, End Tile ]
- Resolution: 32.06001335059891
- Scale: 121171.46165885558
-
Level ID: 3
[ Start Tile, End Tile ]
- Resolution: 16.030006675299454
- Scale: 60585.73082942779
-
Level ID: 4
[ Start Tile, End Tile ]
- Resolution: 8.015003337649727
- Scale: 30292.865414713895
-
Level ID: 5
[ Start Tile, End Tile ]
- Resolution: 4.0075016688248635
- Scale: 15146.432707356948
-
Level ID: 6
[ Start Tile, End Tile ]
- Resolution: 2.0037508344124317
- Scale: 7573.216353678474
-
Level ID: 7
[ Start Tile, End Tile ]
- Resolution: 1.0018754172062159
- Scale: 3786.608176839237
-
Level ID: 8
[ Start Tile, End Tile ]
- Resolution: 0.5009377086031079
- Scale: 1893.3040884196184
- Format: LERC2D
- Compression Quality: 100000.0
- LERC Error: 0.1
- Origin: X: 1442182.1301999986
Y: 1614120.7655999989
- Spatial Reference: 102100
(3857)
LatestVCSWkid(0)
Storage Info:
- Storage Format: esriMapCacheStorageModeCompactV2
- Packet Size: 16
Extent:
XMin: 1442182.1301999986
YMin: 1586144.3964499326
XMax: 1462002.2315785892
YMax: 1614120.7655999989
Spatial Reference: 102100
(3857)
LatestVCSWkid(0)
Initial Extent:
XMin: 1442182.1301999986
YMin: 1586144.3964499326
XMax: 1462002.2315785892
YMax: 1614120.7655999989
Spatial Reference: 102100
(3857)
LatestVCSWkid(0)
Full Extent:
XMin: 1442182.1301999986
YMin: 1586144.3964499326
XMax: 1462002.2315785892
YMax: 1614120.7655999989
Spatial Reference: 102100
(3857)
LatestVCSWkid(0)
Pixel Size X: 0.5009377086031079
Pixel Size Y: 0.5009377086031064
Band Count: 3
Pixel Type: U8
RasterFunction Infos: {"rasterFunctionInfos": [{
"name": "None",
"description": "",
"help": ""
}]}
Mensuration Capabilities: Basic
Inspection Capabilities:
Has Histograms: true
Has Colormap: false
Has Multi Dimensions : false
Rendering Rule:
Min Scale: 0
Max Scale: 0
Copyright Text:
Service Data Type: esriImageServiceDataTypeRGB
Min Values: 0, 0, 0
Max Values: 255, 255, 255
Mean Values: 193.15764890674703, 192.83000447026998, 193.75748383318316
Standard Deviation Values: 47.215974518079186, 50.253456570257924, 48.99698135576913
Object ID Field:
Fields:
None
Default Mosaic Method: Center
Allowed Mosaic Methods:
SortField:
SortValue: null
Mosaic Operator: First
Default Compression Quality: 75
Default Resampling Method: Bilinear
Max Record Count: null
Max Image Height: 4100
Max Image Width: 15000
Max Download Image Count: null
Max Mosaic Image Count: null
Allow Raster Function: true
Allow Copy: true
Allow Analysis: true
Allow Compute TiePoints: false
Supports Statistics: false
Supports Advanced Queries: false
Use StandardizedQueries: true
Raster Type Infos:
Name: Raster Dataset
Description: Supports all ArcGIS Raster Datasets
Help:
Has Raster Attribute Table: false
Edit Fields Info: null
Ownership Based AccessControl For Rasters: null
Child Resources:
Info
Histograms
Statistics
Key Properties
Legend
Raster Function Infos
Supported Operations:
Export Image
Identify
Compute Histograms
Compute Statistics Histograms
Get Samples
Compute Class Statistics
Query Boundary
Compute Pixel Location
Compute Angles
Validate
Project