View In:
ArcGIS JavaScript
ArcGIS Online Map Viewer
ArcGIS Earth
Service Description: Hosted/20211009_NER_0m50_WV02_Bosso_Clip
Name: Hosted/20211009_NER_0m50_WV02_Bosso_Clip
Description:
Single Fused Map Cache: true
Tile Info:
- Height: 256
- Width: 256
- DPI: 96
-
Levels of Detail: 7
-
Level ID: 0
[ Start Tile, End Tile ]
- Resolution: 32.53855709963086
- Scale: 122980.12732919681
-
Level ID: 1
[ Start Tile, End Tile ]
- Resolution: 16.26927854981543
- Scale: 61490.063664598405
-
Level ID: 2
[ Start Tile, End Tile ]
- Resolution: 8.134639274907714
- Scale: 30745.031832299203
-
Level ID: 3
[ Start Tile, End Tile ]
- Resolution: 4.067319637453857
- Scale: 15372.515916149601
-
Level ID: 4
[ Start Tile, End Tile ]
- Resolution: 2.0336598187269286
- Scale: 7686.257958074801
-
Level ID: 5
[ Start Tile, End Tile ]
- Resolution: 1.0168299093634643
- Scale: 3843.1289790374003
-
Level ID: 6
[ Start Tile, End Tile ]
- Resolution: 0.5084149546817321
- Scale: 1921.5644895187002
- Format: LERC2D
- Compression Quality: 100000.0
- LERC Error: 0.1
- Origin: X: 1458882.8924184623
Y: 1563892.0112572708
- Spatial Reference: 102100
(3857)
LatestVCSWkid(0)
Storage Info:
- Storage Format: esriMapCacheStorageModeCompactV2
- Packet Size: 16
Extent:
XMin: 1458882.8924184623
YMin: 1556897.7467257143
XMax: 1467090.2350318895
YMax: 1563892.0112572708
Spatial Reference: 102100
(3857)
LatestVCSWkid(0)
Initial Extent:
XMin: 1458882.8924184623
YMin: 1556897.7467257143
XMax: 1467090.2350318895
YMax: 1563892.0112572708
Spatial Reference: 102100
(3857)
LatestVCSWkid(0)
Full Extent:
XMin: 1458882.8924184623
YMin: 1556897.7467257143
XMax: 1467090.2350318895
YMax: 1563892.0112572708
Spatial Reference: 102100
(3857)
LatestVCSWkid(0)
Pixel Size X: 0.5084149546817321
Pixel Size Y: 0.5084149546817269
Band Count: 3
Pixel Type: U8
RasterFunction Infos: {"rasterFunctionInfos": [{
"name": "None",
"description": "",
"help": ""
}]}
Mensuration Capabilities: Basic
Inspection Capabilities:
Has Histograms: true
Has Colormap: false
Has Multi Dimensions : false
Rendering Rule:
Min Scale: 0
Max Scale: 0
Copyright Text:
Service Data Type: esriImageServiceDataTypeRGB
Min Values: 1, 3, 5
Max Values: 255, 255, 255
Mean Values: 167.51020717923024, 155.88179786109163, 147.6426627324367
Standard Deviation Values: 25.303225744873146, 24.371753057558163, 23.16465598343733
Object ID Field:
Fields:
None
Default Mosaic Method: Center
Allowed Mosaic Methods:
SortField:
SortValue: null
Mosaic Operator: First
Default Compression Quality: 75
Default Resampling Method: Bilinear
Max Record Count: null
Max Image Height: 4100
Max Image Width: 15000
Max Download Image Count: null
Max Mosaic Image Count: null
Allow Raster Function: true
Allow Copy: true
Allow Analysis: true
Allow Compute TiePoints: false
Supports Statistics: false
Supports Advanced Queries: false
Use StandardizedQueries: true
Raster Type Infos:
Name: Raster Dataset
Description: Supports all ArcGIS Raster Datasets
Help:
Has Raster Attribute Table: false
Edit Fields Info: null
Ownership Based AccessControl For Rasters: null
Child Resources:
Info
Histograms
Statistics
Key Properties
Legend
Raster Function Infos
Supported Operations:
Export Image
Identify
Compute Histograms
Compute Statistics Histograms
Get Samples
Compute Class Statistics
Query Boundary
Compute Pixel Location
Compute Angles
Validate
Project