View In:
ArcGIS JavaScript
ArcGIS Online Map Viewer
ArcGIS Earth
Service Description: Hosted/20211031_CMR_0m37_WV03_VNIR_Mokolo
Name: Hosted/20211031_CMR_0m37_WV03_VNIR_Mokolo
Description:
Single Fused Map Cache: true
Tile Info:
- Height: 256
- Width: 256
- DPI: 96
-
Levels of Detail: 9
-
Level ID: 0
[ Start Tile, End Tile ]
- Resolution: 93.93776748071559
- Scale: 355039.6709487142
-
Level ID: 1
[ Start Tile, End Tile ]
- Resolution: 46.968883740357796
- Scale: 177519.8354743571
-
Level ID: 2
[ Start Tile, End Tile ]
- Resolution: 23.484441870178898
- Scale: 88759.91773717855
-
Level ID: 3
[ Start Tile, End Tile ]
- Resolution: 11.742220935089449
- Scale: 44379.958868589274
-
Level ID: 4
[ Start Tile, End Tile ]
- Resolution: 5.8711104675447245
- Scale: 22189.979434294637
-
Level ID: 5
[ Start Tile, End Tile ]
- Resolution: 2.9355552337723623
- Scale: 11094.989717147319
-
Level ID: 6
[ Start Tile, End Tile ]
- Resolution: 1.4677776168861811
- Scale: 5547.494858573659
-
Level ID: 7
[ Start Tile, End Tile ]
- Resolution: 0.7338888084430906
- Scale: 2773.7474292868296
-
Level ID: 8
[ Start Tile, End Tile ]
- Resolution: 0.3669444042215453
- Scale: 1386.8737146434148
- Format: LERC2D
- Compression Quality: 100000.0
- LERC Error: 0.1
- Origin: X: 1524935.8126000017
Y: 1234302.6417000003
- Spatial Reference: 102100
(3857)
LatestVCSWkid(0)
Storage Info:
- Storage Format: esriMapCacheStorageModeCompactV2
- Packet Size: 16
Extent:
XMin: 1524935.8126000017
YMin: 1172974.8564780492
XMax: 1541748.1043682203
YMax: 1234302.6417000003
Spatial Reference: 102100
(3857)
LatestVCSWkid(0)
Initial Extent:
XMin: 1524935.8126000017
YMin: 1172974.8564780492
XMax: 1541748.1043682203
YMax: 1234302.6417000003
Spatial Reference: 102100
(3857)
LatestVCSWkid(0)
Full Extent:
XMin: 1524935.8126000017
YMin: 1172974.8564780492
XMax: 1541748.1043682203
YMax: 1234302.6417000003
Spatial Reference: 102100
(3857)
LatestVCSWkid(0)
Pixel Size X: 0.3669444042215471
Pixel Size Y: 0.3669444042215453
Band Count: 3
Pixel Type: U8
RasterFunction Infos: {"rasterFunctionInfos": [{
"name": "None",
"description": "",
"help": ""
}]}
Mensuration Capabilities: Basic
Inspection Capabilities:
Has Histograms: true
Has Colormap: false
Has Multi Dimensions : false
Rendering Rule:
Min Scale: 0
Max Scale: 0
Copyright Text:
Service Data Type: esriImageServiceDataTypeRGB
Min Values: 1, 1, 1
Max Values: 255, 255, 255
Mean Values: 147.28919883586389, 145.44246113080933, 149.55328297799082
Standard Deviation Values: 21.386716107599312, 21.618577581802633, 21.945956127195664
Object ID Field:
Fields:
None
Default Mosaic Method: Center
Allowed Mosaic Methods:
SortField:
SortValue: null
Mosaic Operator: First
Default Compression Quality: 75
Default Resampling Method: Bilinear
Max Record Count: null
Max Image Height: 4100
Max Image Width: 15000
Max Download Image Count: null
Max Mosaic Image Count: null
Allow Raster Function: true
Allow Copy: true
Allow Analysis: true
Allow Compute TiePoints: false
Supports Statistics: false
Supports Advanced Queries: false
Use StandardizedQueries: true
Raster Type Infos:
Name: Raster Dataset
Description: Supports all ArcGIS Raster Datasets
Help:
Has Raster Attribute Table: false
Edit Fields Info: null
Ownership Based AccessControl For Rasters: null
Child Resources:
Info
Histograms
Statistics
Key Properties
Legend
Raster Function Infos
Supported Operations:
Export Image
Identify
Compute Histograms
Compute Statistics Histograms
Get Samples
Compute Class Statistics
Query Boundary
Compute Pixel Location
Compute Angles
Validate
Project