View In:
ArcGIS JavaScript
ArcGIS Online Map Viewer
ArcGIS Earth
Service Description: Hosted/20211105_MLI_0m35_WV03_VNIIR_Dourou2
Name: Hosted/20211105_MLI_0m35_WV03_VNIIR_Dourou2
Description:
Single Fused Map Cache: true
Tile Info:
- Height: 256
- Width: 256
- DPI: 96
-
Levels of Detail: 9
-
Level ID: 0
[ Start Tile, End Tile ]
- Resolution: 89.49328293374495
- Scale: 338241.6527137477
-
Level ID: 1
[ Start Tile, End Tile ]
- Resolution: 44.746641466872475
- Scale: 169120.82635687385
-
Level ID: 2
[ Start Tile, End Tile ]
- Resolution: 22.373320733436238
- Scale: 84560.41317843692
-
Level ID: 3
[ Start Tile, End Tile ]
- Resolution: 11.186660366718119
- Scale: 42280.20658921846
-
Level ID: 4
[ Start Tile, End Tile ]
- Resolution: 5.593330183359059
- Scale: 21140.10329460923
-
Level ID: 5
[ Start Tile, End Tile ]
- Resolution: 2.7966650916795297
- Scale: 10570.051647304615
-
Level ID: 6
[ Start Tile, End Tile ]
- Resolution: 1.3983325458397649
- Scale: 5285.025823652308
-
Level ID: 7
[ Start Tile, End Tile ]
- Resolution: 0.6991662729198824
- Scale: 2642.512911826154
-
Level ID: 8
[ Start Tile, End Tile ]
- Resolution: 0.3495831364599412
- Scale: 1321.256455913077
- Format: LERC2D
- Compression Quality: 100000.0
- LERC Error: 0.1
- Origin: X: -384916.20329999924
Y: 1692344.8961000005
- Spatial Reference: 102100
(3857)
LatestVCSWkid(0)
Storage Info:
- Storage Format: esriMapCacheStorageModeCompactV2
- Packet Size: 16
Extent:
XMin: -384916.20329999924
YMin: 1577962.6921828536
XMax: -369425.8249403228
YMax: 1692344.8961000005
Spatial Reference: 102100
(3857)
LatestVCSWkid(0)
Initial Extent:
XMin: -384916.20329999924
YMin: 1577962.6921828536
XMax: -369425.8249403228
YMax: 1692344.8961000005
Spatial Reference: 102100
(3857)
LatestVCSWkid(0)
Full Extent:
XMin: -384916.20329999924
YMin: 1577962.6921828536
XMax: -369425.8249403228
YMax: 1692344.8961000005
Spatial Reference: 102100
(3857)
LatestVCSWkid(0)
Pixel Size X: 0.3495831364599412
Pixel Size Y: 0.3495831364599411
Band Count: 1
Pixel Type: U8
RasterFunction Infos: {"rasterFunctionInfos": [{
"name": "None",
"description": "",
"help": ""
}]}
Mensuration Capabilities: Basic
Inspection Capabilities:
Has Histograms: true
Has Colormap: false
Has Multi Dimensions : false
Rendering Rule:
Min Scale: 0
Max Scale: 0
Copyright Text:
Service Data Type: esriImageServiceDataTypeGeneric
Min Values: 1
Max Values: 255
Mean Values: 153.50513098570408
Standard Deviation Values: 44.735568535858974
Object ID Field:
Fields:
None
Default Mosaic Method: Center
Allowed Mosaic Methods:
SortField:
SortValue: null
Mosaic Operator: First
Default Compression Quality: 75
Default Resampling Method: Bilinear
Max Record Count: null
Max Image Height: 4100
Max Image Width: 15000
Max Download Image Count: null
Max Mosaic Image Count: null
Allow Raster Function: true
Allow Copy: true
Allow Analysis: true
Allow Compute TiePoints: false
Supports Statistics: false
Supports Advanced Queries: false
Use StandardizedQueries: true
Raster Type Infos:
Name: Raster Dataset
Description: Supports all ArcGIS Raster Datasets
Help:
Has Raster Attribute Table: false
Edit Fields Info: null
Ownership Based AccessControl For Rasters: null
Child Resources:
Info
Histograms
Statistics
Key Properties
Legend
Raster Function Infos
Supported Operations:
Export Image
Identify
Compute Histograms
Compute Statistics Histograms
Get Samples
Compute Class Statistics
Query Boundary
Compute Pixel Location
Compute Angles
Validate
Project