View In:
ArcGIS JavaScript
ArcGIS Online Map Viewer
ArcGIS Earth
Service Description: Hosted/20211109_BFA_0m48_WV02_Goulgountou
Name: Hosted/20211109_BFA_0m48_WV02_Goulgountou
Description:
Single Fused Map Cache: true
Tile Info:
- Height: 256
- Width: 256
- DPI: 96
-
Levels of Detail: 8
-
Level ID: 0
[ Start Tile, End Tile ]
- Resolution: 61.479188513717986
- Scale: 232361.82257136737
-
Level ID: 1
[ Start Tile, End Tile ]
- Resolution: 30.739594256858993
- Scale: 116180.91128568369
-
Level ID: 2
[ Start Tile, End Tile ]
- Resolution: 15.369797128429497
- Scale: 58090.455642841844
-
Level ID: 3
[ Start Tile, End Tile ]
- Resolution: 7.684898564214748
- Scale: 29045.227821420922
-
Level ID: 4
[ Start Tile, End Tile ]
- Resolution: 3.842449282107374
- Scale: 14522.613910710461
-
Level ID: 5
[ Start Tile, End Tile ]
- Resolution: 1.921224641053687
- Scale: 7261.3069553552305
-
Level ID: 6
[ Start Tile, End Tile ]
- Resolution: 0.9606123205268435
- Scale: 3630.6534776776152
-
Level ID: 7
[ Start Tile, End Tile ]
- Resolution: 0.48030616026342177
- Scale: 1815.3267388388076
- Format: LERC2D
- Compression Quality: 100000.0
- LERC Error: 0.1
- Origin: X: 866.4723000004888
Y: 1619828.5229999996
- Spatial Reference: 102100
(3857)
LatestVCSWkid(0)
Storage Info:
- Storage Format: esriMapCacheStorageModeCompactV2
- Packet Size: 16
Extent:
XMin: 866.4723000004888
YMin: 1605112.4225556885
XMax: 18539.817773053357
YMax: 1619828.5229999996
Spatial Reference: 102100
(3857)
LatestVCSWkid(0)
Initial Extent:
XMin: 866.4723000004888
YMin: 1605112.4225556885
XMax: 18539.817773053357
YMax: 1619828.5229999996
Spatial Reference: 102100
(3857)
LatestVCSWkid(0)
Full Extent:
XMin: 866.4723000004888
YMin: 1605112.4225556885
XMax: 18539.817773053357
YMax: 1619828.5229999996
Spatial Reference: 102100
(3857)
LatestVCSWkid(0)
Pixel Size X: 0.48030616026342177
Pixel Size Y: 0.4803061602634238
Band Count: 3
Pixel Type: U8
RasterFunction Infos: {"rasterFunctionInfos": [{
"name": "None",
"description": "",
"help": ""
}]}
Mensuration Capabilities: Basic
Inspection Capabilities:
Has Histograms: true
Has Colormap: false
Has Multi Dimensions : false
Rendering Rule:
Min Scale: 0
Max Scale: 0
Copyright Text:
Service Data Type: esriImageServiceDataTypeRGB
Min Values: 1, 1, 1
Max Values: 255, 255, 255
Mean Values: 185.69289809863957, 147.39556570234626, 117.89639962259739
Standard Deviation Values: 38.44525238101147, 31.63174476353799, 26.85692300742724
Object ID Field:
Fields:
None
Default Mosaic Method: Center
Allowed Mosaic Methods:
SortField:
SortValue: null
Mosaic Operator: First
Default Compression Quality: 75
Default Resampling Method: Bilinear
Max Record Count: null
Max Image Height: 4100
Max Image Width: 15000
Max Download Image Count: null
Max Mosaic Image Count: null
Allow Raster Function: true
Allow Copy: true
Allow Analysis: true
Allow Compute TiePoints: false
Supports Statistics: false
Supports Advanced Queries: false
Use StandardizedQueries: true
Raster Type Infos:
Name: Raster Dataset
Description: Supports all ArcGIS Raster Datasets
Help:
Has Raster Attribute Table: false
Edit Fields Info: null
Ownership Based AccessControl For Rasters: null
Child Resources:
Info
Histograms
Statistics
Key Properties
Legend
Raster Function Infos
Supported Operations:
Export Image
Identify
Compute Histograms
Compute Statistics Histograms
Get Samples
Compute Class Statistics
Query Boundary
Compute Pixel Location
Compute Angles
Validate
Project